BEGIN:VCALENDAR
VERSION:2.0
PRODID:-//PROTEC17 - ECPv6.15.17.1//NONSGML v1.0//EN
CALSCALE:GREGORIAN
METHOD:PUBLISH
X-WR-CALNAME:PROTEC17
X-ORIGINAL-URL:https://www.protec17.org
X-WR-CALDESC:Events for PROTEC17
REFRESH-INTERVAL;VALUE=DURATION:PT1H
X-Robots-Tag:noindex
X-PUBLISHED-TTL:PT1H
BEGIN:VTIMEZONE
TZID:America/Los_Angeles
BEGIN:DAYLIGHT
TZOFFSETFROM:-0800
TZOFFSETTO:-0700
TZNAME:PDT
DTSTART:20250309T100000
END:DAYLIGHT
BEGIN:STANDARD
TZOFFSETFROM:-0700
TZOFFSETTO:-0800
TZNAME:PST
DTSTART:20251102T090000
END:STANDARD
BEGIN:DAYLIGHT
TZOFFSETFROM:-0800
TZOFFSETTO:-0700
TZNAME:PDT
DTSTART:20260308T100000
END:DAYLIGHT
BEGIN:STANDARD
TZOFFSETFROM:-0700
TZOFFSETTO:-0800
TZNAME:PST
DTSTART:20261101T090000
END:STANDARD
BEGIN:DAYLIGHT
TZOFFSETFROM:-0800
TZOFFSETTO:-0700
TZNAME:PDT
DTSTART:20270314T100000
END:DAYLIGHT
BEGIN:STANDARD
TZOFFSETFROM:-0700
TZOFFSETTO:-0800
TZNAME:PST
DTSTART:20271107T090000
END:STANDARD
END:VTIMEZONE
BEGIN:VEVENT
DTSTART;TZID=America/Los_Angeles:20260311T120000
DTEND;TZID=America/Los_Angeles:20260311T130000
DTSTAMP:20260422T031241
CREATED:20260212T210142Z
LAST-MODIFIED:20260212T210142Z
UID:11394-1773230400-1773234000@www.protec17.org
SUMMARY:WSDOT Chapter Meeting
DESCRIPTION:WSDOT Chapter members\, join your union siblings for our next chapter meeting! Detailed information on how to join this online meeting\, including how to get into the meeting\, can be found in your personal email or on the Member Portal events page HERE. Hope to see you there!
URL:https://www.protec17.org/event/wsdot-chapter-meeting-19/
LOCATION:ONLINE MEETING VIA ZOOM
ATTACH;FMTTYPE=image/png:https://www.protec17.org/wp-content/uploads/2025/02/WSDOT-Logo-WEB.png
ORGANIZER;CN="Sarah Lorenzini":MAILTO:sarah@protec17.org
END:VEVENT
BEGIN:VEVENT
DTSTART;TZID=America/Los_Angeles:20260311T173000
DTEND;TZID=America/Los_Angeles:20260311T183000
DTSTAMP:20260422T031241
CREATED:20260212T210509Z
LAST-MODIFIED:20260212T210509Z
UID:11396-1773250200-1773253800@www.protec17.org
SUMMARY:Tacoma Chapter Meeting
DESCRIPTION:PROTEC17 City of Tacoma members! Join your fellow union siblings for our next\, virtual chapter meeting online via Zoom! \n— \nMeeting Info: \n\nJoin us online via Zoom HERE\nMeeting ID: 818 8860 9987\nNo passcode\nOr join by phone at: 253-215-8782 with same ID and passcode
URL:https://www.protec17.org/event/tacoma-chapter-meeting-24/
LOCATION:ONLINE MEETING VIA ZOOM
ATTACH;FMTTYPE=image/png:https://www.protec17.org/wp-content/uploads/2025/09/City-of-Tacoma-200-x-200-px.png
ORGANIZER;CN="Brent Wagar":MAILTO:brent@protec17.org
END:VEVENT
END:VCALENDAR