BEGIN:VCALENDAR
VERSION:2.0
PRODID:-//PROTEC17 - ECPv6.15.17.1//NONSGML v1.0//EN
CALSCALE:GREGORIAN
METHOD:PUBLISH
X-ORIGINAL-URL:https://www.protec17.org
X-WR-CALDESC:Events for PROTEC17
REFRESH-INTERVAL;VALUE=DURATION:PT1H
X-Robots-Tag:noindex
X-PUBLISHED-TTL:PT1H
BEGIN:VTIMEZONE
TZID:America/Los_Angeles
BEGIN:DAYLIGHT
TZOFFSETFROM:-0800
TZOFFSETTO:-0700
TZNAME:PDT
DTSTART:20250309T100000
END:DAYLIGHT
BEGIN:STANDARD
TZOFFSETFROM:-0700
TZOFFSETTO:-0800
TZNAME:PST
DTSTART:20251102T090000
END:STANDARD
BEGIN:DAYLIGHT
TZOFFSETFROM:-0800
TZOFFSETTO:-0700
TZNAME:PDT
DTSTART:20260308T100000
END:DAYLIGHT
BEGIN:STANDARD
TZOFFSETFROM:-0700
TZOFFSETTO:-0800
TZNAME:PST
DTSTART:20261101T090000
END:STANDARD
BEGIN:DAYLIGHT
TZOFFSETFROM:-0800
TZOFFSETTO:-0700
TZNAME:PDT
DTSTART:20270314T100000
END:DAYLIGHT
BEGIN:STANDARD
TZOFFSETFROM:-0700
TZOFFSETTO:-0800
TZNAME:PST
DTSTART:20271107T090000
END:STANDARD
END:VTIMEZONE
BEGIN:VEVENT
DTSTART;TZID=America/Los_Angeles:20260106T120000
DTEND;TZID=America/Los_Angeles:20260106T130000
DTSTAMP:20260420T182817
CREATED:20251212T194932Z
LAST-MODIFIED:20251212T194932Z
UID:11187-1767700800-1767704400@www.protec17.org
SUMMARY:Portland Chapter Meeting
DESCRIPTION:Please join your fellow PROTEC17 Portland Chapter members for our next chapter meeting. Please note that first Tuesday meetings have a hybrid option. Check your personal email or the Member Portal events page HERE for more details\, including how to join. Hope to see you there!
URL:https://www.protec17.org/event/portland-chapter-meeting-39/
LOCATION:Hybrid
ATTACH;FMTTYPE=image/png:https://www.protec17.org/wp-content/uploads/2024/08/Protec_SponsorLogos-portland.png
ORGANIZER;CN="Rachel Whiteside":MAILTO:rachel@protec17.org
END:VEVENT
BEGIN:VEVENT
DTSTART;TZID=America/Los_Angeles:20260106T120000
DTEND;TZID=America/Los_Angeles:20260106T130000
DTSTAMP:20260420T182817
CREATED:20251217T225058Z
LAST-MODIFIED:20251217T225058Z
UID:11227-1767700800-1767704400@www.protec17.org
SUMMARY:PROTEC17 Presents: Union 101! (Virtual)
DESCRIPTION:Is it your first time being a union member? Been a member for awhile\, but not sure what PROTEC17 does? Join us for a quick training to learn more about your union\, what unions do\, and opportunity to ask your lingering questions! Open to all Bargaining Unit members\, you do not need to have signed a membership card to attend. PROTEC17 members\, please check your home email or the Member Portal Events page HERE for more info\, including how to join.
URL:https://www.protec17.org/event/protec17-presents-union-101-virtual-9/
LOCATION:ONLINE MEETING VIA ZOOM
ATTACH;FMTTYPE=image/png:https://www.protec17.org/wp-content/uploads/2023/11/Union-101-Training-FOR-WEB.png
END:VEVENT
BEGIN:VEVENT
DTSTART;TZID=America/Los_Angeles:20260108T120000
DTEND;TZID=America/Los_Angeles:20260108T130000
DTSTAMP:20260420T182817
CREATED:20251212T233221Z
LAST-MODIFIED:20251216T225714Z
UID:11193-1767873600-1767877200@www.protec17.org
SUMMARY:Seattle Chapter Meeting
DESCRIPTION:Join your fellow PROTEC17 Seattle members for our next chapter meeting! For full details\, including how to join\, please check your personal email or the Member Portal events page HERE.
URL:https://www.protec17.org/event/seattle-chapter-meeting-19/
LOCATION:ONLINE CHAPTER MEETING VIA ZOOM
ATTACH;FMTTYPE=image/png:https://www.protec17.org/wp-content/uploads/2025/02/Seattle-Logo-WEB.png
END:VEVENT
BEGIN:VEVENT
DTSTART;TZID=America/Los_Angeles:20260114T120000
DTEND;TZID=America/Los_Angeles:20260114T130000
DTSTAMP:20260420T182817
CREATED:20251217T000751Z
LAST-MODIFIED:20251217T001052Z
UID:11209-1768392000-1768395600@www.protec17.org
SUMMARY:WSDOT Chapter Meeting
DESCRIPTION:WSDOT Chapter members\, join your union siblings for our next chapter meeting! Detailed information on how to join this online meeting\, including how to get into the meeting\, can be found in your personal email or on the Member Portal events page HERE. Hope to see you there!
URL:https://www.protec17.org/event/wsdot-chapter-meeting-17/
LOCATION:ONLINE MEETING VIA ZOOM
ATTACH;FMTTYPE=image/png:https://www.protec17.org/wp-content/uploads/2025/02/WSDOT-Logo-WEB.png
ORGANIZER;CN="Sarah Lorenzini":MAILTO:sarah@protec17.org
END:VEVENT
BEGIN:VEVENT
DTSTART;TZID=America/Los_Angeles:20260114T173000
DTEND;TZID=America/Los_Angeles:20260114T183000
DTSTAMP:20260420T182817
CREATED:20251217T001445Z
LAST-MODIFIED:20251217T001445Z
UID:11212-1768411800-1768415400@www.protec17.org
SUMMARY:Tacoma Chapter Meeting
DESCRIPTION:PROTEC17 City of Tacoma members\, join your fellow union siblings for our next chapter meeting. Please check your home email or the events page in the Member Portal events page HERE for all the details\, including how to join the meeting. Hope to see you then!
URL:https://www.protec17.org/event/tacoma-chapter-meeting-22/
LOCATION:ONLINE MEETING VIA ZOOM
ATTACH;FMTTYPE=image/png:https://www.protec17.org/wp-content/uploads/2025/09/City-of-Tacoma-200-x-200-px.png
END:VEVENT
BEGIN:VEVENT
DTSTART;TZID=America/Los_Angeles:20260121T170000
DTEND;TZID=America/Los_Angeles:20260121T180000
DTSTAMP:20260420T182817
CREATED:20251212T202731Z
LAST-MODIFIED:20251212T203643Z
UID:11189-1769014800-1769018400@www.protec17.org
SUMMARY:Portland Chapter Meeting
DESCRIPTION:Join your fellow PROTEC17 Portland Chapter members at our next Portland Chapter meeting! You can find full details and links in your personal email or the Member Portal events page HERE.
URL:https://www.protec17.org/event/portland-chapter-meeting-40/
LOCATION:ONLINE CHAPTER MEETING VIA ZOOM
ATTACH;FMTTYPE=image/png:https://www.protec17.org/wp-content/uploads/2024/08/Protec_SponsorLogos-portland.png
ORGANIZER;CN="Rachel Whiteside":MAILTO:rachel@protec17.org
END:VEVENT
BEGIN:VEVENT
DTSTART;TZID=America/Los_Angeles:20260128T120000
DTEND;TZID=America/Los_Angeles:20260128T130000
DTSTAMP:20260420T182817
CREATED:20251217T002513Z
LAST-MODIFIED:20251217T002513Z
UID:11217-1769601600-1769605200@www.protec17.org
SUMMARY:King County Chapter Meeting
DESCRIPTION:PROTEC17 King County Chapter members\, join your union siblings for our next virtual chapter meeting on Zoom. For full details\, including how to join\, please check your email or the Member Portal events page HERE for full details\, including how to access the meeting.
URL:https://www.protec17.org/event/king-county-chapter-meeting-22/
LOCATION:ONLINE CHAPTER MEETING VIA ZOOM
ATTACH;FMTTYPE=image/png:https://www.protec17.org/wp-content/uploads/2024/11/King-County-WEB.png
END:VEVENT
END:VCALENDAR