BEGIN:VCALENDAR
VERSION:2.0
PRODID:-//PROTEC17 - ECPv6.15.17.1//NONSGML v1.0//EN
CALSCALE:GREGORIAN
METHOD:PUBLISH
X-ORIGINAL-URL:https://www.protec17.org
X-WR-CALDESC:Events for PROTEC17
REFRESH-INTERVAL;VALUE=DURATION:PT1H
X-Robots-Tag:noindex
X-PUBLISHED-TTL:PT1H
BEGIN:VTIMEZONE
TZID:America/Los_Angeles
BEGIN:DAYLIGHT
TZOFFSETFROM:-0800
TZOFFSETTO:-0700
TZNAME:PDT
DTSTART:20240310T100000
END:DAYLIGHT
BEGIN:STANDARD
TZOFFSETFROM:-0700
TZOFFSETTO:-0800
TZNAME:PST
DTSTART:20241103T090000
END:STANDARD
BEGIN:DAYLIGHT
TZOFFSETFROM:-0800
TZOFFSETTO:-0700
TZNAME:PDT
DTSTART:20250309T100000
END:DAYLIGHT
BEGIN:STANDARD
TZOFFSETFROM:-0700
TZOFFSETTO:-0800
TZNAME:PST
DTSTART:20251102T090000
END:STANDARD
BEGIN:DAYLIGHT
TZOFFSETFROM:-0800
TZOFFSETTO:-0700
TZNAME:PDT
DTSTART:20260308T100000
END:DAYLIGHT
BEGIN:STANDARD
TZOFFSETFROM:-0700
TZOFFSETTO:-0800
TZNAME:PST
DTSTART:20261101T090000
END:STANDARD
END:VTIMEZONE
BEGIN:VEVENT
DTSTART;TZID=America/Los_Angeles:20250204T120000
DTEND;TZID=America/Los_Angeles:20250204T130000
DTSTAMP:20260420T201349
CREATED:20250114T203132Z
LAST-MODIFIED:20250114T203207Z
UID:9915-1738670400-1738674000@www.protec17.org
SUMMARY:King County Prof. & Tech. 17D Member Meeting
DESCRIPTION:Join your fellow King County Professional and Technical (17D) bargaining unit members for a member meeting on Tues.\, Feb. 4 at 12 p.m. as we work to shape the direction of our collective efforts! We will gather virtually via Zoom. Please check your personal email or the Member Portal events page HERE for full details\, including how to join.
URL:https://www.protec17.org/event/king-county-prof-tech-17d-member-meeting/
LOCATION:ONLINE MEETING ONLY
ATTACH;FMTTYPE=image/png:https://www.protec17.org/wp-content/uploads/2025/01/KC-Prof.-Tech.-17D-Meeting-2.4.25-WEB.png
ORGANIZER;CN="Youssef El Hamawi":MAILTO:youssef@protec17.org
END:VEVENT
END:VCALENDAR