BEGIN:VCALENDAR
VERSION:2.0
PRODID:-//PROTEC17 - ECPv6.15.17.1//NONSGML v1.0//EN
CALSCALE:GREGORIAN
METHOD:PUBLISH
X-WR-CALNAME:PROTEC17
X-ORIGINAL-URL:https://www.protec17.org
X-WR-CALDESC:Events for PROTEC17
REFRESH-INTERVAL;VALUE=DURATION:PT1H
X-Robots-Tag:noindex
X-PUBLISHED-TTL:PT1H
BEGIN:VTIMEZONE
TZID:America/Los_Angeles
BEGIN:DAYLIGHT
TZOFFSETFROM:-0800
TZOFFSETTO:-0700
TZNAME:PDT
DTSTART:20240310T100000
END:DAYLIGHT
BEGIN:STANDARD
TZOFFSETFROM:-0700
TZOFFSETTO:-0800
TZNAME:PST
DTSTART:20241103T090000
END:STANDARD
BEGIN:DAYLIGHT
TZOFFSETFROM:-0800
TZOFFSETTO:-0700
TZNAME:PDT
DTSTART:20250309T100000
END:DAYLIGHT
BEGIN:STANDARD
TZOFFSETFROM:-0700
TZOFFSETTO:-0800
TZNAME:PST
DTSTART:20251102T090000
END:STANDARD
BEGIN:DAYLIGHT
TZOFFSETFROM:-0800
TZOFFSETTO:-0700
TZNAME:PDT
DTSTART:20260308T100000
END:DAYLIGHT
BEGIN:STANDARD
TZOFFSETFROM:-0700
TZOFFSETTO:-0800
TZNAME:PST
DTSTART:20261101T090000
END:STANDARD
END:VTIMEZONE
BEGIN:VEVENT
DTSTART;TZID=America/Los_Angeles:20251218T120000
DTEND;TZID=America/Los_Angeles:20251218T130000
DTSTAMP:20260421T213605
CREATED:20251203T003842Z
LAST-MODIFIED:20251203T003842Z
UID:11149-1766059200-1766062800@www.protec17.org
SUMMARY:Sound Transit CAT Meeting
DESCRIPTION:Join your Sound Transit (exempt) employees for our monthly Contract Action Team (CAT) meeting! We’ll typically meet online via Zoom on the last Thursdays of every month but we are bumping up December’s meeting to accommodate for the holidays. Join your union siblings as we strategize winning a strong union contract! More details\, including meeting link\, in your personal email and on the Member Portal events page HERE.
URL:https://www.protec17.org/event/sound-transit-cat-meeting-6/
LOCATION:ONLINE MEETING ONLY
ATTACH;FMTTYPE=image/png:https://www.protec17.org/wp-content/uploads/2025/05/Sound-Transit-WEB.png
ORGANIZER;CN="Abdallah El Hamawi":MAILTO:abdallah@protec17.org
END:VEVENT
BEGIN:VEVENT
DTSTART;TZID=America/Los_Angeles:20251218T173000
DTEND;TZID=America/Los_Angeles:20251218T183000
DTSTAMP:20260421T213605
CREATED:20251117T215511Z
LAST-MODIFIED:20251117T215511Z
UID:11113-1766079000-1766082600@www.protec17.org
SUMMARY:Snohomish County Chapter Meeting
DESCRIPTION:Join your fellow PROTEC17 Snohomish County union siblings for our next virtual chapter meeting! Chapter meetings typically take place every other month on the third Thursday at 5:30 p.m. Hope to see you there! Full details\, including how to join\, in your personal email or the Member Portal events page HERE.
URL:https://www.protec17.org/event/snohomish-county-chapter-meeting-6/
LOCATION:ONLINE CHAPTER MEETING VIA ZOOM
ATTACH;FMTTYPE=image/png:https://www.protec17.org/wp-content/uploads/2021/08/Snohomish-County-Logo.png
END:VEVENT
END:VCALENDAR