BEGIN:VCALENDAR
VERSION:2.0
PRODID:-//PROTEC17 - ECPv6.15.17.1//NONSGML v1.0//EN
CALSCALE:GREGORIAN
METHOD:PUBLISH
X-WR-CALNAME:PROTEC17
X-ORIGINAL-URL:https://www.protec17.org
X-WR-CALDESC:Events for PROTEC17
REFRESH-INTERVAL;VALUE=DURATION:PT1H
X-Robots-Tag:noindex
X-PUBLISHED-TTL:PT1H
BEGIN:VTIMEZONE
TZID:America/Los_Angeles
BEGIN:DAYLIGHT
TZOFFSETFROM:-0800
TZOFFSETTO:-0700
TZNAME:PDT
DTSTART:20230312T100000
END:DAYLIGHT
BEGIN:STANDARD
TZOFFSETFROM:-0700
TZOFFSETTO:-0800
TZNAME:PST
DTSTART:20231105T090000
END:STANDARD
BEGIN:DAYLIGHT
TZOFFSETFROM:-0800
TZOFFSETTO:-0700
TZNAME:PDT
DTSTART:20240310T100000
END:DAYLIGHT
BEGIN:STANDARD
TZOFFSETFROM:-0700
TZOFFSETTO:-0800
TZNAME:PST
DTSTART:20241103T090000
END:STANDARD
BEGIN:DAYLIGHT
TZOFFSETFROM:-0800
TZOFFSETTO:-0700
TZNAME:PDT
DTSTART:20250309T100000
END:DAYLIGHT
BEGIN:STANDARD
TZOFFSETFROM:-0700
TZOFFSETTO:-0800
TZNAME:PST
DTSTART:20251102T090000
END:STANDARD
END:VTIMEZONE
BEGIN:VEVENT
DTSTART;TZID=America/Los_Angeles:20241008T120000
DTEND;TZID=America/Los_Angeles:20241008T130000
DTSTAMP:20260422T203118
CREATED:20240914T003000Z
LAST-MODIFIED:20240914T003000Z
UID:9323-1728388800-1728392400@www.protec17.org
SUMMARY:King County Non-Coalition CAT Meeting
DESCRIPTION:PROTEC17 King County Transit non-coalition bargaining is starting up! If you are in the Transit Admin\, Chiefs\, or Superintendents units\, this is you! Join your fellow union siblings for your upcoming Contract Action Team (CAT) meeting. Your CAT activates the membership around our contract priorities and supports the bargaining team in sharing information about negotiations. Let’s get organized! \nPlease check your personal email address or the Member Portal events page for details\, including how to join.
URL:https://www.protec17.org/event/king-county-non-coalition-cat-meeting-2/
LOCATION:ONLINE MEETING VIA ZOOM
ATTACH;FMTTYPE=image/png:https://www.protec17.org/wp-content/uploads/2024/08/KC-Non-Coalition-CAT-WEB.png
END:VEVENT
END:VCALENDAR