BEGIN:VCALENDAR
VERSION:2.0
PRODID:-//PROTEC17 - ECPv6.15.17.1//NONSGML v1.0//EN
CALSCALE:GREGORIAN
METHOD:PUBLISH
X-ORIGINAL-URL:https://www.protec17.org
X-WR-CALDESC:Events for PROTEC17
REFRESH-INTERVAL;VALUE=DURATION:PT1H
X-Robots-Tag:noindex
X-PUBLISHED-TTL:PT1H
BEGIN:VTIMEZONE
TZID:America/Los_Angeles
BEGIN:DAYLIGHT
TZOFFSETFROM:-0800
TZOFFSETTO:-0700
TZNAME:PDT
DTSTART:20240310T100000
END:DAYLIGHT
BEGIN:STANDARD
TZOFFSETFROM:-0700
TZOFFSETTO:-0800
TZNAME:PST
DTSTART:20241103T090000
END:STANDARD
BEGIN:DAYLIGHT
TZOFFSETFROM:-0800
TZOFFSETTO:-0700
TZNAME:PDT
DTSTART:20250309T100000
END:DAYLIGHT
BEGIN:STANDARD
TZOFFSETFROM:-0700
TZOFFSETTO:-0800
TZNAME:PST
DTSTART:20251102T090000
END:STANDARD
BEGIN:DAYLIGHT
TZOFFSETFROM:-0800
TZOFFSETTO:-0700
TZNAME:PDT
DTSTART:20260308T100000
END:DAYLIGHT
BEGIN:STANDARD
TZOFFSETFROM:-0700
TZOFFSETTO:-0800
TZNAME:PST
DTSTART:20261101T090000
END:STANDARD
END:VTIMEZONE
BEGIN:VEVENT
DTSTART;TZID=America/Los_Angeles:20250910T120000
DTEND;TZID=America/Los_Angeles:20250910T130000
DTSTAMP:20260420T192320
CREATED:20250813T205203Z
LAST-MODIFIED:20250813T205203Z
UID:10799-1757505600-1757509200@www.protec17.org
SUMMARY:WSDOT Chapter Meeting
DESCRIPTION:Join your fellow WSDOT members for our next chapter meeting! Detailed information on how to join this online meeting\, including how to get into the meeting\, can be found in your personal email or under the “Events” section in the Member Portal HERE. Hope to see you all there!
URL:https://www.protec17.org/event/wsdot-chapter-meeting-13/
LOCATION:ONLINE CHAPTER MEETING VIA ZOOM
ATTACH;FMTTYPE=image/png:https://www.protec17.org/wp-content/uploads/2025/02/WSDOT-Logo-WEB.png
ORGANIZER;CN="Sarah Lorenzini":MAILTO:sarah@protec17.org
END:VEVENT
BEGIN:VEVENT
DTSTART;TZID=America/Los_Angeles:20250917T170000
DTEND;TZID=America/Los_Angeles:20250917T180000
DTSTAMP:20260420T192320
CREATED:20250813T203032Z
LAST-MODIFIED:20250813T203032Z
UID:10794-1758128400-1758132000@www.protec17.org
SUMMARY:Portland Chapter Meeting
DESCRIPTION:Join your fellow PROTEC17 members at the next Portland Chapter meeting! This meeting will be hybrid — feel free to join us in-person or online! You can find full details and links in your personal email or the Member Portal events page HERE.
URL:https://www.protec17.org/event/portland-chapter-meeting-32/
LOCATION:ONLINE MEETING VIA ZOOM
ATTACH;FMTTYPE=image/png:https://www.protec17.org/wp-content/uploads/2018/12/Portland.png
ORGANIZER;CN="Rachel Whiteside":MAILTO:rachel@protec17.org
END:VEVENT
BEGIN:VEVENT
DTSTART;TZID=America/Los_Angeles:20250925T120000
DTEND;TZID=America/Los_Angeles:20250925T130000
DTSTAMP:20260420T192320
CREATED:20250813T211048Z
LAST-MODIFIED:20250813T211048Z
UID:10811-1758801600-1758805200@www.protec17.org
SUMMARY:Sound Transit CAT Meeting
DESCRIPTION:Join your Sound Transit (exempt) employees for our monthly Contract Action Team (CAT) meeting! We’ll meet online via Zoom on the last Thursdays of every month\, from 12-1 p.m. unless stated otherwise. This is a space to join your union siblings as we strategize winning a strong union contract! More details\, including meeting link\, in your personal email and on the Member Portal events page HERE.
URL:https://www.protec17.org/event/sound-transit-cat-meeting-4/
LOCATION:ONLINE MEETING ONLY
ATTACH;FMTTYPE=image/png:https://www.protec17.org/wp-content/uploads/2025/05/Sound-Transit-WEB.png
ORGANIZER;CN="Abdallah El Hamawi":MAILTO:abdallah@protec17.org
END:VEVENT
END:VCALENDAR