BEGIN:VCALENDAR
VERSION:2.0
PRODID:-//PROTEC17 - ECPv6.15.17.1//NONSGML v1.0//EN
CALSCALE:GREGORIAN
METHOD:PUBLISH
X-WR-CALNAME:PROTEC17
X-ORIGINAL-URL:https://www.protec17.org
X-WR-CALDESC:Events for PROTEC17
REFRESH-INTERVAL;VALUE=DURATION:PT1H
X-Robots-Tag:noindex
X-PUBLISHED-TTL:PT1H
BEGIN:VTIMEZONE
TZID:America/Los_Angeles
BEGIN:DAYLIGHT
TZOFFSETFROM:-0800
TZOFFSETTO:-0700
TZNAME:PDT
DTSTART:20230312T100000
END:DAYLIGHT
BEGIN:STANDARD
TZOFFSETFROM:-0700
TZOFFSETTO:-0800
TZNAME:PST
DTSTART:20231105T090000
END:STANDARD
BEGIN:DAYLIGHT
TZOFFSETFROM:-0800
TZOFFSETTO:-0700
TZNAME:PDT
DTSTART:20240310T100000
END:DAYLIGHT
BEGIN:STANDARD
TZOFFSETFROM:-0700
TZOFFSETTO:-0800
TZNAME:PST
DTSTART:20241103T090000
END:STANDARD
BEGIN:DAYLIGHT
TZOFFSETFROM:-0800
TZOFFSETTO:-0700
TZNAME:PDT
DTSTART:20250309T100000
END:DAYLIGHT
BEGIN:STANDARD
TZOFFSETFROM:-0700
TZOFFSETTO:-0800
TZNAME:PST
DTSTART:20251102T090000
END:STANDARD
END:VTIMEZONE
BEGIN:VEVENT
DTSTART;TZID=America/Los_Angeles:20241107T120000
DTEND;TZID=America/Los_Angeles:20241107T130000
DTSTAMP:20260420T203417
CREATED:20241018T222848Z
LAST-MODIFIED:20241107T195449Z
UID:9582-1730980800-1730984400@www.protec17.org
SUMMARY:Future of Work Member Meeting (Seattle\, KC\, KCRHA\, & Sound Transit)
DESCRIPTION:If you are part of the PROTEC17 Future of Work Committee don’t forget to register via the link in your personal email and join us for our next meeting! \nPlease note that this committee is only for members of the Seattle\, King County\, KCRHA\, and Sound Transit chapters. \nFrom the 8-hour work day to the creation of weekends\, to protective labor laws\, unions have fought and won improvements in our workplaces – because members fought together. For many\, our work lives have evolved significantly over the last few years. What does the future of work look like for you? Join your fellow union members to brainstorm\, collaborate\, and strategize how we can evolve the Future of Work together. \nMeetings are every first Thursday at 12 p.m. on Zoom. Registration for the first Thursday meetings can be found HERE. \nInterested in joining? Contact PROTEC17 Internal Organizing Coordinator Brenna Stroup at brenna@protec17.org.
URL:https://www.protec17.org/event/future-of-work-member-meeting-seattle-kc-and-sound-transit-3/
LOCATION:ONLINE MEETING VIA ZOOM
ATTACH;FMTTYPE=image/png:https://www.protec17.org/wp-content/uploads/2024/09/Future-of-Work-Meeting-WEB.png
END:VEVENT
BEGIN:VEVENT
DTSTART;TZID=America/Los_Angeles:20241112T120000
DTEND;TZID=America/Los_Angeles:20241112T130000
DTSTAMP:20260420T203417
CREATED:20241008T220302Z
LAST-MODIFIED:20241008T221103Z
UID:9413-1731412800-1731416400@www.protec17.org
SUMMARY:King County Non-Coalition CAT Meeting
DESCRIPTION:Are you in the PROTEC17 King County Transit Admin\, Chiefs\, or Superintendents units? Join your upcoming Contract Action Team (CAT) meeting! We will gather virtually every second Tuesday at 12 p.m. to activate your union siblings around contract priorities and support the Bargaining Team in sharing information about negotiations. Let’s get organized! \nPlease check your personal email address or the Member Portal events page for details\, including how to join.
URL:https://www.protec17.org/event/king-county-non-coalition-cat-meeting-3/
LOCATION:ONLINE MEETING VIA ZOOM
ATTACH;FMTTYPE=image/png:https://www.protec17.org/wp-content/uploads/2024/08/KC-Non-Coalition-CAT-WEB.png
END:VEVENT
BEGIN:VEVENT
DTSTART;TZID=America/Los_Angeles:20241113T120000
DTEND;TZID=America/Los_Angeles:20241113T130000
DTSTAMP:20260420T203417
CREATED:20241008T212351Z
LAST-MODIFIED:20241018T222336Z
UID:9409-1731499200-1731502800@www.protec17.org
SUMMARY:WSDOT Chapter Meeting
DESCRIPTION:Join your fellow WSDOT members for our next chapter meeting! Detailed information on how to join this online meeting\, including how to get into the meeting\, can be found in your personal email or under the “Events” section in the Member Portal here. Hope to see you all there!
URL:https://www.protec17.org/event/wsdot-chapter-meeting-virtual-21/
LOCATION:ONLINE CHAPTER MEETING VIA ZOOM
ATTACH;FMTTYPE=image/png:https://www.protec17.org/wp-content/uploads/2018/12/wsdot-logo-e1544476767123.png
ORGANIZER;CN="Sarah Lorenzini":MAILTO:sarah@protec17.org
END:VEVENT
BEGIN:VEVENT
DTSTART;TZID=America/Los_Angeles:20241119T173000
DTEND;TZID=America/Los_Angeles:20241119T183000
DTSTAMP:20260420T203417
CREATED:20241113T221108Z
LAST-MODIFIED:20241113T221954Z
UID:9789-1732037400-1732041000@www.protec17.org
SUMMARY:Clark County Chapter Meeting
DESCRIPTION:Join your fellow union siblings for our upcoming chapter meeting on Tues.\, Nov. 19 at 5:30 p.m. We will gather virtually via Zoom. Please check your personal email or the Member Portal events page HERE for details\, including how to join!
URL:https://www.protec17.org/event/clark-county-chapter-meeting-4/
LOCATION:ONLINE CHAPTER MEETING VIA ZOOM
ATTACH;FMTTYPE=image/png:https://www.protec17.org/wp-content/uploads/2019/02/clarkco-copy_200.png
ORGANIZER;CN="Rachel Whiteside":MAILTO:rachel@protec17.org
END:VEVENT
END:VCALENDAR