BEGIN:VCALENDAR
VERSION:2.0
PRODID:-//PROTEC17 - ECPv6.15.17.1//NONSGML v1.0//EN
CALSCALE:GREGORIAN
METHOD:PUBLISH
X-ORIGINAL-URL:https://www.protec17.org
X-WR-CALDESC:Events for PROTEC17
REFRESH-INTERVAL;VALUE=DURATION:PT1H
X-Robots-Tag:noindex
X-PUBLISHED-TTL:PT1H
BEGIN:VTIMEZONE
TZID:America/Los_Angeles
BEGIN:DAYLIGHT
TZOFFSETFROM:-0800
TZOFFSETTO:-0700
TZNAME:PDT
DTSTART:20240310T100000
END:DAYLIGHT
BEGIN:STANDARD
TZOFFSETFROM:-0700
TZOFFSETTO:-0800
TZNAME:PST
DTSTART:20241103T090000
END:STANDARD
BEGIN:DAYLIGHT
TZOFFSETFROM:-0800
TZOFFSETTO:-0700
TZNAME:PDT
DTSTART:20250309T100000
END:DAYLIGHT
BEGIN:STANDARD
TZOFFSETFROM:-0700
TZOFFSETTO:-0800
TZNAME:PST
DTSTART:20251102T090000
END:STANDARD
BEGIN:DAYLIGHT
TZOFFSETFROM:-0800
TZOFFSETTO:-0700
TZNAME:PDT
DTSTART:20260308T100000
END:DAYLIGHT
BEGIN:STANDARD
TZOFFSETFROM:-0700
TZOFFSETTO:-0800
TZNAME:PST
DTSTART:20261101T090000
END:STANDARD
END:VTIMEZONE
BEGIN:VEVENT
DTSTART;TZID=America/Los_Angeles:20250828T120000
DTEND;TZID=America/Los_Angeles:20250828T130000
DTSTAMP:20260420T193745
CREATED:20250805T223908Z
LAST-MODIFIED:20250805T223908Z
UID:10761-1756382400-1756386000@www.protec17.org
SUMMARY:Sound Transit CAT Meeting
DESCRIPTION:Join your Sound Transit (exempt) employees for our monthly Contract Action Team (CAT) meeting! We’ll meet online via Zoom on the last Thursdays of every month\, from 12-1 p.m. unless stated otherwise. This is a space to join your union siblings as we strategize winning a strong union contract! More details\, including meeting link\, in your personal email and on the Member Portal events page HERE.
URL:https://www.protec17.org/event/sound-transit-cat-meeting-3/
LOCATION:ONLINE MEETING ONLY
ATTACH;FMTTYPE=image/png:https://www.protec17.org/wp-content/uploads/2025/05/Sound-Transit-WEB.png
ORGANIZER;CN="Abdallah El Hamawi":MAILTO:abdallah@protec17.org
END:VEVENT
END:VCALENDAR