BEGIN:VCALENDAR
VERSION:2.0
PRODID:-//PROTEC17 - ECPv6.15.17.1//NONSGML v1.0//EN
CALSCALE:GREGORIAN
METHOD:PUBLISH
X-WR-CALNAME:PROTEC17
X-ORIGINAL-URL:https://www.protec17.org
X-WR-CALDESC:Events for PROTEC17
REFRESH-INTERVAL;VALUE=DURATION:PT1H
X-Robots-Tag:noindex
X-PUBLISHED-TTL:PT1H
BEGIN:VTIMEZONE
TZID:America/Los_Angeles
BEGIN:DAYLIGHT
TZOFFSETFROM:-0800
TZOFFSETTO:-0700
TZNAME:PDT
DTSTART:20250309T100000
END:DAYLIGHT
BEGIN:STANDARD
TZOFFSETFROM:-0700
TZOFFSETTO:-0800
TZNAME:PST
DTSTART:20251102T090000
END:STANDARD
BEGIN:DAYLIGHT
TZOFFSETFROM:-0800
TZOFFSETTO:-0700
TZNAME:PDT
DTSTART:20260308T100000
END:DAYLIGHT
BEGIN:STANDARD
TZOFFSETFROM:-0700
TZOFFSETTO:-0800
TZNAME:PST
DTSTART:20261101T090000
END:STANDARD
BEGIN:DAYLIGHT
TZOFFSETFROM:-0800
TZOFFSETTO:-0700
TZNAME:PDT
DTSTART:20270314T100000
END:DAYLIGHT
BEGIN:STANDARD
TZOFFSETFROM:-0700
TZOFFSETTO:-0800
TZNAME:PST
DTSTART:20271107T090000
END:STANDARD
END:VTIMEZONE
BEGIN:VEVENT
DTSTART;TZID=America/Los_Angeles:20260304T120000
DTEND;TZID=America/Los_Angeles:20260304T130000
DTSTAMP:20260422T054729
CREATED:20260206T224605Z
LAST-MODIFIED:20260206T224605Z
UID:11363-1772625600-1772629200@www.protec17.org
SUMMARY:Steward Training - Part 1
DESCRIPTION:Not sure what all a Steward does? We’re here to help! Join your fellow PROTEC17 Union Stewards for Steward Training – Part 1! We’ll discuss the many roles of an effective Steward\, grievances\, and members’ right to representation. Open to all Stewards\, new and experienced! Members will need to attend parts one and two before officially becoming a Steward. Please check your email and/or the Member Portal events page HERE for more info and meeting details.
URL:https://www.protec17.org/event/steward-training-part-1-15/
LOCATION:ONLINE MEETING ONLY
ATTACH;FMTTYPE=image/png:https://www.protec17.org/wp-content/uploads/2024/04/Steward-Training-WEB.png
END:VEVENT
BEGIN:VEVENT
DTSTART;TZID=America/Los_Angeles:20260305T120000
DTEND;TZID=America/Los_Angeles:20260305T130000
DTSTAMP:20260422T054729
CREATED:20260210T195154Z
LAST-MODIFIED:20260210T195154Z
UID:11377-1772712000-1772715600@www.protec17.org
SUMMARY:PROTEC17 & WSLC Training: Part 2 - New Policies & Enforcement Tactics
DESCRIPTION:We are partnering with the Washington State Labor Council (WSLC/WAAFLCIO) to present a four-part immigration series. These trainings were created in the hopes of providing increased knowledge and preparedness for immigrant workers. Join us virtually for all parts if you are able! Please check your personal email address and/or the Member Portal events page HERE for each session’s registration links. \n\nPart 1 – Know Your Rights | Thurs.\, Feb. 26\, 12-1 p.m.\nPart 2 – New Policies & Enforcement Tactics | Thurs.\, March 5\, 12-1 p.m.\nPart 3 – Workplace Preparedness | Thurs.\, March 19\, 12-1 p.m.\nPart 4 – Rapid Response | Thurs.\, March 26\, 12-1 p.m.\n\n— \nPart 2 – New Policies & Enforcement Tactics: \nThis session reviews recent immigration policy updates and current enforcement practices that may impact our workforce. Participants will gain clarity on what has changed\, what has not\, and how these developments may affect workers\, unions\, and workplaces.
URL:https://www.protec17.org/event/protec17-wslc-training-part-2-new-policies-enforcement-tactics/
LOCATION:ONLINE MEETING ONLY
CATEGORIES:racial justice
ATTACH;FMTTYPE=image/png:https://www.protec17.org/wp-content/uploads/2026/02/Immigration-Trainings-Part-2.png
ORGANIZER;CN="Jessica Olivas":MAILTO:jessica@protec17.org
END:VEVENT
BEGIN:VEVENT
DTSTART;TZID=America/Los_Angeles:20260311T120000
DTEND;TZID=America/Los_Angeles:20260311T130000
DTSTAMP:20260422T054729
CREATED:20260206T225122Z
LAST-MODIFIED:20260206T225122Z
UID:11365-1773230400-1773234000@www.protec17.org
SUMMARY:Steward Training - Part 2
DESCRIPTION:Join your fellow PROTEC17 Union Stewards for Steward Training – Part 2! We’ll dig deeper into activating new members\, how to organize your coworkers\, and how to take action on issues impacting your workplace. Open to all Stewards\, new and experienced! Members will need to attend parts one and two before officially becoming a Steward. Please check your personal email and/or the Member Portal events page HERE for more details\, including how to join.
URL:https://www.protec17.org/event/steward-training-part-2-15/
LOCATION:ONLINE MEETING VIA ZOOM
ATTACH;FMTTYPE=image/png:https://www.protec17.org/wp-content/uploads/2024/04/Steward-Training-WEB.png
END:VEVENT
BEGIN:VEVENT
DTSTART;TZID=America/Los_Angeles:20260326T120000
DTEND;TZID=America/Los_Angeles:20260326T130000
DTSTAMP:20260422T054729
CREATED:20260210T200055Z
LAST-MODIFIED:20260319T192036Z
UID:11380-1774526400-1774530000@www.protec17.org
SUMMARY:PROTEC17 & WSLC Training: Part 3 - Workplace Preparedness
DESCRIPTION:We are partnering with the Washington State Labor Council (WSLC/WAAFLCIO) to present a four-part immigration series. These trainings were created in the hopes of providing increased knowledge and preparedness for immigrant workers. Join us virtually for all parts if you are able! Please check your personal email address and/or the Member Portal events page HERE for each session’s registration links. \n\nPart 1 – Know Your Rights | Thurs.\, Feb. 26\, 12-1 p.m.\nPart 2 – New Policies & Enforcement Tactics | Thurs.\, March 5\, 12-1 p.m.\nPart 3 – Workplace Preparedness | Thurs.\, March 26\, 12-1 p.m. RESCHEDULED!\nPart 4 – Rapid Response | Thurs.\, April 9\, 12-1 p.m. RESCHEDULED!\n\n— \nPart 3 – Workplace Preparedness: \nThis session focuses on practical steps unions and worksites can take to prepare for potential immigration enforcement situations. Participants will learn how to establish protocols\, define roles\, communicate clearly\, and reduce disruption while prioritizing workplace safety and solidarity.
URL:https://www.protec17.org/event/protec17-wslc-training-part-3-workplace-preparedness/
LOCATION:ONLINE MEETING ONLY
CATEGORIES:racial justice
ATTACH;FMTTYPE=image/png:https://www.protec17.org/wp-content/uploads/2026/02/Immigration-Trainings-Part-3.png
ORGANIZER;CN="Jessica Olivas":MAILTO:jessica@protec17.org
END:VEVENT
END:VCALENDAR