BEGIN:VCALENDAR
VERSION:2.0
PRODID:-//PROTEC17 - ECPv6.15.17.1//NONSGML v1.0//EN
CALSCALE:GREGORIAN
METHOD:PUBLISH
X-ORIGINAL-URL:https://www.protec17.org
X-WR-CALDESC:Events for PROTEC17
REFRESH-INTERVAL;VALUE=DURATION:PT1H
X-Robots-Tag:noindex
X-PUBLISHED-TTL:PT1H
BEGIN:VTIMEZONE
TZID:America/Los_Angeles
BEGIN:DAYLIGHT
TZOFFSETFROM:-0800
TZOFFSETTO:-0700
TZNAME:PDT
DTSTART:20250309T100000
END:DAYLIGHT
BEGIN:STANDARD
TZOFFSETFROM:-0700
TZOFFSETTO:-0800
TZNAME:PST
DTSTART:20251102T090000
END:STANDARD
BEGIN:DAYLIGHT
TZOFFSETFROM:-0800
TZOFFSETTO:-0700
TZNAME:PDT
DTSTART:20260308T100000
END:DAYLIGHT
BEGIN:STANDARD
TZOFFSETFROM:-0700
TZOFFSETTO:-0800
TZNAME:PST
DTSTART:20261101T090000
END:STANDARD
BEGIN:DAYLIGHT
TZOFFSETFROM:-0800
TZOFFSETTO:-0700
TZNAME:PDT
DTSTART:20270314T100000
END:DAYLIGHT
BEGIN:STANDARD
TZOFFSETFROM:-0700
TZOFFSETTO:-0800
TZNAME:PST
DTSTART:20271107T090000
END:STANDARD
END:VTIMEZONE
BEGIN:VEVENT
DTSTART;TZID=America/Los_Angeles:20260210T120000
DTEND;TZID=America/Los_Angeles:20260210T130000
DTSTAMP:20260422T083953
CREATED:20260128T232540Z
LAST-MODIFIED:20260128T232541Z
UID:11321-1770724800-1770728400@www.protec17.org
SUMMARY:Steward Training: Deep-Dive on Grievances
DESCRIPTION:Join your fellow Stewards for a deep-dive on grievances! Come learn about the difference between a grievance and complaint\, how to investigate a grievance\, effective ways to interact with grievants and management\, and your legal rights and responsibilities. Open to all Stewards! Featuring special guest\, PROTEC17 Union Representative\, Steven Pray! \nPlease check your personal email or the Member Portal here for full details\, including how to join.
URL:https://www.protec17.org/event/steward-training-deep-dive-on-grievances-3/
LOCATION:ONLINE ONLY
ATTACH;FMTTYPE=image/png:https://www.protec17.org/wp-content/uploads/2022/09/steward-training-grievances-e1666637313137.png
END:VEVENT
END:VCALENDAR