BEGIN:VCALENDAR
VERSION:2.0
PRODID:-//PROTEC17 - ECPv6.15.17.1//NONSGML v1.0//EN
CALSCALE:GREGORIAN
METHOD:PUBLISH
X-WR-CALNAME:PROTEC17
X-ORIGINAL-URL:https://www.protec17.org
X-WR-CALDESC:Events for PROTEC17
REFRESH-INTERVAL;VALUE=DURATION:PT1H
X-Robots-Tag:noindex
X-PUBLISHED-TTL:PT1H
BEGIN:VTIMEZONE
TZID:America/Los_Angeles
BEGIN:DAYLIGHT
TZOFFSETFROM:-0800
TZOFFSETTO:-0700
TZNAME:PDT
DTSTART:20240310T100000
END:DAYLIGHT
BEGIN:STANDARD
TZOFFSETFROM:-0700
TZOFFSETTO:-0800
TZNAME:PST
DTSTART:20241103T090000
END:STANDARD
BEGIN:DAYLIGHT
TZOFFSETFROM:-0800
TZOFFSETTO:-0700
TZNAME:PDT
DTSTART:20250309T100000
END:DAYLIGHT
BEGIN:STANDARD
TZOFFSETFROM:-0700
TZOFFSETTO:-0800
TZNAME:PST
DTSTART:20251102T090000
END:STANDARD
BEGIN:DAYLIGHT
TZOFFSETFROM:-0800
TZOFFSETTO:-0700
TZNAME:PDT
DTSTART:20260308T100000
END:DAYLIGHT
BEGIN:STANDARD
TZOFFSETFROM:-0700
TZOFFSETTO:-0800
TZNAME:PST
DTSTART:20261101T090000
END:STANDARD
END:VTIMEZONE
BEGIN:VEVENT
DTSTART;TZID=America/Los_Angeles:20250305T120000
DTEND;TZID=America/Los_Angeles:20250305T130000
DTSTAMP:20260420T201431
CREATED:20250218T202044Z
LAST-MODIFIED:20250218T202044Z
UID:10099-1741176000-1741179600@www.protec17.org
SUMMARY:Steward Training - Part 1
DESCRIPTION:Not sure what all a steward does? We’re here to help! Join your fellow PROTEC17 union stewards for Steward Training – Part I! We’ll discuss the many roles of an effective Steward\, grievances\, and members’ right to representation. Open to all Stewards\, new and experienced! Members will need to attend part 1 and 2 before officially becoming a Steward. PROTEC17 members\, please check your email and/or the Member Portal event page HERE for more info and meeting details.
URL:https://www.protec17.org/event/steward-training-part-1-3/
LOCATION:ONLINE ONLY
ATTACH;FMTTYPE=image/png:https://www.protec17.org/wp-content/uploads/2024/04/Steward-Training-WEB.png
END:VEVENT
BEGIN:VEVENT
DTSTART;TZID=America/Los_Angeles:20250312T120000
DTEND;TZID=America/Los_Angeles:20250312T130000
DTSTAMP:20260420T201431
CREATED:20250218T203301Z
LAST-MODIFIED:20250218T203301Z
UID:10104-1741780800-1741784400@www.protec17.org
SUMMARY:Steward Training - Part 2
DESCRIPTION:Join your fellow PROTEC17 union stewards for Steward Training – Part 2! We’ll dig deeper into activating new members\, how to organize your coworkers\, and how to take action on issues impacting your workplace. Open to all stewards\, new and experienced! Members will need to attend Parts 1 and 2 before officially becoming a Steward. PROTEC17 members\, please check your email and/or the Member Portal events page HERE for more info and meeting details.
URL:https://www.protec17.org/event/steward-training-part-2-3/
LOCATION:ONLINE MEETING VIA ZOOM
ATTACH;FMTTYPE=image/png:https://www.protec17.org/wp-content/uploads/2024/04/Steward-Training-WEB.png
END:VEVENT
BEGIN:VEVENT
DTSTART;TZID=America/Los_Angeles:20250319T120000
DTEND;TZID=America/Los_Angeles:20250319T130000
DTSTAMP:20260420T201431
CREATED:20250220T222524Z
LAST-MODIFIED:20250221T221050Z
UID:10118-1742385600-1742389200@www.protec17.org
SUMMARY:Steward Training: Deep-Dive on Weingarten Rights
DESCRIPTION:Join your fellow Stewards and Member Leaders for a deep-dive on Weingarten Rights! Come learn about how to investigate for a weingarten meeting\, how to prepare the member you’re representing\, and your legal rights and responsibilities. Open to all Stewards! PROTEC17 Stewards\, please check your email and/or the Member Portal Events Page HERE for more info and meeting details.
URL:https://www.protec17.org/event/steward-training-weingarten-rights/
LOCATION:Online meeting
ATTACH;FMTTYPE=image/png:https://www.protec17.org/wp-content/uploads/2023/12/Steward-Training-Weingarten.png
END:VEVENT
END:VCALENDAR