BEGIN:VCALENDAR
VERSION:2.0
PRODID:-//PROTEC17 - ECPv6.15.17.1//NONSGML v1.0//EN
CALSCALE:GREGORIAN
METHOD:PUBLISH
X-WR-CALNAME:PROTEC17
X-ORIGINAL-URL:https://www.protec17.org
X-WR-CALDESC:Events for PROTEC17
REFRESH-INTERVAL;VALUE=DURATION:PT1H
X-Robots-Tag:noindex
X-PUBLISHED-TTL:PT1H
BEGIN:VTIMEZONE
TZID:America/Los_Angeles
BEGIN:DAYLIGHT
TZOFFSETFROM:-0800
TZOFFSETTO:-0700
TZNAME:PDT
DTSTART:20240310T100000
END:DAYLIGHT
BEGIN:STANDARD
TZOFFSETFROM:-0700
TZOFFSETTO:-0800
TZNAME:PST
DTSTART:20241103T090000
END:STANDARD
BEGIN:DAYLIGHT
TZOFFSETFROM:-0800
TZOFFSETTO:-0700
TZNAME:PDT
DTSTART:20250309T100000
END:DAYLIGHT
BEGIN:STANDARD
TZOFFSETFROM:-0700
TZOFFSETTO:-0800
TZNAME:PST
DTSTART:20251102T090000
END:STANDARD
BEGIN:DAYLIGHT
TZOFFSETFROM:-0800
TZOFFSETTO:-0700
TZNAME:PDT
DTSTART:20260308T100000
END:DAYLIGHT
BEGIN:STANDARD
TZOFFSETFROM:-0700
TZOFFSETTO:-0800
TZNAME:PST
DTSTART:20261101T090000
END:STANDARD
END:VTIMEZONE
BEGIN:VEVENT
DTSTART;TZID=America/Los_Angeles:20250417T120000
DTEND;TZID=America/Los_Angeles:20250417T130000
DTSTAMP:20260420T195956
CREATED:20250326T235215Z
LAST-MODIFIED:20250326T235215Z
UID:10229-1744891200-1744894800@www.protec17.org
SUMMARY:King County Coalition CAT Meeting
DESCRIPTION:If your unit is covered by the Coalition Labor Agreement (CLA) AKA all King County units except Transit Admin\, Chiefs\, and Superintendents\, you are invited to join your Coalition Contract Action Team (CAT)! The purpose of these meetings is to connect with your union siblings from across your chapter to build power and take action to get the best union contract possible! For full details\, including how to join\, please check your personal email address or the Member Portal events page HERE.
URL:https://www.protec17.org/event/king-county-coalition-cat-meeting-5/
LOCATION:ONLINE MEETING ONLY
ATTACH;FMTTYPE=image/png:https://www.protec17.org/wp-content/uploads/2024/07/King-County-Coalition-CAT-WEB.png
END:VEVENT
END:VCALENDAR