BEGIN:VCALENDAR
VERSION:2.0
PRODID:-//PROTEC17 - ECPv6.15.17.1//NONSGML v1.0//EN
CALSCALE:GREGORIAN
METHOD:PUBLISH
X-WR-CALNAME:PROTEC17
X-ORIGINAL-URL:https://www.protec17.org
X-WR-CALDESC:Events for PROTEC17
REFRESH-INTERVAL;VALUE=DURATION:PT1H
X-Robots-Tag:noindex
X-PUBLISHED-TTL:PT1H
BEGIN:VTIMEZONE
TZID:America/Los_Angeles
BEGIN:DAYLIGHT
TZOFFSETFROM:-0800
TZOFFSETTO:-0700
TZNAME:PDT
DTSTART:20250309T100000
END:DAYLIGHT
BEGIN:STANDARD
TZOFFSETFROM:-0700
TZOFFSETTO:-0800
TZNAME:PST
DTSTART:20251102T090000
END:STANDARD
BEGIN:DAYLIGHT
TZOFFSETFROM:-0800
TZOFFSETTO:-0700
TZNAME:PDT
DTSTART:20260308T100000
END:DAYLIGHT
BEGIN:STANDARD
TZOFFSETFROM:-0700
TZOFFSETTO:-0800
TZNAME:PST
DTSTART:20261101T090000
END:STANDARD
BEGIN:DAYLIGHT
TZOFFSETFROM:-0800
TZOFFSETTO:-0700
TZNAME:PDT
DTSTART:20270314T100000
END:DAYLIGHT
BEGIN:STANDARD
TZOFFSETFROM:-0700
TZOFFSETTO:-0800
TZNAME:PST
DTSTART:20271107T090000
END:STANDARD
END:VTIMEZONE
BEGIN:VEVENT
DTSTART;TZID=America/Los_Angeles:20260312T120000
DTEND;TZID=America/Los_Angeles:20260312T130000
DTSTAMP:20260420T173836
CREATED:20260212T205250Z
LAST-MODIFIED:20260212T205250Z
UID:11392-1773316800-1773320400@www.protec17.org
SUMMARY:Seattle Chapter Meeting
DESCRIPTION:Join your fellow PROTEC17 Seattle members for our next chapter meeting! For full details\, including how to join\, please check your personal email or the Member Portal events page HERE.
URL:https://www.protec17.org/event/seattle-chapter-meeting-21/
LOCATION:ONLINE CHAPTER MEETING VIA ZOOM
ATTACH;FMTTYPE=image/png:https://www.protec17.org/wp-content/uploads/2025/02/Seattle-Logo-WEB.png
END:VEVENT
BEGIN:VEVENT
DTSTART;TZID=America/Los_Angeles:20260328T120000
DTEND;TZID=America/Los_Angeles:20260328T160000
DTSTAMP:20260420T173836
CREATED:20260319T231236Z
LAST-MODIFIED:20260319T231236Z
UID:11456-1774699200-1774713600@www.protec17.org
SUMMARY:Seattle No Kings Rally & March
DESCRIPTION:Seattle Indivisible is hosting another No Kings rally and march on Sat.\, March 28 from 12-4 p.m. The event’s theme is “Neighbors Fighting Fascism: ICE Out!” The rally will start at 12 p.m. at Cal Anderson Park\, with the march kicking off around 1:15 p.m. to the Space Needle. \n\nMore info HERE\nRSVP form HERE\nVolunteer sign up HERE
URL:https://www.protec17.org/event/seattle-no-kings-rally-march/
LOCATION:Cal Anderson Park\, 1635 11th Ave.\, Seattle\, WA\, 98122\, United States
CATEGORIES:political events,racial justice
ATTACH;FMTTYPE=image/png:https://www.protec17.org/wp-content/uploads/2026/03/Seattle-No-Kings-2026-WEB.png
END:VEVENT
END:VCALENDAR