BEGIN:VCALENDAR
VERSION:2.0
PRODID:-//PROTEC17 - ECPv6.15.17.1//NONSGML v1.0//EN
CALSCALE:GREGORIAN
METHOD:PUBLISH
X-ORIGINAL-URL:https://www.protec17.org
X-WR-CALDESC:Events for PROTEC17
REFRESH-INTERVAL;VALUE=DURATION:PT1H
X-Robots-Tag:noindex
X-PUBLISHED-TTL:PT1H
BEGIN:VTIMEZONE
TZID:America/Los_Angeles
BEGIN:DAYLIGHT
TZOFFSETFROM:-0800
TZOFFSETTO:-0700
TZNAME:PDT
DTSTART:20240310T100000
END:DAYLIGHT
BEGIN:STANDARD
TZOFFSETFROM:-0700
TZOFFSETTO:-0800
TZNAME:PST
DTSTART:20241103T090000
END:STANDARD
BEGIN:DAYLIGHT
TZOFFSETFROM:-0800
TZOFFSETTO:-0700
TZNAME:PDT
DTSTART:20250309T100000
END:DAYLIGHT
BEGIN:STANDARD
TZOFFSETFROM:-0700
TZOFFSETTO:-0800
TZNAME:PST
DTSTART:20251102T090000
END:STANDARD
BEGIN:DAYLIGHT
TZOFFSETFROM:-0800
TZOFFSETTO:-0700
TZNAME:PDT
DTSTART:20260308T100000
END:DAYLIGHT
BEGIN:STANDARD
TZOFFSETFROM:-0700
TZOFFSETTO:-0800
TZNAME:PST
DTSTART:20261101T090000
END:STANDARD
END:VTIMEZONE
BEGIN:VEVENT
DTSTART;TZID=America/Los_Angeles:20250508T120000
DTEND;TZID=America/Los_Angeles:20250508T130000
DTSTAMP:20260420T195914
CREATED:20250415T200125Z
LAST-MODIFIED:20250506T190349Z
UID:10283-1746705600-1746709200@www.protec17.org
SUMMARY:Seattle Chapter Meeting
DESCRIPTION:Join your fellow PROTEC17 Seattle members for your next chapter meeting! For full details\, including how to join\, please check your personal email or the Member Portal events page HERE.
URL:https://www.protec17.org/event/seattle-chapter-meeting-13/
LOCATION:ONLINE CHAPTER MEETING VIA ZOOM
ATTACH;FMTTYPE=image/png:https://www.protec17.org/wp-content/uploads/2025/02/Seattle-Logo-WEB.png
END:VEVENT
BEGIN:VEVENT
DTSTART;TZID=America/Los_Angeles:20250509T120000
DTEND;TZID=America/Los_Angeles:20250509T130000
DTSTAMP:20260420T195914
CREATED:20250416T235708Z
LAST-MODIFIED:20250506T190358Z
UID:10336-1746792000-1746795600@www.protec17.org
SUMMARY:Future of Work Member Action Committee Meeting
DESCRIPTION:The Future of Work Member Action Committee is currently for members of the City of Seattle\, King County\, KCRHA\, City of Portland\, and Sound Transit chapters. \nFrom the 8-hour work day to the creation of weekends\, to protective labor laws\, unions have fought and won improvements in our workplaces – because members fought together. For many\, our work lives have evolved significantly over the last few years. What does the future of work look like for you? Join your fellow union members to brainstorm\, collaborate\, and strategize how we can evolve the Future of Work together. Please check your personal email address or the Member Portal events page HERE for details on how to join. \nPlease Note: Meetings are typically every first Thursday at 12 p.m.\, but May’s meeting will take place on May 9 to accommodate for May Day/International Workers’ Day actions. \nInterested in joining? Contact PROTEC17 Internal Organizing Coordinator Brenna Stroup at brenna@protec17.org.
URL:https://www.protec17.org/event/future-of-work-member-action-meeting/
LOCATION:ONLINE MEETING VIA ZOOM
ATTACH;FMTTYPE=image/png:https://www.protec17.org/wp-content/uploads/2025/04/Future-of-Work-Banner-WEB.png
END:VEVENT
END:VCALENDAR