BEGIN:VCALENDAR
VERSION:2.0
PRODID:-//PROTEC17 - ECPv6.15.17.1//NONSGML v1.0//EN
CALSCALE:GREGORIAN
METHOD:PUBLISH
X-ORIGINAL-URL:https://www.protec17.org
X-WR-CALDESC:Events for PROTEC17
REFRESH-INTERVAL;VALUE=DURATION:PT1H
X-Robots-Tag:noindex
X-PUBLISHED-TTL:PT1H
BEGIN:VTIMEZONE
TZID:America/Los_Angeles
BEGIN:DAYLIGHT
TZOFFSETFROM:-0800
TZOFFSETTO:-0700
TZNAME:PDT
DTSTART:20220313T100000
END:DAYLIGHT
BEGIN:STANDARD
TZOFFSETFROM:-0700
TZOFFSETTO:-0800
TZNAME:PST
DTSTART:20221106T090000
END:STANDARD
BEGIN:DAYLIGHT
TZOFFSETFROM:-0800
TZOFFSETTO:-0700
TZNAME:PDT
DTSTART:20230312T100000
END:DAYLIGHT
BEGIN:STANDARD
TZOFFSETFROM:-0700
TZOFFSETTO:-0800
TZNAME:PST
DTSTART:20231105T090000
END:STANDARD
BEGIN:DAYLIGHT
TZOFFSETFROM:-0800
TZOFFSETTO:-0700
TZNAME:PDT
DTSTART:20240310T100000
END:DAYLIGHT
BEGIN:STANDARD
TZOFFSETFROM:-0700
TZOFFSETTO:-0800
TZNAME:PST
DTSTART:20241103T090000
END:STANDARD
END:VTIMEZONE
BEGIN:VEVENT
DTSTART;TZID=America/Los_Angeles:20231012T120000
DTEND;TZID=America/Los_Angeles:20231012T130000
DTSTAMP:20260420T221309
CREATED:20230112T210047Z
LAST-MODIFIED:20230112T210047Z
UID:6883-1697112000-1697115600@www.protec17.org
SUMMARY:Seattle Chapter Meeting (Virtual)
DESCRIPTION:Join your fellow PROTEC17 Seattle members for the next chapter meeting! Detailed information on how to join the online chapter meeting is emailed out to members’ personal emails. You can also check the Member Portal “Events” page here or ask a co-worker\, steward\, or your union rep if you didn’t receive the email. \n  \n  \n 
URL:https://www.protec17.org/event/seattle-chapter-meeting-virtual-8/
LOCATION:ONLINE CHAPTER MEETING VIA ZOOM
ATTACH;FMTTYPE=image/png:https://www.protec17.org/wp-content/uploads/2018/12/CityofSeattle_logo_vertical_blue-black-1-e1544562937171.png
END:VEVENT
BEGIN:VEVENT
DTSTART;TZID=America/Los_Angeles:20231031T120000
DTEND;TZID=America/Los_Angeles:20231031T130000
DTSTAMP:20260420T221309
CREATED:20231026T222942Z
LAST-MODIFIED:20231026T222942Z
UID:7976-1698753600-1698757200@www.protec17.org
SUMMARY:SDOT Contract Update Meeting (Virtual)
DESCRIPTION:Please join your fellow SDOT members for a contract negotiations update meeting on Tues.\, Oct. 31 at 12 p.m. noon. We will meet virtually via Zoom. These meetings are especially important as we continue our fight for a strong contract. For more info\, including how to join the meeting\, please check your personal email address or visit the Member Portal HERE.
URL:https://www.protec17.org/event/sdot-contract-update-meeting-virtual/
LOCATION:ONLINE MEETING ONLY
ATTACH;FMTTYPE=image/png:https://www.protec17.org/wp-content/uploads/2023/10/SDOT-meeting.png
END:VEVENT
END:VCALENDAR