BEGIN:VCALENDAR
VERSION:2.0
PRODID:-//PROTEC17 - ECPv6.15.17.1//NONSGML v1.0//EN
CALSCALE:GREGORIAN
METHOD:PUBLISH
X-WR-CALNAME:PROTEC17
X-ORIGINAL-URL:https://www.protec17.org
X-WR-CALDESC:Events for PROTEC17
REFRESH-INTERVAL;VALUE=DURATION:PT1H
X-Robots-Tag:noindex
X-PUBLISHED-TTL:PT1H
BEGIN:VTIMEZONE
TZID:America/Los_Angeles
BEGIN:DAYLIGHT
TZOFFSETFROM:-0800
TZOFFSETTO:-0700
TZNAME:PDT
DTSTART:20220313T100000
END:DAYLIGHT
BEGIN:STANDARD
TZOFFSETFROM:-0700
TZOFFSETTO:-0800
TZNAME:PST
DTSTART:20221106T090000
END:STANDARD
BEGIN:DAYLIGHT
TZOFFSETFROM:-0800
TZOFFSETTO:-0700
TZNAME:PDT
DTSTART:20230312T100000
END:DAYLIGHT
BEGIN:STANDARD
TZOFFSETFROM:-0700
TZOFFSETTO:-0800
TZNAME:PST
DTSTART:20231105T090000
END:STANDARD
BEGIN:DAYLIGHT
TZOFFSETFROM:-0800
TZOFFSETTO:-0700
TZNAME:PDT
DTSTART:20240310T100000
END:DAYLIGHT
BEGIN:STANDARD
TZOFFSETFROM:-0700
TZOFFSETTO:-0800
TZNAME:PST
DTSTART:20241103T090000
END:STANDARD
END:VTIMEZONE
BEGIN:VEVENT
DTSTART;TZID=America/Los_Angeles:20230914T120000
DTEND;TZID=America/Los_Angeles:20230914T130000
DTSTAMP:20260420T222104
CREATED:20230112T205349Z
LAST-MODIFIED:20230112T205349Z
UID:6881-1694692800-1694696400@www.protec17.org
SUMMARY:Seattle Chapter Meeting (Virtual)
DESCRIPTION:Join your fellow PROTEC17 Seattle members for the next chapter meeting! Detailed information on how to join the online chapter meeting is emailed out to members’ personal emails. You can also check the Member Portal “Events” page here or ask a co-worker\, steward\, or your union rep if you didn’t receive the email.
URL:https://www.protec17.org/event/seattle-chapter-meeting-virtual-7/
LOCATION:ONLINE CHAPTER MEETING VIA ZOOM
ATTACH;FMTTYPE=image/png:https://www.protec17.org/wp-content/uploads/2018/12/CityofSeattle_logo_vertical_blue-black-1-e1544562937171.png
END:VEVENT
BEGIN:VEVENT
DTSTART;TZID=America/Los_Angeles:20230919T153000
DTEND;TZID=America/Los_Angeles:20230919T170000
DTSTAMP:20260420T222104
CREATED:20230817T214524Z
LAST-MODIFIED:20230817T214524Z
UID:7803-1695137400-1695142800@www.protec17.org
SUMMARY:City Workers Rally for #RSPCT!
DESCRIPTION:Calling all PROTEC17 members\, community members\, and loved ones! The Seattle Coalition of City Unions (CCU) is hosting a BIG City Workers Rally for #RSPCT on Tues.\, Sep. 19 on the steps of Seattle City Hall (600 4th Ave) — the more the merrier! The coalition unions have been in negotiations for almost ONE YEAR and have still been unable to settle on a fair contract\, that’s why we need everyone’s help to show up and demand a #FairContractNOW. \nShow your commitment to support by pledging to join the rally HERE!
URL:https://www.protec17.org/event/city-workers-rally-for-rspct/
LOCATION:Seattle City Hall\, 600 4th Ave\, Seattle\, WA\, 98104\, United States
ATTACH;FMTTYPE=image/jpeg:https://www.protec17.org/wp-content/uploads/2023/08/CCU-Rally-social-media-graphic-1.jpg
END:VEVENT
END:VCALENDAR