BEGIN:VCALENDAR
VERSION:2.0
PRODID:-//PROTEC17 - ECPv6.15.17.1//NONSGML v1.0//EN
CALSCALE:GREGORIAN
METHOD:PUBLISH
X-WR-CALNAME:PROTEC17
X-ORIGINAL-URL:https://www.protec17.org
X-WR-CALDESC:Events for PROTEC17
REFRESH-INTERVAL;VALUE=DURATION:PT1H
X-Robots-Tag:noindex
X-PUBLISHED-TTL:PT1H
BEGIN:VTIMEZONE
TZID:America/Los_Angeles
BEGIN:DAYLIGHT
TZOFFSETFROM:-0800
TZOFFSETTO:-0700
TZNAME:PDT
DTSTART:20240310T100000
END:DAYLIGHT
BEGIN:STANDARD
TZOFFSETFROM:-0700
TZOFFSETTO:-0800
TZNAME:PST
DTSTART:20241103T090000
END:STANDARD
BEGIN:DAYLIGHT
TZOFFSETFROM:-0800
TZOFFSETTO:-0700
TZNAME:PDT
DTSTART:20250309T100000
END:DAYLIGHT
BEGIN:STANDARD
TZOFFSETFROM:-0700
TZOFFSETTO:-0800
TZNAME:PST
DTSTART:20251102T090000
END:STANDARD
BEGIN:DAYLIGHT
TZOFFSETFROM:-0800
TZOFFSETTO:-0700
TZNAME:PDT
DTSTART:20260308T100000
END:DAYLIGHT
BEGIN:STANDARD
TZOFFSETFROM:-0700
TZOFFSETTO:-0800
TZNAME:PST
DTSTART:20261101T090000
END:STANDARD
END:VTIMEZONE
BEGIN:VEVENT
DTSTART;TZID=America/Los_Angeles:20251217T173000
DTEND;TZID=America/Los_Angeles:20251217T203000
DTSTAMP:20260422T050425
CREATED:20251201T235713Z
LAST-MODIFIED:20251201T235713Z
UID:11139-1765992600-1766003400@www.protec17.org
SUMMARY:Portland Chapter Meeting
DESCRIPTION:PROTEC17 Portland Chapter members! Join your union siblings for our final chapter meeting meets union winter social! We’ll meet on Wed.\, Dec. 17 at Atlas Pizza (3570 SE Division St.\, Portland\, OR 97202). Pizza will be served at 5:30 p.m. and the meeting will start at 6 p.m. Family and friends are welcome and pizza will be provided! \nPlease RSVP by Tues.\, Dec. 16 to: protec17social@gmail.com \nRSVPs are appreciated but not required!
URL:https://www.protec17.org/event/portland-chapter-meeting-38/
LOCATION:Atlas Pizza\, 3570 SE Division St.\, Portland\, WA\, 97202\, United States
ATTACH;FMTTYPE=image/png:https://www.protec17.org/wp-content/uploads/2025/12/Portland-Chapter-Mtg.-Social-12.17.25-WEB.png
ORGANIZER;CN="Rachel Whiteside":MAILTO:rachel@protec17.org
END:VEVENT
END:VCALENDAR