BEGIN:VCALENDAR
VERSION:2.0
PRODID:-//PROTEC17 - ECPv6.15.17.1//NONSGML v1.0//EN
CALSCALE:GREGORIAN
METHOD:PUBLISH
X-WR-CALNAME:PROTEC17
X-ORIGINAL-URL:https://www.protec17.org
X-WR-CALDESC:Events for PROTEC17
REFRESH-INTERVAL;VALUE=DURATION:PT1H
X-Robots-Tag:noindex
X-PUBLISHED-TTL:PT1H
BEGIN:VTIMEZONE
TZID:America/Los_Angeles
BEGIN:DAYLIGHT
TZOFFSETFROM:-0800
TZOFFSETTO:-0700
TZNAME:PDT
DTSTART:20240310T100000
END:DAYLIGHT
BEGIN:STANDARD
TZOFFSETFROM:-0700
TZOFFSETTO:-0800
TZNAME:PST
DTSTART:20241103T090000
END:STANDARD
BEGIN:DAYLIGHT
TZOFFSETFROM:-0800
TZOFFSETTO:-0700
TZNAME:PDT
DTSTART:20250309T100000
END:DAYLIGHT
BEGIN:STANDARD
TZOFFSETFROM:-0700
TZOFFSETTO:-0800
TZNAME:PST
DTSTART:20251102T090000
END:STANDARD
BEGIN:DAYLIGHT
TZOFFSETFROM:-0800
TZOFFSETTO:-0700
TZNAME:PDT
DTSTART:20260308T100000
END:DAYLIGHT
BEGIN:STANDARD
TZOFFSETFROM:-0700
TZOFFSETTO:-0800
TZNAME:PST
DTSTART:20261101T090000
END:STANDARD
END:VTIMEZONE
BEGIN:VEVENT
DTSTART;TZID=America/Los_Angeles:20250901T110000
DTEND;TZID=America/Los_Angeles:20250901T160000
DTSTAMP:20260419T163837
CREATED:20250826T193559Z
LAST-MODIFIED:20250826T193559Z
UID:10868-1756724400-1756742400@www.protec17.org
SUMMARY:Northwest Oregon Labor Council: Labor Day at Oaks Amusement Park
DESCRIPTION:Northwest Oregon Labor Council is hosting their annual Labor Day picnic on Mon.\, Sept. 1 from 11 a.m. to 4 p.m. at Oaks Amusement Park (7805 SE Oaks Park Way\, Portland\, OR 97202). Members and guests of co-sponsoring unions/organizations\, including PROTEC17\, are welcome to attend! Co-sponsors include: PROTEC17\, Oregon AFSCME\, AFSCME 3336\, OSEA\, AFT PCCFCE 3922\, AFT PCCFFAP 2277\, Boilermakers 104\, IATSE Local 28\, Ironworkers 29\, Laborers 483\, Laborers 737\, Machinists 63\, Machinists 1432\, Sheet Metal Workers\, Teamsters 206\, Teamsters 223\, UFCW 555\, SEIU\, Carpenters\, and Letter Carriers. \nIf you are a PROTEC17 Portland Chapter member who would like to attend\, we have a limited amount of FREE tickets! Please reach out to PROTEC17 Union Representative Rachel Whiteside at rachel@protec17.org. \nMore details can be found in this NW Labor Press article HERE\, which also lists other Oregon-based Labor Day events.
URL:https://www.protec17.org/event/northwest-oregon-labor-council-labor-day-at-oaks-amusement-park/
LOCATION:Oaks Amusement Park\, 7805 SE Oaks Park Way\, Portland\, WA\, 97202\, United States
ATTACH;FMTTYPE=image/png:https://www.protec17.org/wp-content/uploads/2025/08/NW-Oregon-Labor-Council-Labor-Day-WEB.png
END:VEVENT
BEGIN:VEVENT
DTSTART;TZID=America/Los_Angeles:20250902T120000
DTEND;TZID=America/Los_Angeles:20250902T130000
DTSTAMP:20260419T163837
CREATED:20250813T202818Z
LAST-MODIFIED:20250813T202818Z
UID:10792-1756814400-1756818000@www.protec17.org
SUMMARY:Portland Chapter Meeting
DESCRIPTION:Please join your fellow PROTEC17 Portland Chapter members for a chapter meeting. Please note that first Tuesday meetings have a hybrid option. Check your personal email or the Member Portal events page HERE for more details\, including how to join. Hope to see you there!
URL:https://www.protec17.org/event/portland-chapter-meeting-31/
LOCATION:Hybrid
ATTACH;FMTTYPE=image/png:https://www.protec17.org/wp-content/uploads/2018/12/Portland.png
ORGANIZER;CN="Rachel Whiteside":MAILTO:rachel@protec17.org
END:VEVENT
BEGIN:VEVENT
DTSTART;TZID=America/Los_Angeles:20250917T170000
DTEND;TZID=America/Los_Angeles:20250917T180000
DTSTAMP:20260419T163837
CREATED:20250813T203032Z
LAST-MODIFIED:20250813T203032Z
UID:10794-1758128400-1758132000@www.protec17.org
SUMMARY:Portland Chapter Meeting
DESCRIPTION:Join your fellow PROTEC17 members at the next Portland Chapter meeting! This meeting will be hybrid — feel free to join us in-person or online! You can find full details and links in your personal email or the Member Portal events page HERE.
URL:https://www.protec17.org/event/portland-chapter-meeting-32/
LOCATION:ONLINE MEETING VIA ZOOM
ATTACH;FMTTYPE=image/png:https://www.protec17.org/wp-content/uploads/2018/12/Portland.png
ORGANIZER;CN="Rachel Whiteside":MAILTO:rachel@protec17.org
END:VEVENT
END:VCALENDAR