BEGIN:VCALENDAR
VERSION:2.0
PRODID:-//PROTEC17 - ECPv6.15.20//NONSGML v1.0//EN
CALSCALE:GREGORIAN
METHOD:PUBLISH
X-ORIGINAL-URL:https://www.protec17.org
X-WR-CALDESC:Events for PROTEC17
REFRESH-INTERVAL;VALUE=DURATION:PT1H
X-Robots-Tag:noindex
X-PUBLISHED-TTL:PT1H
BEGIN:VTIMEZONE
TZID:America/Los_Angeles
BEGIN:DAYLIGHT
TZOFFSETFROM:-0800
TZOFFSETTO:-0700
TZNAME:PDT
DTSTART:20230312T100000
END:DAYLIGHT
BEGIN:STANDARD
TZOFFSETFROM:-0700
TZOFFSETTO:-0800
TZNAME:PST
DTSTART:20231105T090000
END:STANDARD
BEGIN:DAYLIGHT
TZOFFSETFROM:-0800
TZOFFSETTO:-0700
TZNAME:PDT
DTSTART:20240310T100000
END:DAYLIGHT
BEGIN:STANDARD
TZOFFSETFROM:-0700
TZOFFSETTO:-0800
TZNAME:PST
DTSTART:20241103T090000
END:STANDARD
BEGIN:DAYLIGHT
TZOFFSETFROM:-0800
TZOFFSETTO:-0700
TZNAME:PDT
DTSTART:20250309T100000
END:DAYLIGHT
BEGIN:STANDARD
TZOFFSETFROM:-0700
TZOFFSETTO:-0800
TZNAME:PST
DTSTART:20251102T090000
END:STANDARD
END:VTIMEZONE
BEGIN:VEVENT
DTSTART;TZID=America/Los_Angeles:20240902T103000
DTEND;TZID=America/Los_Angeles:20240902T113000
DTSTAMP:20260424T180531
CREATED:20240814T194545Z
LAST-MODIFIED:20240814T194545Z
UID:9109-1725273000-1725276600@www.protec17.org
SUMMARY:Pierce County Central Labor Council - Ralph Chaplin Gravesite Memorial Ceremony
DESCRIPTION:Join at Pierce County Central Labor Council’s Labor Day memorial ceremony for the late Ralph Chaplin (1887-1961)\, a longtime labor activist\, poet\, author\, organizer\, and songwriter who wrote the famous “Solidarity Forever”. The ceremony will be a time to sing labor’s songs\, share stories of bitter struggles and hard-won achievements\, as well as strengthen our collective fight for workplace justice for all.
URL:https://www.protec17.org/event/pierce-county-central-labor-council-ralph-chaplin-gravesite-memorial-ceremony/
LOCATION:Calvary Cemetery\, 5212 S 70th St.\, Tacoma\, WA\, 98467\, United States
ATTACH;FMTTYPE=image/png:https://www.protec17.org/wp-content/uploads/2024/08/Pierce-County-Labor-Council-Ralph-Chaplin-Memorial-2024-WEB.png
END:VEVENT
BEGIN:VEVENT
DTSTART;TZID=America/Los_Angeles:20240902T113000
DTEND;TZID=America/Los_Angeles:20240902T150000
DTSTAMP:20260424T180531
CREATED:20240814T195959Z
LAST-MODIFIED:20240814T195959Z
UID:9114-1725276600-1725289200@www.protec17.org
SUMMARY:Pierce County Central Labor Council and WFSE Local 793 Labor Day BBQ
DESCRIPTION:The Pierce County Central Labor Council and Washington State Federation of State Employees (WFSE) Local 793 are co-hosting a FREE Labor Day BBQ down in Lakewood\, WA! There will be a mouth-watering picnic menu\, visits from local elected officials and Labor-endorsed candidates\, union and community organization table displays\, and family-friendly play areas! PROTEC17 will have a table with prizes and activities. Hope to see you there! \nRSVP at the link HERE.
URL:https://www.protec17.org/event/pierce-county-central-labor-council-and-wfse-local-793-labor-day-bbq/
LOCATION:Fort Steilacoom Park – Picnic Pavilion\, 9200 Steilacoom Blvd SW\, Lakewood\, WA\, 98498\, United States
ATTACH;FMTTYPE=image/png:https://www.protec17.org/wp-content/uploads/2024/08/Labor-Day-BBQ-2024-WEB.png
END:VEVENT
END:VCALENDAR