BEGIN:VCALENDAR
VERSION:2.0
PRODID:-//PROTEC17 - ECPv6.15.17.1//NONSGML v1.0//EN
CALSCALE:GREGORIAN
METHOD:PUBLISH
X-ORIGINAL-URL:https://www.protec17.org
X-WR-CALDESC:Events for PROTEC17
REFRESH-INTERVAL;VALUE=DURATION:PT1H
X-Robots-Tag:noindex
X-PUBLISHED-TTL:PT1H
BEGIN:VTIMEZONE
TZID:America/Los_Angeles
BEGIN:DAYLIGHT
TZOFFSETFROM:-0800
TZOFFSETTO:-0700
TZNAME:PDT
DTSTART:20240310T100000
END:DAYLIGHT
BEGIN:STANDARD
TZOFFSETFROM:-0700
TZOFFSETTO:-0800
TZNAME:PST
DTSTART:20241103T090000
END:STANDARD
BEGIN:DAYLIGHT
TZOFFSETFROM:-0800
TZOFFSETTO:-0700
TZNAME:PDT
DTSTART:20250309T100000
END:DAYLIGHT
BEGIN:STANDARD
TZOFFSETFROM:-0700
TZOFFSETTO:-0800
TZNAME:PST
DTSTART:20251102T090000
END:STANDARD
BEGIN:DAYLIGHT
TZOFFSETFROM:-0800
TZOFFSETTO:-0700
TZNAME:PDT
DTSTART:20260308T100000
END:DAYLIGHT
BEGIN:STANDARD
TZOFFSETFROM:-0700
TZOFFSETTO:-0800
TZNAME:PST
DTSTART:20261101T090000
END:STANDARD
END:VTIMEZONE
BEGIN:VEVENT
DTSTART;TZID=America/Los_Angeles:20250401T120000
DTEND;TZID=America/Los_Angeles:20250401T130000
DTSTAMP:20260420T200703
CREATED:20250326T020159Z
LAST-MODIFIED:20250326T020159Z
UID:10191-1743508800-1743512400@www.protec17.org
SUMMARY:PROTEC17 Presents: Union 101! (Virtual)
DESCRIPTION:Is it your first time being a union member? Been a member for awhile\, but not sure what PROTEC17 does? Join us for a quick Union 101 training to learn more about your union\, what unions do\, and opportunity to ask your lingering questions! Open to all Bargaining Unit members\, you do not need to have signed a membership card to attend. PROTEC17 members\, please check your home email or the Member Portal Events page HERE for more info\, including how to join.
URL:https://www.protec17.org/event/protec17-presents-union-101-virtual-6/
LOCATION:ONLINE MEETING VIA ZOOM
ATTACH;FMTTYPE=image/png:https://www.protec17.org/wp-content/uploads/2023/11/Union-101-Training-FOR-WEB.png
END:VEVENT
BEGIN:VEVENT
DTSTART;TZID=America/Los_Angeles:20250423T120000
DTEND;TZID=America/Los_Angeles:20250423T130000
DTSTAMP:20260420T200703
CREATED:20250326T213803Z
LAST-MODIFIED:20250326T213803Z
UID:10201-1745409600-1745413200@www.protec17.org
SUMMARY:Member Training: Organizing 101 - Part 1
DESCRIPTION:Join your fellow PROTEC17 union members on Wed.\, April 23 for Organizing 101 – Part 1! Learn the basics about what organizing is and why it’s vital to having a strong union. You’ll also learn how to talk about YOUR union and how to have an effective organizing conversation with your coworkers. Open to all active members\, new to experienced! Co-hosted with Seattle Steward\, Jamie Fackler! We encourage all attendees to participate in both parts of this training. You can find details\, including how to join\, in your personal email or on the Member Portal events page HERE.
URL:https://www.protec17.org/event/member-training-organizing-101-part-1/
LOCATION:ONLINE MEETING VIA ZOOM
ATTACH;FMTTYPE=image/png:https://www.protec17.org/wp-content/uploads/2025/03/Member-Training-Organizing-101-WEB.png
END:VEVENT
BEGIN:VEVENT
DTSTART;TZID=America/Los_Angeles:20250430T120000
DTEND;TZID=America/Los_Angeles:20250430T130000
DTSTAMP:20260420T200703
CREATED:20250326T213902Z
LAST-MODIFIED:20250326T213902Z
UID:10204-1746014400-1746018000@www.protec17.org
SUMMARY:Member Training: Organizing 101 - Part 2
DESCRIPTION:Join your fellow PROTEC17 union members on Wed.\, April 30 for Organizing 101 – Part 2 and continue to expand your organizing skills! In part 2\, you’ll learn how to map your workplace\, identify fellow leaders\, and envision what your organized workplace can look like (and win!). Open to all active members\, new to experienced! Co-hosted with Seattle Steward\, Jamie Fackler! We encourage all attendees to participate in both parts of this training. You can find details\, including how to join\, in your personal email or on the Member Portal events page HERE.
URL:https://www.protec17.org/event/member-training-organizing-101-part-2/
LOCATION:ONLINE MEETING VIA ZOOM
ATTACH;FMTTYPE=image/png:https://www.protec17.org/wp-content/uploads/2025/03/Member-Training-Organizing-101-WEB.png
END:VEVENT
END:VCALENDAR