BEGIN:VCALENDAR
VERSION:2.0
PRODID:-//PROTEC17 - ECPv6.15.17.1//NONSGML v1.0//EN
CALSCALE:GREGORIAN
METHOD:PUBLISH
X-WR-CALNAME:PROTEC17
X-ORIGINAL-URL:https://www.protec17.org
X-WR-CALDESC:Events for PROTEC17
REFRESH-INTERVAL;VALUE=DURATION:PT1H
X-Robots-Tag:noindex
X-PUBLISHED-TTL:PT1H
BEGIN:VTIMEZONE
TZID:America/Los_Angeles
BEGIN:DAYLIGHT
TZOFFSETFROM:-0800
TZOFFSETTO:-0700
TZNAME:PDT
DTSTART:20240310T100000
END:DAYLIGHT
BEGIN:STANDARD
TZOFFSETFROM:-0700
TZOFFSETTO:-0800
TZNAME:PST
DTSTART:20241103T090000
END:STANDARD
BEGIN:DAYLIGHT
TZOFFSETFROM:-0800
TZOFFSETTO:-0700
TZNAME:PDT
DTSTART:20250309T100000
END:DAYLIGHT
BEGIN:STANDARD
TZOFFSETFROM:-0700
TZOFFSETTO:-0800
TZNAME:PST
DTSTART:20251102T090000
END:STANDARD
BEGIN:DAYLIGHT
TZOFFSETFROM:-0800
TZOFFSETTO:-0700
TZNAME:PDT
DTSTART:20260308T100000
END:DAYLIGHT
BEGIN:STANDARD
TZOFFSETFROM:-0700
TZOFFSETTO:-0800
TZNAME:PST
DTSTART:20261101T090000
END:STANDARD
END:VTIMEZONE
BEGIN:VEVENT
DTSTART;TZID=America/Los_Angeles:20250211T120000
DTEND;TZID=America/Los_Angeles:20250211T130000
DTSTAMP:20260420T202046
CREATED:20241217T191243Z
LAST-MODIFIED:20250114T203416Z
UID:9879-1739275200-1739278800@www.protec17.org
SUMMARY:Member Training: How to Welcome Fellow Members Effectively!
DESCRIPTION:One of the most important things you can do to build your union’s strength is to welcome new members right after they are hired–and anyone can do it! Join us to learn how you can welcome a new member and get them signed up to be an active member. We’ll also discuss tips\, how to welcome new hires (remotely and in-person)\, and how to find out when someone has been hired. All PROTEC17 members are invited to join\, you don’t have to be in a leadership role! \nPlease check your personal email or the Member Portal here for full details\, including how to join. \nPlease note that this event was originally scheduled in January but has been rescheduled to February. Thank you for your understanding!
URL:https://www.protec17.org/event/member-training-how-to-welcome-new-members-effectively/
LOCATION:ONLINE ONLY
ATTACH;FMTTYPE=image/png:https://www.protec17.org/wp-content/uploads/2024/12/Member-Training-How-to-Welcome-WEB.png
END:VEVENT
BEGIN:VEVENT
DTSTART;TZID=America/Los_Angeles:20250219T120000
DTEND;TZID=America/Los_Angeles:20250219T130000
DTSTAMP:20260420T202046
CREATED:20250123T010657Z
LAST-MODIFIED:20250128T031942Z
UID:9973-1739966400-1739970000@www.protec17.org
SUMMARY:Steward Training: Deep-Dive on Grievances
DESCRIPTION:Join your fellow Stewards on Wed.\, Feb. 19 for a deep-dive on grievances! Come learn about the difference between a grievance and complaint\, how to investigate a grievance\, effective ways to interact with grievants and management\, and your legal rights and responsibilities. Open to all Stewards! Ft. special guest\, PROTEC17 Union Representative\, Suzie Saunders! \nPlease check your personal email or the Member Portal here for full details\, including how to join.
URL:https://www.protec17.org/event/steward-training-deep-dive-on-grievances/
LOCATION:ONLINE ONLY
ATTACH;FMTTYPE=image/png:https://www.protec17.org/wp-content/uploads/2022/09/steward-training-grievances-e1666637313137.png
END:VEVENT
END:VCALENDAR