BEGIN:VCALENDAR
VERSION:2.0
PRODID:-//PROTEC17 - ECPv6.15.17.1//NONSGML v1.0//EN
CALSCALE:GREGORIAN
METHOD:PUBLISH
X-ORIGINAL-URL:https://www.protec17.org
X-WR-CALDESC:Events for PROTEC17
REFRESH-INTERVAL;VALUE=DURATION:PT1H
X-Robots-Tag:noindex
X-PUBLISHED-TTL:PT1H
BEGIN:VTIMEZONE
TZID:America/Los_Angeles
BEGIN:DAYLIGHT
TZOFFSETFROM:-0800
TZOFFSETTO:-0700
TZNAME:PDT
DTSTART:20250309T100000
END:DAYLIGHT
BEGIN:STANDARD
TZOFFSETFROM:-0700
TZOFFSETTO:-0800
TZNAME:PST
DTSTART:20251102T090000
END:STANDARD
BEGIN:DAYLIGHT
TZOFFSETFROM:-0800
TZOFFSETTO:-0700
TZNAME:PDT
DTSTART:20260308T100000
END:DAYLIGHT
BEGIN:STANDARD
TZOFFSETFROM:-0700
TZOFFSETTO:-0800
TZNAME:PST
DTSTART:20261101T090000
END:STANDARD
BEGIN:DAYLIGHT
TZOFFSETFROM:-0800
TZOFFSETTO:-0700
TZNAME:PDT
DTSTART:20270314T100000
END:DAYLIGHT
BEGIN:STANDARD
TZOFFSETFROM:-0700
TZOFFSETTO:-0800
TZNAME:PST
DTSTART:20271107T090000
END:STANDARD
END:VTIMEZONE
BEGIN:VEVENT
DTSTART;TZID=America/Los_Angeles:20260107T120000
DTEND;TZID=America/Los_Angeles:20260107T130000
DTSTAMP:20260420T185649
CREATED:20251211T224459Z
LAST-MODIFIED:20251211T224459Z
UID:11182-1767787200-1767790800@www.protec17.org
SUMMARY:Steward Training - Part 1
DESCRIPTION:Not sure what all a Steward does? We’re here to help! Join your fellow PROTEC17 Union Stewards for Steward Training – Part 1! We’ll discuss the many roles of an effective Steward\, grievances\, and members’ right to representation. Open to all Stewards\, new and experienced! Members will need to attend parts one and two before officially becoming a Steward. Please check your email and/or the Member Portal events page HERE for more info and meeting details.
URL:https://www.protec17.org/event/steward-training-part-1-13/
LOCATION:ONLINE MEETING ONLY
ATTACH;FMTTYPE=image/png:https://www.protec17.org/wp-content/uploads/2024/04/Steward-Training-WEB.png
END:VEVENT
BEGIN:VEVENT
DTSTART;TZID=America/Los_Angeles:20260114T120000
DTEND;TZID=America/Los_Angeles:20260114T130000
DTSTAMP:20260420T185649
CREATED:20251211T224834Z
LAST-MODIFIED:20251211T224834Z
UID:11184-1768392000-1768395600@www.protec17.org
SUMMARY:Steward Training - Part 2
DESCRIPTION:Join your fellow PROTEC17 Union Stewards for Steward Training – Part 2! We’ll dig deeper into activating new members\, how to organize your coworkers\, and how to take action on issues impacting your workplace. Open to all Stewards\, new and experienced! Members will need to attend parts one and two before officially becoming a Steward. Please check your personal email and/or the Member Portal events page HERE for more details\, including how to join.
URL:https://www.protec17.org/event/steward-training-part-2-13/
LOCATION:ONLINE MEETING VIA ZOOM
ATTACH;FMTTYPE=image/png:https://www.protec17.org/wp-content/uploads/2024/04/Steward-Training-WEB.png
END:VEVENT
BEGIN:VEVENT
DTSTART;TZID=America/Los_Angeles:20260122T120000
DTEND;TZID=America/Los_Angeles:20260122T130000
DTSTAMP:20260420T185649
CREATED:20251219T005027Z
LAST-MODIFIED:20251219T005027Z
UID:11236-1769083200-1769086800@www.protec17.org
SUMMARY:Seattle Steward Meeting
DESCRIPTION:PROTEC17 Seattle Stewards\, join your fellow member leaders for your next Seattle Steward meeting! Come meet Stewards from other departments\, keep up to date\, build power together\, and more. Open to all Seattle Stewards! You can find details (including the meeting link) in your personal email or on the Member Portal events page HERE. This is a recurring meeting that takes place every fourth Thursday of the month unless stated otherwise.
URL:https://www.protec17.org/event/seattle-steward-meeting-10/
LOCATION:ONLINE MEETING ONLY
END:VEVENT
BEGIN:VEVENT
DTSTART;TZID=America/Los_Angeles:20260129T120000
DTEND;TZID=America/Los_Angeles:20260129T130000
DTSTAMP:20260420T185649
CREATED:20251217T004027Z
LAST-MODIFIED:20251217T004027Z
UID:11221-1769688000-1769691600@www.protec17.org
SUMMARY:Sound Transit CAT Meeting
DESCRIPTION:Join your Sound Transit (exempt) employees for our monthly Contract Action Team (CAT) meeting! We’ll meet online via Zoom on the last Thursdays of every month\, unless stated otherwise. Join your union siblings as we strategize winning a strong union contract! More details\, including meeting link\, in your personal email and on the Member Portal events page HERE.
URL:https://www.protec17.org/event/sound-transit-cat-meeting-7/
LOCATION:ONLINE MEETING ONLY
ATTACH;FMTTYPE=image/png:https://www.protec17.org/wp-content/uploads/2025/05/Sound-Transit-WEB.png
ORGANIZER;CN="Abdallah El Hamawi":MAILTO:abdallah@protec17.org
END:VEVENT
END:VCALENDAR