BEGIN:VCALENDAR
VERSION:2.0
PRODID:-//PROTEC17 - ECPv6.15.17.1//NONSGML v1.0//EN
CALSCALE:GREGORIAN
METHOD:PUBLISH
X-ORIGINAL-URL:https://www.protec17.org
X-WR-CALDESC:Events for PROTEC17
REFRESH-INTERVAL;VALUE=DURATION:PT1H
X-Robots-Tag:noindex
X-PUBLISHED-TTL:PT1H
BEGIN:VTIMEZONE
TZID:America/Los_Angeles
BEGIN:DAYLIGHT
TZOFFSETFROM:-0800
TZOFFSETTO:-0700
TZNAME:PDT
DTSTART:20240310T100000
END:DAYLIGHT
BEGIN:STANDARD
TZOFFSETFROM:-0700
TZOFFSETTO:-0800
TZNAME:PST
DTSTART:20241103T090000
END:STANDARD
BEGIN:DAYLIGHT
TZOFFSETFROM:-0800
TZOFFSETTO:-0700
TZNAME:PDT
DTSTART:20250309T100000
END:DAYLIGHT
BEGIN:STANDARD
TZOFFSETFROM:-0700
TZOFFSETTO:-0800
TZNAME:PST
DTSTART:20251102T090000
END:STANDARD
BEGIN:DAYLIGHT
TZOFFSETFROM:-0800
TZOFFSETTO:-0700
TZNAME:PDT
DTSTART:20260308T100000
END:DAYLIGHT
BEGIN:STANDARD
TZOFFSETFROM:-0700
TZOFFSETTO:-0800
TZNAME:PST
DTSTART:20261101T090000
END:STANDARD
END:VTIMEZONE
BEGIN:VEVENT
DTSTART;TZID=America/Los_Angeles:20250204T120000
DTEND;TZID=America/Los_Angeles:20250204T130000
DTSTAMP:20260420T201352
CREATED:20250114T203132Z
LAST-MODIFIED:20250114T203207Z
UID:9915-1738670400-1738674000@www.protec17.org
SUMMARY:King County Prof. & Tech. 17D Member Meeting
DESCRIPTION:Join your fellow King County Professional and Technical (17D) bargaining unit members for a member meeting on Tues.\, Feb. 4 at 12 p.m. as we work to shape the direction of our collective efforts! We will gather virtually via Zoom. Please check your personal email or the Member Portal events page HERE for full details\, including how to join.
URL:https://www.protec17.org/event/king-county-prof-tech-17d-member-meeting/
LOCATION:ONLINE MEETING ONLY
ATTACH;FMTTYPE=image/png:https://www.protec17.org/wp-content/uploads/2025/01/KC-Prof.-Tech.-17D-Meeting-2.4.25-WEB.png
ORGANIZER;CN="Youssef El Hamawi":MAILTO:youssef@protec17.org
END:VEVENT
BEGIN:VEVENT
DTSTART;TZID=America/Los_Angeles:20250206T120000
DTEND;TZID=America/Los_Angeles:20250206T130000
DTSTAMP:20260420T201352
CREATED:20250123T010031Z
LAST-MODIFIED:20250218T202729Z
UID:9971-1738843200-1738846800@www.protec17.org
SUMMARY:Future of Work Member Meeting (Seattle\, KC\, KCRHA\, & Sound Transit)
DESCRIPTION:The Future of Work Member Action Committee is currently only for members of the Seattle\, King County\, KCRHA\, and Sound Transit chapters. \nFrom the 8-hour work day to the creation of weekends\, to protective labor laws\, unions have fought and won improvements in our workplaces – because members fought together. For many\, our work lives have evolved significantly over the last few years. What does the future of work look like for you? Join your fellow union members to brainstorm\, collaborate\, and strategize how we can evolve the Future of Work together. Please check the Member Portal events page HERE for full details\, including how to join. \nInterested in joining? Contact PROTEC17 Internal Organizing Coordinator Brenna Stroup at brenna@protec17.org.
URL:https://www.protec17.org/event/future-of-work-member-meeting-seattle-kc-kcrha-sound-transit-3/
LOCATION:ONLINE MEETING VIA ZOOM
ATTACH;FMTTYPE=image/png:https://www.protec17.org/wp-content/uploads/2024/09/Future-of-Work-Meeting-WEB.png
END:VEVENT
BEGIN:VEVENT
DTSTART;TZID=America/Los_Angeles:20250218T173000
DTEND;TZID=America/Los_Angeles:20250218T190000
DTSTAMP:20260420T201352
CREATED:20241218T223646Z
LAST-MODIFIED:20250211T230945Z
UID:9886-1739899800-1739905200@www.protec17.org
SUMMARY:King County Coalition Bargaining Party
DESCRIPTION:THIS EVENT HAS BEEN RESCHEDULED DUE TO THE WEATHER. Originally scheduled for Feb. 6\, we are rescheduling this party to Tues.\, Feb. 18 to accommodate for the weather. All other info is the same\, see you then! \nPROTEC17 King County Chapter members! Join your fellow Coalition Labor Agreement (CLA) union siblings for a bargaining (contract negotiations) party on Tues.\, Feb. 18 at 5:30 p.m. at Jellyfish Brewing (917 S Nebraska St.\, Seattle\, WA 98108). This is a great opportunity to meet your Bargaining Team\, identify priorities for YOUR union contract\, and co-strategize ways to build momentum and TAKE ACTION\, TOGETHER! \nPlease help us get an estimate of how many folks are coming and RSVP at: https://tinyurl.com/KC-CLA-Party. \nPlease note that this party is for King County Chapter members who are covered by the CLA. King County Metro Transit Admin\, Chiefs\, and Superintendents units have a different union contract and Bargaining Team. \n 
URL:https://www.protec17.org/event/king-county-coalition-bargaining-party/
LOCATION:Jellyfish Brewing\, 917 S Nebraska St.\, Seattle\, WA\, 98108\, United States
ATTACH;FMTTYPE=image/png:https://www.protec17.org/wp-content/uploads/2024/12/KC-Coalition-Contract-Negotiations-Party-WEB.png
END:VEVENT
BEGIN:VEVENT
DTSTART;TZID=America/Los_Angeles:20250220T120000
DTEND;TZID=America/Los_Angeles:20250220T130000
DTSTAMP:20260420T201352
CREATED:20250122T202603Z
LAST-MODIFIED:20250214T224903Z
UID:9960-1740052800-1740056400@www.protec17.org
SUMMARY:King County Coalition CAT Meeting
DESCRIPTION:If your unit is covered by the Coalition Labor Agreement (CLA) AKA all King County units except Transit Admin\, Chiefs\, and Superintendents\, you are invited to join your Coalition Contract Action Team (CAT)! The purpose of these meetings is to connect with your union siblings from across your chapter to build power and take action to get the best union contract possible! For full details\, including how to join\, please check your personal email address or the Member Portal events page HERE.
URL:https://www.protec17.org/event/king-county-coalition-cat-meeting-3/
LOCATION:ONLINE MEETING ONLY
ATTACH;FMTTYPE=image/png:https://www.protec17.org/wp-content/uploads/2024/07/King-County-Coalition-CAT-WEB.png
END:VEVENT
BEGIN:VEVENT
DTSTART;TZID=America/Los_Angeles:20250226T120000
DTEND;TZID=America/Los_Angeles:20250226T130000
DTSTAMP:20260420T201352
CREATED:20250122T202002Z
LAST-MODIFIED:20250326T235044Z
UID:9958-1740571200-1740574800@www.protec17.org
SUMMARY:King County Chapter Meeting
DESCRIPTION:PROTEC17 King County Chapter members\, join your union siblings for our next chapter meeting on Zoom. For full details\, including how to join\, please check your email or the Member Portal events page for full details\, including how to access the meeting.
URL:https://www.protec17.org/event/king-county-chapter-meeting-14/
LOCATION:ONLINE CHAPTER MEETING VIA ZOOM
ATTACH;FMTTYPE=image/png:https://www.protec17.org/wp-content/uploads/2024/11/King-County-WEB.png
END:VEVENT
END:VCALENDAR