BEGIN:VCALENDAR
VERSION:2.0
PRODID:-//PROTEC17 - ECPv6.15.17.1//NONSGML v1.0//EN
CALSCALE:GREGORIAN
METHOD:PUBLISH
X-ORIGINAL-URL:https://www.protec17.org
X-WR-CALDESC:Events for PROTEC17
REFRESH-INTERVAL;VALUE=DURATION:PT1H
X-Robots-Tag:noindex
X-PUBLISHED-TTL:PT1H
BEGIN:VTIMEZONE
TZID:America/Los_Angeles
BEGIN:DAYLIGHT
TZOFFSETFROM:-0800
TZOFFSETTO:-0700
TZNAME:PDT
DTSTART:20230312T100000
END:DAYLIGHT
BEGIN:STANDARD
TZOFFSETFROM:-0700
TZOFFSETTO:-0800
TZNAME:PST
DTSTART:20231105T090000
END:STANDARD
BEGIN:DAYLIGHT
TZOFFSETFROM:-0800
TZOFFSETTO:-0700
TZNAME:PDT
DTSTART:20240310T100000
END:DAYLIGHT
BEGIN:STANDARD
TZOFFSETFROM:-0700
TZOFFSETTO:-0800
TZNAME:PST
DTSTART:20241103T090000
END:STANDARD
BEGIN:DAYLIGHT
TZOFFSETFROM:-0800
TZOFFSETTO:-0700
TZNAME:PDT
DTSTART:20250309T100000
END:DAYLIGHT
BEGIN:STANDARD
TZOFFSETFROM:-0700
TZOFFSETTO:-0800
TZNAME:PST
DTSTART:20251102T090000
END:STANDARD
END:VTIMEZONE
BEGIN:VEVENT
DTSTART;TZID=America/Los_Angeles:20241203T120000
DTEND;TZID=America/Los_Angeles:20241203T130000
DTSTAMP:20260420T203402
CREATED:20241105T200003Z
LAST-MODIFIED:20241105T200949Z
UID:9752-1733227200-1733230800@www.protec17.org
SUMMARY:Portland Chapter Meeting
DESCRIPTION:Please join your fellow PROTEC17 Portland Chapter members for a chapter meeting. Please note that first Tuesday meetings have a hybrid option. Check your personal email or the Member Portal events page here for more details\, including how to join. Hope to see you there!
URL:https://www.protec17.org/event/portland-chapter-meeting-12/
LOCATION:Hybrid
ATTACH;FMTTYPE=image/png:https://www.protec17.org/wp-content/uploads/2018/12/Portland.png
ORGANIZER;CN="Rachel Whiteside":MAILTO:rachel@protec17.org
END:VEVENT
BEGIN:VEVENT
DTSTART;TZID=America/Los_Angeles:20241205T120000
DTEND;TZID=America/Los_Angeles:20241205T130000
DTSTAMP:20260420T203402
CREATED:20241107T195042Z
LAST-MODIFIED:20241107T195042Z
UID:9779-1733400000-1733403600@www.protec17.org
SUMMARY:Future of Work Member Meeting (Seattle\, KC\, KCRHA\, & Sound Transit)
DESCRIPTION:If you are part of the PROTEC17 Future of Work Committee don’t forget to register via the link in your personal email and join us for our next meeting! \nPlease note that this committee is only for members of the Seattle\, King County\, KCRHA\, and Sound Transit chapters. \nFrom the 8-hour work day to the creation of weekends\, to protective labor laws\, unions have fought and won improvements in our workplaces – because members fought together. For many\, our work lives have evolved significantly over the last few years. What does the future of work look like for you? Join your fellow union members to brainstorm\, collaborate\, and strategize how we can evolve the Future of Work together. \nPlease Note: Meetings are every first Thursday at 12 p.m. on Zoom. Registration for the first Thursday meetings can be found HERE. \nInterested in joining? Contact PROTEC17 Internal Organizing Coordinator Brenna Stroup at brenna@protec17.org.
URL:https://www.protec17.org/event/future-of-work-member-meeting-seattle-kc-kcrha-sound-transit/
LOCATION:ONLINE MEETING VIA ZOOM
ATTACH;FMTTYPE=image/png:https://www.protec17.org/wp-content/uploads/2024/09/Future-of-Work-Meeting-WEB.png
END:VEVENT
BEGIN:VEVENT
DTSTART;TZID=America/Los_Angeles:20241211T080000
DTEND;TZID=America/Los_Angeles:20241211T170000
DTSTAMP:20260420T203402
CREATED:20241211T205241Z
LAST-MODIFIED:20241211T205241Z
UID:9834-1733904000-1733936400@www.protec17.org
SUMMARY:Portland Chapter Meeting
DESCRIPTION:Join your fellow PROTEC17 members at the next Portland Chapter meeting! Please note that all first Tuesday chapter meetings have a hybrid option. If you would like to attend in person\, please head to the Portland Building\, Room 211 in the NE corner. \n— \nMeeting Info: \n\nJoin online via Zoom HERE\nMeeting ID: 980 3413 2919\nPasscode: 214777\nBy phone: (253) 215-8782 with the same ID and passcode
URL:https://www.protec17.org/event/portland-chapter-meeting-13/
LOCATION:Hybrid
ATTACH;FMTTYPE=image/png:https://www.protec17.org/wp-content/uploads/2018/12/Portland.png
ORGANIZER;CN="Rachel Whiteside":MAILTO:rachel@protec17.org
END:VEVENT
END:VCALENDAR