BEGIN:VCALENDAR
VERSION:2.0
PRODID:-//PROTEC17 - ECPv6.15.17.1//NONSGML v1.0//EN
CALSCALE:GREGORIAN
METHOD:PUBLISH
X-WR-CALNAME:PROTEC17
X-ORIGINAL-URL:https://www.protec17.org
X-WR-CALDESC:Events for PROTEC17
REFRESH-INTERVAL;VALUE=DURATION:PT1H
X-Robots-Tag:noindex
X-PUBLISHED-TTL:PT1H
BEGIN:VTIMEZONE
TZID:America/Los_Angeles
BEGIN:DAYLIGHT
TZOFFSETFROM:-0800
TZOFFSETTO:-0700
TZNAME:PDT
DTSTART:20220313T100000
END:DAYLIGHT
BEGIN:STANDARD
TZOFFSETFROM:-0700
TZOFFSETTO:-0800
TZNAME:PST
DTSTART:20221106T090000
END:STANDARD
BEGIN:DAYLIGHT
TZOFFSETFROM:-0800
TZOFFSETTO:-0700
TZNAME:PDT
DTSTART:20230312T100000
END:DAYLIGHT
BEGIN:STANDARD
TZOFFSETFROM:-0700
TZOFFSETTO:-0800
TZNAME:PST
DTSTART:20231105T090000
END:STANDARD
BEGIN:DAYLIGHT
TZOFFSETFROM:-0800
TZOFFSETTO:-0700
TZNAME:PDT
DTSTART:20240310T100000
END:DAYLIGHT
BEGIN:STANDARD
TZOFFSETFROM:-0700
TZOFFSETTO:-0800
TZNAME:PST
DTSTART:20241103T090000
END:STANDARD
END:VTIMEZONE
BEGIN:VEVENT
DTSTART;TZID=America/Los_Angeles:20230417T120000
DTEND;TZID=America/Los_Angeles:20230417T123000
DTSTAMP:20260419T225815
CREATED:20230303T181736Z
LAST-MODIFIED:20230317T173602Z
UID:7224-1681732800-1681734600@www.protec17.org
SUMMARY:Communications Spring Series: Planting Seeds with Social Media (Virtual)
DESCRIPTION:Join us for our Communications Spring Series! Do you want to support your union and happen to have social media? Attend our session on how to amplify our pro-worker messages and tips on showing your support! PROTEC17 members please check your email or the Member Portal events page to find full details\, including how to join.
URL:https://www.protec17.org/event/communications-spring-series-planting-seeds-with-social-media-virtual/
LOCATION:ONLINE MEETING ONLY
ATTACH;FMTTYPE=image/png:https://www.protec17.org/wp-content/uploads/2023/03/BANNER-PROTEC17-spring-2023-comms-trainings.png
END:VEVENT
END:VCALENDAR