BEGIN:VCALENDAR
VERSION:2.0
PRODID:-//PROTEC17 - ECPv6.15.17.1//NONSGML v1.0//EN
CALSCALE:GREGORIAN
METHOD:PUBLISH
X-ORIGINAL-URL:https://www.protec17.org
X-WR-CALDESC:Events for PROTEC17
REFRESH-INTERVAL;VALUE=DURATION:PT1H
X-Robots-Tag:noindex
X-PUBLISHED-TTL:PT1H
BEGIN:VTIMEZONE
TZID:America/Los_Angeles
BEGIN:DAYLIGHT
TZOFFSETFROM:-0800
TZOFFSETTO:-0700
TZNAME:PDT
DTSTART:20240310T100000
END:DAYLIGHT
BEGIN:STANDARD
TZOFFSETFROM:-0700
TZOFFSETTO:-0800
TZNAME:PST
DTSTART:20241103T090000
END:STANDARD
BEGIN:DAYLIGHT
TZOFFSETFROM:-0800
TZOFFSETTO:-0700
TZNAME:PDT
DTSTART:20250309T100000
END:DAYLIGHT
BEGIN:STANDARD
TZOFFSETFROM:-0700
TZOFFSETTO:-0800
TZNAME:PST
DTSTART:20251102T090000
END:STANDARD
BEGIN:DAYLIGHT
TZOFFSETFROM:-0800
TZOFFSETTO:-0700
TZNAME:PDT
DTSTART:20260308T100000
END:DAYLIGHT
BEGIN:STANDARD
TZOFFSETFROM:-0700
TZOFFSETTO:-0800
TZNAME:PST
DTSTART:20261101T090000
END:STANDARD
END:VTIMEZONE
BEGIN:VEVENT
DTSTART;TZID=America/Los_Angeles:20250625T163000
DTEND;TZID=America/Los_Angeles:20250625T180000
DTSTAMP:20260420T195210
CREATED:20250624T202843Z
LAST-MODIFIED:20250624T202843Z
UID:10581-1750869000-1750874400@www.protec17.org
SUMMARY:Federal Unionists: I.C.E. Out of Our Workplaces Info Picket
DESCRIPTION:The Seattle Federal Unionists Network (FUN) is hosting an info picket on Wed.\, June 25 at 4:30 p.m. to send the message: I.C.E. (Immigration Customs Enforcement) out of our workplaces! Supported by a variety of organizations and union\, including PROTEC17\, we demand: \n\nAn end to I.C.E. raids and arrests in all workplaces\nDue process for all and an end to expedited removals\nFederal buildings made accessible and safe for all\nProtection for those seeking government services and the workers who serve them\n\nThe info picket will take place at the Seattle Federal Building (915 2nd Ave S). Wear your union swag and bring your signs of support for immigrants in our communities!
URL:https://www.protec17.org/event/federal-unionists-i-c-e-out-of-our-workplaces-info-picket/
LOCATION:Henry M. Jackson Federal Building (Downtown Seattle)\, 915 2nd Ave S\, Seattle\, WA\, 98174\, United States
CATEGORIES:racial justice
ATTACH;FMTTYPE=image/png:https://www.protec17.org/wp-content/uploads/2025/06/ICE-Out-of-Our-Workplaces-WEB-1.01.07 PM.png
END:VEVENT
BEGIN:VEVENT
DTSTART;TZID=America/Los_Angeles:20250626T120000
DTEND;TZID=America/Los_Angeles:20250626T130000
DTSTAMP:20260420T195210
CREATED:20250520T213107Z
LAST-MODIFIED:20250520T213107Z
UID:10511-1750939200-1750942800@www.protec17.org
SUMMARY:Sound Transit CAT Meeting
DESCRIPTION:Join your Sound Transit (exempt) employees for our monthly Contract Action Team (CAT) meeting! We’ll meet online via Zoom on the last Thursdays of every month\, from 12-1 p.m. unless stated otherwise. This is a space to join your union siblings as we strategize winning a strong union contract! More details\, including meeting link\, in your personal email and on the Member Portal events page HERE.
URL:https://www.protec17.org/event/sound-transit-cat-meeting/
LOCATION:ONLINE MEETING ONLY
ATTACH;FMTTYPE=image/png:https://www.protec17.org/wp-content/uploads/2025/05/Sound-Transit-WEB.png
ORGANIZER;CN="Abdallah El Hamawi":MAILTO:abdallah@protec17.org
END:VEVENT
END:VCALENDAR