BEGIN:VCALENDAR
VERSION:2.0
PRODID:-//PROTEC17 - ECPv6.15.17.1//NONSGML v1.0//EN
CALSCALE:GREGORIAN
METHOD:PUBLISH
X-WR-CALNAME:PROTEC17
X-ORIGINAL-URL:https://www.protec17.org
X-WR-CALDESC:Events for PROTEC17
REFRESH-INTERVAL;VALUE=DURATION:PT1H
X-Robots-Tag:noindex
X-PUBLISHED-TTL:PT1H
BEGIN:VTIMEZONE
TZID:America/Los_Angeles
BEGIN:DAYLIGHT
TZOFFSETFROM:-0800
TZOFFSETTO:-0700
TZNAME:PDT
DTSTART:20230312T100000
END:DAYLIGHT
BEGIN:STANDARD
TZOFFSETFROM:-0700
TZOFFSETTO:-0800
TZNAME:PST
DTSTART:20231105T090000
END:STANDARD
BEGIN:DAYLIGHT
TZOFFSETFROM:-0800
TZOFFSETTO:-0700
TZNAME:PDT
DTSTART:20240310T100000
END:DAYLIGHT
BEGIN:STANDARD
TZOFFSETFROM:-0700
TZOFFSETTO:-0800
TZNAME:PST
DTSTART:20241103T090000
END:STANDARD
BEGIN:DAYLIGHT
TZOFFSETFROM:-0800
TZOFFSETTO:-0700
TZNAME:PDT
DTSTART:20250309T100000
END:DAYLIGHT
BEGIN:STANDARD
TZOFFSETFROM:-0700
TZOFFSETTO:-0800
TZNAME:PST
DTSTART:20251102T090000
END:STANDARD
END:VTIMEZONE
BEGIN:VEVENT
DTSTART;TZID=America/Los_Angeles:20241102T100000
DTEND;TZID=America/Los_Angeles:20241102T130000
DTSTAMP:20260419T151728
CREATED:20241021T225124Z
LAST-MODIFIED:20241023T200458Z
UID:9596-1730541600-1730552400@www.protec17.org
SUMMARY:GOTV Canvas for Alexis Mercedes Rick & Seattle Prop. 1
DESCRIPTION:Calling all Seattle-area union members! Our PROTEC17 Workers Roundtable (PWR) group is joining together on Sat.\, Nov. 2 from 10 a.m. to 1 p.m. at Genesee Park and Playfield (4316 S Genesee St.\, Seattle\, WA 98118) for a Get out the Vote (GOTV) canvassing event in support of labor-endorsed candidate Alexis Mercedes Rinck and Keep Seattle Moving (Proposition 1)! Hope to see you there! \nRSVP by emailing PROTEC17 Political Director Brandon Hersey at brandon@protec17.org! 
URL:https://www.protec17.org/event/gotv-canvas-for-alexis-mercedes-rick-seattle-prop-1/
LOCATION:Genesee Park and Playfield\, 4316 S Genesee St.\, Seattle\, WA\, 98118\, United States
CATEGORIES:political events
ATTACH;FMTTYPE=image/png:https://www.protec17.org/wp-content/uploads/2024/10/GOTV-Canvas-Nov.-2-WEB.png
ORGANIZER;CN="Brandon Hersey":MAILTO:brandon@protec17.org
END:VEVENT
END:VCALENDAR