BEGIN:VCALENDAR
VERSION:2.0
PRODID:-//PROTEC17 - ECPv6.15.17.1//NONSGML v1.0//EN
CALSCALE:GREGORIAN
METHOD:PUBLISH
X-WR-CALNAME:PROTEC17
X-ORIGINAL-URL:https://www.protec17.org
X-WR-CALDESC:Events for PROTEC17
REFRESH-INTERVAL;VALUE=DURATION:PT1H
X-Robots-Tag:noindex
X-PUBLISHED-TTL:PT1H
BEGIN:VTIMEZONE
TZID:America/Los_Angeles
BEGIN:DAYLIGHT
TZOFFSETFROM:-0800
TZOFFSETTO:-0700
TZNAME:PDT
DTSTART:20240310T100000
END:DAYLIGHT
BEGIN:STANDARD
TZOFFSETFROM:-0700
TZOFFSETTO:-0800
TZNAME:PST
DTSTART:20241103T090000
END:STANDARD
BEGIN:DAYLIGHT
TZOFFSETFROM:-0800
TZOFFSETTO:-0700
TZNAME:PDT
DTSTART:20250309T100000
END:DAYLIGHT
BEGIN:STANDARD
TZOFFSETFROM:-0700
TZOFFSETTO:-0800
TZNAME:PST
DTSTART:20251102T090000
END:STANDARD
BEGIN:DAYLIGHT
TZOFFSETFROM:-0800
TZOFFSETTO:-0700
TZNAME:PDT
DTSTART:20260308T100000
END:DAYLIGHT
BEGIN:STANDARD
TZOFFSETFROM:-0700
TZOFFSETTO:-0800
TZNAME:PST
DTSTART:20261101T090000
END:STANDARD
END:VTIMEZONE
BEGIN:VEVENT
DTSTART;TZID=America/Los_Angeles:20251101T110000
DTEND;TZID=America/Los_Angeles:20251101T140000
DTSTAMP:20260419T063952
CREATED:20251021T183813Z
LAST-MODIFIED:20251021T183813Z
UID:11048-1761994800-1762005600@www.protec17.org
SUMMARY:Labor Neighbor: PROTEC17 Seattle Doorknocking
DESCRIPTION:Join your fellow union members for three door-knocking events co-hosted by MLK Labor and the Washington State Labor Council (WSLC) to talk with Seattle voters about Labor-endorsed candidates. These events are part of a WSLC outreach program where union members talk to other union members about the importance of voting for pro-worker candidates.\n\nDoorknocking Dates/Locations:\n\nSun.\, Oct. 19 at 11 a.m. | City View Park (1101 Harbor Ave SW\, Seattle\, WA 98116)\nSun.\, Oct. 26 at 11 a.m. | Corner of N 50th St. & Meridian Ave N\, near Meridian Playground (4920 Meridian Ave N\, Seattle\, WA 98103)\nSat.\, Nov. 1 at 11 a.m. | Othello Playground (4351 S Othello St.\, Seattle\, WA 98118)\n\nDon’t forget to wear your PROTEC17 union gear/swag! For each doorknocking event\, attendees will receive complimentary PROTEC17 merch (as supplies last) and be entered into a raffle for a $150 gift card to Fred Meyer. Coffee and snacks will be provided.\n\n—\n\nRSVP at the link HERE for one\, two\, or all three!
URL:https://www.protec17.org/event/labor-neighbor-protec17-seattle-doorknocking-3/
LOCATION:Othello Playground\, 4351 S Othello St.\, Seattle\, WA\, 98118\, United States
CATEGORIES:political events
ATTACH;FMTTYPE=image/png:https://www.protec17.org/wp-content/uploads/2025/10/Labor-Neighbor-Seattle-Doorknocking-WEB.png
ORGANIZER;CN="Mark Watson":MAILTO:mark@protec17.org
END:VEVENT
BEGIN:VEVENT
DTSTART;TZID=America/Los_Angeles:20251113T120000
DTEND;TZID=America/Los_Angeles:20251113T130000
DTSTAMP:20260419T063952
CREATED:20251009T215718Z
LAST-MODIFIED:20251009T215741Z
UID:11023-1763035200-1763038800@www.protec17.org
SUMMARY:Seattle Chapter Meeting
DESCRIPTION:Join your fellow PROTEC17 Seattle members for our next chapter meeting! For full details\, including how to join\, please check your personal email or the Member Portal events page HERE.
URL:https://www.protec17.org/event/seattle-chapter-meeting-17/
LOCATION:Hybrid
ATTACH;FMTTYPE=image/png:https://www.protec17.org/wp-content/uploads/2025/02/Seattle-Logo-WEB.png
END:VEVENT
END:VCALENDAR