BEGIN:VCALENDAR
VERSION:2.0
PRODID:-//PROTEC17 - ECPv6.15.17.1//NONSGML v1.0//EN
CALSCALE:GREGORIAN
METHOD:PUBLISH
X-ORIGINAL-URL:https://www.protec17.org
X-WR-CALDESC:Events for PROTEC17
REFRESH-INTERVAL;VALUE=DURATION:PT1H
X-Robots-Tag:noindex
X-PUBLISHED-TTL:PT1H
BEGIN:VTIMEZONE
TZID:America/Los_Angeles
BEGIN:DAYLIGHT
TZOFFSETFROM:-0800
TZOFFSETTO:-0700
TZNAME:PDT
DTSTART:20240310T100000
END:DAYLIGHT
BEGIN:STANDARD
TZOFFSETFROM:-0700
TZOFFSETTO:-0800
TZNAME:PST
DTSTART:20241103T090000
END:STANDARD
BEGIN:DAYLIGHT
TZOFFSETFROM:-0800
TZOFFSETTO:-0700
TZNAME:PDT
DTSTART:20250309T100000
END:DAYLIGHT
BEGIN:STANDARD
TZOFFSETFROM:-0700
TZOFFSETTO:-0800
TZNAME:PST
DTSTART:20251102T090000
END:STANDARD
BEGIN:DAYLIGHT
TZOFFSETFROM:-0800
TZOFFSETTO:-0700
TZNAME:PDT
DTSTART:20260308T100000
END:DAYLIGHT
BEGIN:STANDARD
TZOFFSETFROM:-0700
TZOFFSETTO:-0800
TZNAME:PST
DTSTART:20261101T090000
END:STANDARD
END:VTIMEZONE
BEGIN:VEVENT
DTSTART;TZID=America/Los_Angeles:20250107T114500
DTEND;TZID=America/Los_Angeles:20250107T123000
DTSTAMP:20260420T202657
CREATED:20241216T233734Z
LAST-MODIFIED:20241216T234156Z
UID:9867-1736250300-1736253000@www.protec17.org
SUMMARY:Seattle HDS ADS - Follow Up Meeting
DESCRIPTION:PROTEC17 Seattle Human Services Department (HSD) Aging and Disability Services (ADS) Division Members! Join our virtual meeting on Tues.\, Jan. 7 at 11:45.m. for a follow up meeting regarding the South King County office move and Seattle Municipal Tower (SMT) remodeling project. Please check your personal email or the Member Portal events page HERE to view all meeting details\, including how to join.
URL:https://www.protec17.org/event/seattle-hds-ads-follow-up-meeting/
LOCATION:ONLINE MEETING VIA ZOOM
ATTACH;FMTTYPE=image/png:https://www.protec17.org/wp-content/uploads/2024/09/Seattle-ADS-Division-Meeting-10.2.24-WEB.png
END:VEVENT
BEGIN:VEVENT
DTSTART;TZID=America/Los_Angeles:20250109T120000
DTEND;TZID=America/Los_Angeles:20250109T130000
DTSTAMP:20260420T202657
CREATED:20241211T231137Z
LAST-MODIFIED:20241211T231137Z
UID:9845-1736424000-1736427600@www.protec17.org
SUMMARY:Seattle Chapter Meeting
DESCRIPTION:Join your fellow PROTEC17 Seattle members for your next chapter meeting! For full details\, including how to join\, please check your personal email or the Member Portal events page HERE.
URL:https://www.protec17.org/event/seattle-chapter-meeting-9/
LOCATION:ONLINE CHAPTER MEETING VIA ZOOM
ATTACH;FMTTYPE=image/png:https://www.protec17.org/wp-content/uploads/2018/12/CityofSeattle_logo_vertical_blue-black-1-e1544562937171.png
END:VEVENT
BEGIN:VEVENT
DTSTART;TZID=America/Los_Angeles:20250123T120000
DTEND;TZID=America/Los_Angeles:20250123T130000
DTSTAMP:20260420T202657
CREATED:20241211T235535Z
LAST-MODIFIED:20250122T205041Z
UID:9857-1737633600-1737637200@www.protec17.org
SUMMARY:Seattle Steward Meeting
DESCRIPTION:Join your fellow Seattle Stewards for your next Seattle Steward Monthly Meeting! Come meet Stewards from other departments\, keep up to date\, build power together\, and more. Open to all Seattle Stewards! Please check your email for full details and meeting info. Please also note that this meeting will be recurring on every fourth Thursday of the month unless stated otherwise.
URL:https://www.protec17.org/event/seattle-steward-meeting-virtual-19/
LOCATION:ONLINE MEETING ONLY
END:VEVENT
END:VCALENDAR