BEGIN:VCALENDAR
VERSION:2.0
PRODID:-//PROTEC17 - ECPv6.15.17.1//NONSGML v1.0//EN
CALSCALE:GREGORIAN
METHOD:PUBLISH
X-ORIGINAL-URL:https://www.protec17.org
X-WR-CALDESC:Events for PROTEC17
REFRESH-INTERVAL;VALUE=DURATION:PT1H
X-Robots-Tag:noindex
X-PUBLISHED-TTL:PT1H
BEGIN:VTIMEZONE
TZID:America/Los_Angeles
BEGIN:DAYLIGHT
TZOFFSETFROM:-0800
TZOFFSETTO:-0700
TZNAME:PDT
DTSTART:20240310T100000
END:DAYLIGHT
BEGIN:STANDARD
TZOFFSETFROM:-0700
TZOFFSETTO:-0800
TZNAME:PST
DTSTART:20241103T090000
END:STANDARD
BEGIN:DAYLIGHT
TZOFFSETFROM:-0800
TZOFFSETTO:-0700
TZNAME:PDT
DTSTART:20250309T100000
END:DAYLIGHT
BEGIN:STANDARD
TZOFFSETFROM:-0700
TZOFFSETTO:-0800
TZNAME:PST
DTSTART:20251102T090000
END:STANDARD
BEGIN:DAYLIGHT
TZOFFSETFROM:-0800
TZOFFSETTO:-0700
TZNAME:PDT
DTSTART:20260308T100000
END:DAYLIGHT
BEGIN:STANDARD
TZOFFSETFROM:-0700
TZOFFSETTO:-0800
TZNAME:PST
DTSTART:20261101T090000
END:STANDARD
END:VTIMEZONE
BEGIN:VEVENT
DTSTART;TZID=America/Los_Angeles:20250304T120000
DTEND;TZID=America/Los_Angeles:20250304T130000
DTSTAMP:20260417T140608
CREATED:20250213T201951Z
LAST-MODIFIED:20250213T201951Z
UID:10066-1741089600-1741093200@www.protec17.org
SUMMARY:Portland Chapter Meeting
DESCRIPTION:Please join your fellow PROTEC17 Portland Chapter members for a chapter meeting. Please note that first Tuesday meetings have a hybrid option. Check your personal email or the Member Portal events page here for more details\, including how to join. Hope to see you there!
URL:https://www.protec17.org/event/portland-chapter-meeting-18/
LOCATION:Hybrid
ATTACH;FMTTYPE=image/png:https://www.protec17.org/wp-content/uploads/2018/12/Portland.png
ORGANIZER;CN="Rachel Whiteside":MAILTO:rachel@protec17.org
END:VEVENT
BEGIN:VEVENT
DTSTART;TZID=America/Los_Angeles:20250311T120000
DTEND;TZID=America/Los_Angeles:20250311T130000
DTSTAMP:20260417T140608
CREATED:20250305T222744Z
LAST-MODIFIED:20250305T223319Z
UID:10141-1741694400-1741698000@www.protec17.org
SUMMARY:Portland Brownbag Series: Seniority\, Bumping\, & Redeployment - Session 1 (Hybrid)
DESCRIPTION:PROTEC17 Portland members\, join us for an opportunity to answer all your questions on seniority\, bumping\, and possible redeployment opportunities! The brownbag series will have three identical sessions to accommodate for different schedules (March 11\, 12\, and 19). The first and third options will be hybrid\, with an in-person and virtual option\, and the second session will be completely virtual. \nThese sessions will be led by Stewards who are experienced with our contract language on reductions in workforce and are helpful for all Stewards or anyone with a position impacted by cuts or just curious to know more. Additional sessions may be added later in the spring as we move through the budget process. Please check your personal email or the Member Portal events page HERE for full meeting details/links.
URL:https://www.protec17.org/event/portland-brownbag-series-seniority-bumping-redeployment-session-1/
LOCATION:ONLINE MEETING VIA ZOOM
ATTACH;FMTTYPE=image/png:https://www.protec17.org/wp-content/uploads/2025/03/Portland-Brownbag-Series-WEB.png
ORGANIZER;CN="Rachel Whiteside":MAILTO:rachel@protec17.org
END:VEVENT
BEGIN:VEVENT
DTSTART;TZID=America/Los_Angeles:20250312T170000
DTEND;TZID=America/Los_Angeles:20250312T180000
DTSTAMP:20260417T140608
CREATED:20250305T223212Z
LAST-MODIFIED:20250305T223839Z
UID:10146-1741798800-1741802400@www.protec17.org
SUMMARY:Portland Brownbag Series: Seniority\, Bumping\, & Redeployment - Session 2 (Virtual)
DESCRIPTION:PROTEC17 Portland members\, join us for an opportunity to answer all your questions on seniority\, bumping\, and possible redeployment opportunities! The brownbag series will have three identical sessions to accommodate for different schedules (March 11\, 12\, and 19). The first and third options will be hybrid\, with an in-person and virtual option\, and the second session will be completely virtual. \nThese sessions will be led by Stewards who are experienced with our contract language on reductions in workforce and are helpful for all Stewards or anyone with a position impacted by cuts or just curious to know more. Additional sessions may be added later in the spring as we move through the budget process. Please check your personal email or the Member Portal events page HERE for full meeting details/links.
URL:https://www.protec17.org/event/portland-brownbag-series-seniority-bumping-redeployment-session-2-virtual/
LOCATION:ONLINE MEETING VIA ZOOM
ATTACH;FMTTYPE=image/png:https://www.protec17.org/wp-content/uploads/2025/03/Portland-Brownbag-Series-WEB.png
ORGANIZER;CN="Rachel Whiteside":MAILTO:rachel@protec17.org
END:VEVENT
BEGIN:VEVENT
DTSTART;TZID=America/Los_Angeles:20250319T120000
DTEND;TZID=America/Los_Angeles:20250319T130000
DTSTAMP:20260417T140608
CREATED:20250305T223259Z
LAST-MODIFIED:20250305T223259Z
UID:10151-1742385600-1742389200@www.protec17.org
SUMMARY:Portland Brownbag Series: Seniority\, Bumping\, & Redeployment - Session 3 (Hybrid)
DESCRIPTION:PROTEC17 Portland members\, join us for an opportunity to answer all your questions on seniority\, bumping\, and possible redeployment opportunities! The brownbag series will have three identical sessions to accommodate for different schedules (March 11\, 12\, and 19). The first and third options will be hybrid\, with an in-person and virtual option\, and the second session will be completely virtual. \nThese sessions will be led by Stewards who are experienced with our contract language on reductions in workforce and are helpful for all Stewards or anyone with a position impacted by cuts or just curious to know more. Additional sessions may be added later in the spring as we move through the budget process. Please check your personal email or the Member Portal events page HERE for full meeting details/links.
URL:https://www.protec17.org/event/portland-brownbag-series-seniority-bumping-redeployment-session-3-hybrid/
LOCATION:ONLINE MEETING VIA ZOOM
ATTACH;FMTTYPE=image/png:https://www.protec17.org/wp-content/uploads/2025/03/Portland-Brownbag-Series-WEB.png
ORGANIZER;CN="Rachel Whiteside":MAILTO:rachel@protec17.org
END:VEVENT
BEGIN:VEVENT
DTSTART;TZID=America/Los_Angeles:20250319T170000
DTEND;TZID=America/Los_Angeles:20250319T180000
DTSTAMP:20260417T140608
CREATED:20250213T203744Z
LAST-MODIFIED:20250213T203744Z
UID:10068-1742403600-1742407200@www.protec17.org
SUMMARY:Portland Chapter Meeting
DESCRIPTION:Join your fellow PROTEC17 members at the next Portland Chapter meeting! We will gather virtually via Zoom. Please check your personal email or the Member Portal events page HERE for meeting info/links.
URL:https://www.protec17.org/event/portland-chapter-meeting-19/
LOCATION:ONLINE MEETING VIA ZOOM
ATTACH;FMTTYPE=image/png:https://www.protec17.org/wp-content/uploads/2018/12/Portland.png
ORGANIZER;CN="Rachel Whiteside":MAILTO:rachel@protec17.org
END:VEVENT
END:VCALENDAR