BEGIN:VCALENDAR
VERSION:2.0
PRODID:-//PROTEC17 - ECPv6.15.17.1//NONSGML v1.0//EN
CALSCALE:GREGORIAN
METHOD:PUBLISH
X-ORIGINAL-URL:https://www.protec17.org
X-WR-CALDESC:Events for PROTEC17
REFRESH-INTERVAL;VALUE=DURATION:PT1H
X-Robots-Tag:noindex
X-PUBLISHED-TTL:PT1H
BEGIN:VTIMEZONE
TZID:America/Los_Angeles
BEGIN:DAYLIGHT
TZOFFSETFROM:-0800
TZOFFSETTO:-0700
TZNAME:PDT
DTSTART:20240310T100000
END:DAYLIGHT
BEGIN:STANDARD
TZOFFSETFROM:-0700
TZOFFSETTO:-0800
TZNAME:PST
DTSTART:20241103T090000
END:STANDARD
BEGIN:DAYLIGHT
TZOFFSETFROM:-0800
TZOFFSETTO:-0700
TZNAME:PDT
DTSTART:20250309T100000
END:DAYLIGHT
BEGIN:STANDARD
TZOFFSETFROM:-0700
TZOFFSETTO:-0800
TZNAME:PST
DTSTART:20251102T090000
END:STANDARD
BEGIN:DAYLIGHT
TZOFFSETFROM:-0800
TZOFFSETTO:-0700
TZNAME:PDT
DTSTART:20260308T100000
END:DAYLIGHT
BEGIN:STANDARD
TZOFFSETFROM:-0700
TZOFFSETTO:-0800
TZNAME:PST
DTSTART:20261101T090000
END:STANDARD
END:VTIMEZONE
BEGIN:VEVENT
DTSTART;TZID=America/Los_Angeles:20250805T120000
DTEND;TZID=America/Los_Angeles:20250805T130000
DTSTAMP:20260422T072040
CREATED:20250731T222341Z
LAST-MODIFIED:20250731T222341Z
UID:10722-1754395200-1754398800@www.protec17.org
SUMMARY:Portland Chapter Meeting
DESCRIPTION:Please join your fellow PROTEC17 Portland Chapter members for a chapter meeting. Please note that first Tuesday meetings have a hybrid option. Check your personal email or the Member Portal events page HERE for more details\, including how to join. Hope to see you there!
URL:https://www.protec17.org/event/portland-chapter-meeting-29/
LOCATION:Hybrid
ATTACH;FMTTYPE=image/png:https://www.protec17.org/wp-content/uploads/2018/12/Portland.png
ORGANIZER;CN="Rachel Whiteside":MAILTO:rachel@protec17.org
END:VEVENT
BEGIN:VEVENT
DTSTART;TZID=America/Los_Angeles:20250813T120000
DTEND;TZID=America/Los_Angeles:20250813T130000
DTSTAMP:20260422T072040
CREATED:20250731T231550Z
LAST-MODIFIED:20250731T231550Z
UID:10729-1755086400-1755090000@www.protec17.org
SUMMARY:WSDOT Chapter Meeting
DESCRIPTION:Join your fellow WSDOT members for our next chapter meeting! Detailed information on how to join this online meeting\, including how to get into the meeting\, can be found in your personal email or under the “Events” section in the Member Portal HERE. Hope to see you all there!
URL:https://www.protec17.org/event/wsdot-chapter-meeting-12/
LOCATION:ONLINE CHAPTER MEETING VIA ZOOM
ATTACH;FMTTYPE=image/png:https://www.protec17.org/wp-content/uploads/2025/02/WSDOT-Logo-WEB.png
ORGANIZER;CN="Sarah Lorenzini":MAILTO:sarah@protec17.org
END:VEVENT
BEGIN:VEVENT
DTSTART;TZID=America/Los_Angeles:20250814T120000
DTEND;TZID=America/Los_Angeles:20250814T130000
DTSTAMP:20260422T072040
CREATED:20250731T231235Z
LAST-MODIFIED:20250812T170046Z
UID:10727-1755172800-1755176400@www.protec17.org
SUMMARY:Seattle Chapter Meeting
DESCRIPTION:Join your fellow PROTEC17 Seattle members for our next chapter meeting. For full details\, including how to join\, please check your personal email or the Member Portal events page HERE.
URL:https://www.protec17.org/event/seattle-chapter-meeting-hybrid-2/
ATTACH;FMTTYPE=image/png:https://www.protec17.org/wp-content/uploads/2025/02/Seattle-Logo-WEB.png
END:VEVENT
BEGIN:VEVENT
DTSTART;TZID=America/Los_Angeles:20250820T170000
DTEND;TZID=America/Los_Angeles:20250820T180000
DTSTAMP:20260422T072040
CREATED:20250731T223355Z
LAST-MODIFIED:20250731T223355Z
UID:10724-1755709200-1755712800@www.protec17.org
SUMMARY:Portland Chapter Meeting
DESCRIPTION:Join your fellow PROTEC17 members at the next Portland Chapter meeting! This meeting will be hybrid — feel free to join us in-person or online! You can find full details and links in your personal email or the Member Portal events page HERE.
URL:https://www.protec17.org/event/portland-chapter-meeting-30/
LOCATION:ONLINE MEETING VIA ZOOM
ATTACH;FMTTYPE=image/png:https://www.protec17.org/wp-content/uploads/2018/12/Portland.png
ORGANIZER;CN="Rachel Whiteside":MAILTO:rachel@protec17.org
END:VEVENT
BEGIN:VEVENT
DTSTART;TZID=America/Los_Angeles:20250821T173000
DTEND;TZID=America/Los_Angeles:20250821T183000
DTSTAMP:20260422T072040
CREATED:20250801T001058Z
LAST-MODIFIED:20250801T001058Z
UID:10746-1755797400-1755801000@www.protec17.org
SUMMARY:Snohomish County Chapter Meeting
DESCRIPTION:Join your fellow PROTEC17 Snohomish County union siblings for our next virtual chapter meeting! Chapter meetings take place every other month on the third Thursday at 5:30 p.m. unless stated otherwise. Hope to see you there! Full details\, including how to join\, in your personal email or the Member Portal events page.
URL:https://www.protec17.org/event/snohomish-county-chapter-meeting-4/
LOCATION:ONLINE CHAPTER MEETING VIA ZOOM
ATTACH;FMTTYPE=image/png:https://www.protec17.org/wp-content/uploads/2021/08/Snohomish-County-Logo.png
END:VEVENT
END:VCALENDAR