BEGIN:VCALENDAR
VERSION:2.0
PRODID:-//PROTEC17 - ECPv6.15.17.1//NONSGML v1.0//EN
CALSCALE:GREGORIAN
METHOD:PUBLISH
X-WR-CALNAME:PROTEC17
X-ORIGINAL-URL:https://www.protec17.org
X-WR-CALDESC:Events for PROTEC17
REFRESH-INTERVAL;VALUE=DURATION:PT1H
X-Robots-Tag:noindex
X-PUBLISHED-TTL:PT1H
BEGIN:VTIMEZONE
TZID:America/Los_Angeles
BEGIN:DAYLIGHT
TZOFFSETFROM:-0800
TZOFFSETTO:-0700
TZNAME:PDT
DTSTART:20240310T100000
END:DAYLIGHT
BEGIN:STANDARD
TZOFFSETFROM:-0700
TZOFFSETTO:-0800
TZNAME:PST
DTSTART:20241103T090000
END:STANDARD
BEGIN:DAYLIGHT
TZOFFSETFROM:-0800
TZOFFSETTO:-0700
TZNAME:PDT
DTSTART:20250309T100000
END:DAYLIGHT
BEGIN:STANDARD
TZOFFSETFROM:-0700
TZOFFSETTO:-0800
TZNAME:PST
DTSTART:20251102T090000
END:STANDARD
BEGIN:DAYLIGHT
TZOFFSETFROM:-0800
TZOFFSETTO:-0700
TZNAME:PDT
DTSTART:20260308T100000
END:DAYLIGHT
BEGIN:STANDARD
TZOFFSETFROM:-0700
TZOFFSETTO:-0800
TZNAME:PST
DTSTART:20261101T090000
END:STANDARD
END:VTIMEZONE
BEGIN:VEVENT
DTSTART;TZID=America/Los_Angeles:20250603T120000
DTEND;TZID=America/Los_Angeles:20250603T130000
DTSTAMP:20260420T194446
CREATED:20250506T231151Z
LAST-MODIFIED:20250506T231151Z
UID:10395-1748952000-1748955600@www.protec17.org
SUMMARY:Portland Chapter Meeting
DESCRIPTION:Please join your fellow PROTEC17 Portland Chapter members for a chapter meeting. Please note that first Tuesday meetings have a hybrid option. Check your personal email or the Member Portal events page HERE for more details\, including how to join. Hope to see you there!
URL:https://www.protec17.org/event/portland-chapter-meeting-25/
LOCATION:Hybrid
ATTACH;FMTTYPE=image/png:https://www.protec17.org/wp-content/uploads/2018/12/Portland.png
ORGANIZER;CN="Rachel Whiteside":MAILTO:rachel@protec17.org
END:VEVENT
BEGIN:VEVENT
DTSTART;TZID=America/Los_Angeles:20250611T120000
DTEND;TZID=America/Los_Angeles:20250611T130000
DTSTAMP:20260420T194446
CREATED:20250506T232057Z
LAST-MODIFIED:20250506T232057Z
UID:10402-1749643200-1749646800@www.protec17.org
SUMMARY:WSDOT Chapter Meeting
DESCRIPTION:Join your fellow WSDOT members for our next chapter meeting! Detailed information on how to join this online meeting\, including how to get into the meeting\, can be found in your personal email or under the “Events” section in the Member Portal HERE. Hope to see you all there!
URL:https://www.protec17.org/event/wsdot-chapter-meeting-11/
LOCATION:ONLINE CHAPTER MEETING VIA ZOOM
ATTACH;FMTTYPE=image/png:https://www.protec17.org/wp-content/uploads/2025/02/WSDOT-Logo-WEB.png
ORGANIZER;CN="Sarah Lorenzini":MAILTO:sarah@protec17.org
END:VEVENT
BEGIN:VEVENT
DTSTART;TZID=America/Los_Angeles:20250612T120000
DTEND;TZID=America/Los_Angeles:20250612T130000
DTSTAMP:20260420T194446
CREATED:20250506T231838Z
LAST-MODIFIED:20250506T231838Z
UID:10400-1749729600-1749733200@www.protec17.org
SUMMARY:Seattle Chapter Meeting
DESCRIPTION:Join your fellow PROTEC17 Seattle members for your next chapter meeting! For full details\, including how to join\, please check your personal email or the Member Portal events page HERE.
URL:https://www.protec17.org/event/seattle-chapter-meeting-14/
LOCATION:ONLINE CHAPTER MEETING VIA ZOOM
ATTACH;FMTTYPE=image/png:https://www.protec17.org/wp-content/uploads/2025/02/Seattle-Logo-WEB.png
END:VEVENT
BEGIN:VEVENT
DTSTART;TZID=America/Los_Angeles:20250612T173000
DTEND;TZID=America/Los_Angeles:20250612T183000
DTSTAMP:20260420T194446
CREATED:20250508T183519Z
LAST-MODIFIED:20250508T183519Z
UID:10437-1749749400-1749753000@www.protec17.org
SUMMARY:Snohomish County Chapter Meeting
DESCRIPTION:Join your fellow PROTEC17 Snohomish County union siblings for our next virtual chapter meeting! Chapter meetings typically take place every other month on the third Thursday at 5:30 p.m.\, but June’s meeting will take place on Thurs.\, June 12 (at the same time) to accommodate for the Juneteenth holiday. Hope to see you there! Full details\, including how to join\, in your personal email or the Member Portal events page.
URL:https://www.protec17.org/event/snohomish-county-chapter-meeting-3/
LOCATION:ONLINE CHAPTER MEETING VIA ZOOM
ATTACH;FMTTYPE=image/png:https://www.protec17.org/wp-content/uploads/2021/08/Snohomish-County-Logo.png
END:VEVENT
BEGIN:VEVENT
DTSTART;TZID=America/Los_Angeles:20250617T120000
DTEND;TZID=America/Los_Angeles:20250617T130000
DTSTAMP:20260420T194446
CREATED:20250506T232444Z
LAST-MODIFIED:20250506T232444Z
UID:10406-1750161600-1750165200@www.protec17.org
SUMMARY:Benton-Franklin Chapter Meeting
DESCRIPTION:Join your fellow PROTEC17 Benton-Franklin Health District (BFHD) members for your next chapter meeting! BFHD chapter meetings take place every third Tuesday of the month. Please check your personal email or the Member Portal events page HERE for full details and links.
URL:https://www.protec17.org/event/benton-franklin-chapter-meeting-8/
LOCATION:BFHD Spruce Room
ATTACH;FMTTYPE=image/png:https://www.protec17.org/wp-content/uploads/2025/02/BFHD-Logo-WEB.png
END:VEVENT
BEGIN:VEVENT
DTSTART;TZID=America/Los_Angeles:20250618T170000
DTEND;TZID=America/Los_Angeles:20250618T180000
DTSTAMP:20260420T194446
CREATED:20250506T231553Z
LAST-MODIFIED:20250529T230924Z
UID:10397-1750266000-1750269600@www.protec17.org
SUMMARY:Portland Chapter Meeting
DESCRIPTION:Join your fellow PROTEC17 members at the next Portland Chapter meeting! As we’re experimenting with offering a hybrid option for our third Wednesday meetings\, we will keep this one to just virtual due to the Juneteenth holiday. You can find full details and links in your personal email or the Member Portal events page HERE.
URL:https://www.protec17.org/event/portland-chapter-meeting-26/
LOCATION:ONLINE MEETING VIA ZOOM
ATTACH;FMTTYPE=image/png:https://www.protec17.org/wp-content/uploads/2018/12/Portland.png
ORGANIZER;CN="Rachel Whiteside":MAILTO:rachel@protec17.org
END:VEVENT
BEGIN:VEVENT
DTSTART;TZID=America/Los_Angeles:20250625T120000
DTEND;TZID=America/Los_Angeles:20250625T130000
DTSTAMP:20260420T194446
CREATED:20250506T233224Z
LAST-MODIFIED:20250506T233224Z
UID:10410-1750852800-1750856400@www.protec17.org
SUMMARY:King County Chapter Meeting
DESCRIPTION:PROTEC17 King County Chapter members\, join your union siblings for our next virtual chapter meeting on Zoom. For full details\, including how to join\, please check your email or the Member Portal events page HERE for full details\, including how to access the meeting.
URL:https://www.protec17.org/event/king-county-chapter-meeting-18/
LOCATION:ONLINE CHAPTER MEETING VIA ZOOM
ATTACH;FMTTYPE=image/png:https://www.protec17.org/wp-content/uploads/2024/11/King-County-WEB.png
END:VEVENT
END:VCALENDAR