BEGIN:VCALENDAR
VERSION:2.0
PRODID:-//PROTEC17 - ECPv6.15.17.1//NONSGML v1.0//EN
CALSCALE:GREGORIAN
METHOD:PUBLISH
X-WR-CALNAME:PROTEC17
X-ORIGINAL-URL:https://www.protec17.org
X-WR-CALDESC:Events for PROTEC17
REFRESH-INTERVAL;VALUE=DURATION:PT1H
X-Robots-Tag:noindex
X-PUBLISHED-TTL:PT1H
BEGIN:VTIMEZONE
TZID:America/Los_Angeles
BEGIN:DAYLIGHT
TZOFFSETFROM:-0800
TZOFFSETTO:-0700
TZNAME:PDT
DTSTART:20240310T100000
END:DAYLIGHT
BEGIN:STANDARD
TZOFFSETFROM:-0700
TZOFFSETTO:-0800
TZNAME:PST
DTSTART:20241103T090000
END:STANDARD
BEGIN:DAYLIGHT
TZOFFSETFROM:-0800
TZOFFSETTO:-0700
TZNAME:PDT
DTSTART:20250309T100000
END:DAYLIGHT
BEGIN:STANDARD
TZOFFSETFROM:-0700
TZOFFSETTO:-0800
TZNAME:PST
DTSTART:20251102T090000
END:STANDARD
BEGIN:DAYLIGHT
TZOFFSETFROM:-0800
TZOFFSETTO:-0700
TZNAME:PDT
DTSTART:20260308T100000
END:DAYLIGHT
BEGIN:STANDARD
TZOFFSETFROM:-0700
TZOFFSETTO:-0800
TZNAME:PST
DTSTART:20261101T090000
END:STANDARD
END:VTIMEZONE
BEGIN:VEVENT
DTSTART;TZID=America/Los_Angeles:20250401T120000
DTEND;TZID=America/Los_Angeles:20250401T130000
DTSTAMP:20260420T200002
CREATED:20250317T225657Z
LAST-MODIFIED:20250317T225657Z
UID:10180-1743508800-1743512400@www.protec17.org
SUMMARY:Portland Chapter Meeting
DESCRIPTION:Please join your fellow PROTEC17 Portland Chapter members for a chapter meeting. Please note that first Tuesday meetings have a hybrid option. Check your personal email or the Member Portal events page here for more details\, including how to join. Hope to see you there!
URL:https://www.protec17.org/event/portland-chapter-meeting-20/
LOCATION:Hybrid
ATTACH;FMTTYPE=image/png:https://www.protec17.org/wp-content/uploads/2018/12/Portland.png
ORGANIZER;CN="Rachel Whiteside":MAILTO:rachel@protec17.org
END:VEVENT
BEGIN:VEVENT
DTSTART;TZID=America/Los_Angeles:20250401T120000
DTEND;TZID=America/Los_Angeles:20250401T130000
DTSTAMP:20260420T200002
CREATED:20250411T223628Z
LAST-MODIFIED:20250411T223628Z
UID:10265-1743508800-1743512400@www.protec17.org
SUMMARY:Portland Chapter Meeting
DESCRIPTION:Please join your fellow PROTEC17 Portland Chapter members for a chapter meeting. Please note that first Tuesday meetings have a hybrid option. Check your personal email or the Member Portal events page here for more details\, including how to join. Hope to see you there!
URL:https://www.protec17.org/event/portland-chapter-meeting-22/
LOCATION:Hybrid
ATTACH;FMTTYPE=image/png:https://www.protec17.org/wp-content/uploads/2018/12/Portland.png
ORGANIZER;CN="Rachel Whiteside":MAILTO:rachel@protec17.org
END:VEVENT
BEGIN:VEVENT
DTSTART;TZID=America/Los_Angeles:20250409T120000
DTEND;TZID=America/Los_Angeles:20250409T130000
DTSTAMP:20260420T200002
CREATED:20250326T222305Z
LAST-MODIFIED:20250326T222305Z
UID:10211-1744200000-1744203600@www.protec17.org
SUMMARY:WSDOT Chapter Meeting
DESCRIPTION:Join your fellow WSDOT members for our next chapter meeting! Detailed information on how to join this online meeting\, including how to get into the meeting\, can be found in your personal email or under the “Events” section in the Member Portal here. Hope to see you all there!
URL:https://www.protec17.org/event/wsdot-chapter-meeting-9/
LOCATION:ONLINE CHAPTER MEETING VIA ZOOM
ATTACH;FMTTYPE=image/png:https://www.protec17.org/wp-content/uploads/2025/02/WSDOT-Logo-WEB.png
ORGANIZER;CN="Sarah Lorenzini":MAILTO:sarah@protec17.org
END:VEVENT
BEGIN:VEVENT
DTSTART;TZID=America/Los_Angeles:20250410T120000
DTEND;TZID=America/Los_Angeles:20250410T130000
DTSTAMP:20260420T200002
CREATED:20250326T220237Z
LAST-MODIFIED:20250326T220237Z
UID:10209-1744286400-1744290000@www.protec17.org
SUMMARY:Seattle Chapter Meeting
DESCRIPTION:Join your fellow PROTEC17 Seattle members for your next chapter meeting! For full details\, including how to join\, please check your personal email or the Member Portal events page HERE.
URL:https://www.protec17.org/event/seattle-chapter-meeting-12/
LOCATION:ONLINE CHAPTER MEETING VIA ZOOM
ATTACH;FMTTYPE=image/png:https://www.protec17.org/wp-content/uploads/2025/02/Seattle-Logo-WEB.png
END:VEVENT
BEGIN:VEVENT
DTSTART;TZID=America/Los_Angeles:20250415T120000
DTEND;TZID=America/Los_Angeles:20250415T130000
DTSTAMP:20260420T200002
CREATED:20250326T224211Z
LAST-MODIFIED:20250326T224211Z
UID:10215-1744718400-1744722000@www.protec17.org
SUMMARY:Benton-Franklin Chapter Meeting
DESCRIPTION:Join your fellow PROTEC17 Benton-Franklin Health District (BFHD) members for your next chapter meeting! BFHD chapter meetings take place every third Tuesday of the month. Please check your personal email or the Member Portal for full details.
URL:https://www.protec17.org/event/benton-franklin-chapter-meeting-6/
LOCATION:BFHD Spruce Room
ATTACH;FMTTYPE=image/png:https://www.protec17.org/wp-content/uploads/2025/02/BFHD-Logo-WEB.png
END:VEVENT
BEGIN:VEVENT
DTSTART;TZID=America/Los_Angeles:20250416T170000
DTEND;TZID=America/Los_Angeles:20250416T180000
DTSTAMP:20260420T200002
CREATED:20250326T214504Z
LAST-MODIFIED:20250326T214504Z
UID:10206-1744822800-1744826400@www.protec17.org
SUMMARY:Portland Chapter Meeting
DESCRIPTION:Join your fellow PROTEC17 members at the next Portland Chapter meeting! We will gather virtually via Zoom. Please check your personal email or the Member Portal events page HERE for meeting info/links.
URL:https://www.protec17.org/event/portland-chapter-meeting-21/
LOCATION:ONLINE MEETING VIA ZOOM
ATTACH;FMTTYPE=image/png:https://www.protec17.org/wp-content/uploads/2018/12/Portland.png
ORGANIZER;CN="Rachel Whiteside":MAILTO:rachel@protec17.org
END:VEVENT
BEGIN:VEVENT
DTSTART;TZID=America/Los_Angeles:20250417T173000
DTEND;TZID=America/Los_Angeles:20250417T183000
DTSTAMP:20260420T200002
CREATED:20250326T230202Z
LAST-MODIFIED:20250326T230215Z
UID:10217-1744911000-1744914600@www.protec17.org
SUMMARY:Snohomish County Chapter Meeting
DESCRIPTION:Join your fellow PROTEC17 Snohomish County union siblings for our next chapter meeting! Chapter meetings take place every other month on the third Thursday at 5:30 p.m. All meetings will take place online via Zoom. Hope to see you there! Full details\, including how to join\, in your personal email or the Member Portal events page.
URL:https://www.protec17.org/event/snohomish-county-chapter-meeting-2/
LOCATION:ONLINE CHAPTER MEETING VIA ZOOM
ATTACH;FMTTYPE=image/png:https://www.protec17.org/wp-content/uploads/2021/08/Snohomish-County-Logo.png
END:VEVENT
BEGIN:VEVENT
DTSTART;TZID=America/Los_Angeles:20250423T120000
DTEND;TZID=America/Los_Angeles:20250423T130000
DTSTAMP:20260420T200002
CREATED:20250326T234716Z
LAST-MODIFIED:20250326T234743Z
UID:10220-1745409600-1745413200@www.protec17.org
SUMMARY:King County Chapter Meeting
DESCRIPTION:PROTEC17 King County Chapter members\, join your union siblings for our next virtual chapter meeting on Zoom. For full details\, including how to join\, please check your email or the Member Portal events page for full details\, including how to access the meeting.
URL:https://www.protec17.org/event/king-county-chapter-meeting-16/
LOCATION:ONLINE CHAPTER MEETING VIA ZOOM
ATTACH;FMTTYPE=image/png:https://www.protec17.org/wp-content/uploads/2024/11/King-County-WEB.png
END:VEVENT
END:VCALENDAR