BEGIN:VCALENDAR
VERSION:2.0
PRODID:-//PROTEC17 - ECPv6.15.17.1//NONSGML v1.0//EN
CALSCALE:GREGORIAN
METHOD:PUBLISH
X-ORIGINAL-URL:https://www.protec17.org
X-WR-CALDESC:Events for PROTEC17
REFRESH-INTERVAL;VALUE=DURATION:PT1H
X-Robots-Tag:noindex
X-PUBLISHED-TTL:PT1H
BEGIN:VTIMEZONE
TZID:America/Los_Angeles
BEGIN:DAYLIGHT
TZOFFSETFROM:-0800
TZOFFSETTO:-0700
TZNAME:PDT
DTSTART:20240310T100000
END:DAYLIGHT
BEGIN:STANDARD
TZOFFSETFROM:-0700
TZOFFSETTO:-0800
TZNAME:PST
DTSTART:20241103T090000
END:STANDARD
BEGIN:DAYLIGHT
TZOFFSETFROM:-0800
TZOFFSETTO:-0700
TZNAME:PDT
DTSTART:20250309T100000
END:DAYLIGHT
BEGIN:STANDARD
TZOFFSETFROM:-0700
TZOFFSETTO:-0800
TZNAME:PST
DTSTART:20251102T090000
END:STANDARD
BEGIN:DAYLIGHT
TZOFFSETFROM:-0800
TZOFFSETTO:-0700
TZNAME:PDT
DTSTART:20260308T100000
END:DAYLIGHT
BEGIN:STANDARD
TZOFFSETFROM:-0700
TZOFFSETTO:-0800
TZNAME:PST
DTSTART:20261101T090000
END:STANDARD
END:VTIMEZONE
BEGIN:VEVENT
DTSTART;TZID=America/Los_Angeles:20250304T120000
DTEND;TZID=America/Los_Angeles:20250304T130000
DTSTAMP:20260417T142455
CREATED:20250213T201951Z
LAST-MODIFIED:20250213T201951Z
UID:10066-1741089600-1741093200@www.protec17.org
SUMMARY:Portland Chapter Meeting
DESCRIPTION:Please join your fellow PROTEC17 Portland Chapter members for a chapter meeting. Please note that first Tuesday meetings have a hybrid option. Check your personal email or the Member Portal events page here for more details\, including how to join. Hope to see you there!
URL:https://www.protec17.org/event/portland-chapter-meeting-18/
LOCATION:Hybrid
ATTACH;FMTTYPE=image/png:https://www.protec17.org/wp-content/uploads/2018/12/Portland.png
ORGANIZER;CN="Rachel Whiteside":MAILTO:rachel@protec17.org
END:VEVENT
BEGIN:VEVENT
DTSTART;TZID=America/Los_Angeles:20250312T120000
DTEND;TZID=America/Los_Angeles:20250312T130000
DTSTAMP:20260417T142455
CREATED:20250214T221415Z
LAST-MODIFIED:20250214T221415Z
UID:10081-1741780800-1741784400@www.protec17.org
SUMMARY:WSDOT Chapter Meeting
DESCRIPTION:Join your fellow WSDOT members for our next chapter meeting! Detailed information on how to join this online meeting\, including how to get into the meeting\, can be found in your personal email or under the “Events” section in the Member Portal here. Hope to see you all there!
URL:https://www.protec17.org/event/wsdot-chapter-meeting-8/
LOCATION:ONLINE CHAPTER MEETING VIA ZOOM
ATTACH;FMTTYPE=image/png:https://www.protec17.org/wp-content/uploads/2025/02/WSDOT-Logo-WEB.png
ORGANIZER;CN="Sarah Lorenzini":MAILTO:sarah@protec17.org
END:VEVENT
BEGIN:VEVENT
DTSTART;TZID=America/Los_Angeles:20250313T120000
DTEND;TZID=America/Los_Angeles:20250313T130000
DTSTAMP:20260417T142455
CREATED:20250214T220049Z
LAST-MODIFIED:20250214T221022Z
UID:10078-1741867200-1741870800@www.protec17.org
SUMMARY:Seattle Chapter Meeting
DESCRIPTION:Join your fellow PROTEC17 Seattle members for your next chapter meeting! For full details\, including how to join\, please check your personal email or the Member Portal events page HERE.
URL:https://www.protec17.org/event/seattle-chapter-meeting-11/
LOCATION:ONLINE CHAPTER MEETING VIA ZOOM
ATTACH;FMTTYPE=image/png:https://www.protec17.org/wp-content/uploads/2025/02/Seattle-Logo-WEB.png
END:VEVENT
BEGIN:VEVENT
DTSTART;TZID=America/Los_Angeles:20250318T120000
DTEND;TZID=America/Los_Angeles:20250318T130000
DTSTAMP:20260417T142455
CREATED:20250214T223514Z
LAST-MODIFIED:20250214T223514Z
UID:10087-1742299200-1742302800@www.protec17.org
SUMMARY:Benton-Franklin Chapter Meeting
DESCRIPTION:Join your fellow PROTEC17 Benton-Franklin Health District (BFHD) members for your next chapter meeting! BFHD chapter meetings take place every third Tuesday of the month. Please check your personal email or the Member Portal for full details.
URL:https://www.protec17.org/event/benton-franklin-chapter-meeting-5/
LOCATION:BFHD Spruce Room
ATTACH;FMTTYPE=image/png:https://www.protec17.org/wp-content/uploads/2025/02/BFHD-Logo-WEB.png
END:VEVENT
BEGIN:VEVENT
DTSTART;TZID=America/Los_Angeles:20250319T170000
DTEND;TZID=America/Los_Angeles:20250319T180000
DTSTAMP:20260417T142455
CREATED:20250213T203744Z
LAST-MODIFIED:20250213T203744Z
UID:10068-1742403600-1742407200@www.protec17.org
SUMMARY:Portland Chapter Meeting
DESCRIPTION:Join your fellow PROTEC17 members at the next Portland Chapter meeting! We will gather virtually via Zoom. Please check your personal email or the Member Portal events page HERE for meeting info/links.
URL:https://www.protec17.org/event/portland-chapter-meeting-19/
LOCATION:ONLINE MEETING VIA ZOOM
ATTACH;FMTTYPE=image/png:https://www.protec17.org/wp-content/uploads/2018/12/Portland.png
ORGANIZER;CN="Rachel Whiteside":MAILTO:rachel@protec17.org
END:VEVENT
BEGIN:VEVENT
DTSTART;TZID=America/Los_Angeles:20250326T120000
DTEND;TZID=America/Los_Angeles:20250326T130000
DTSTAMP:20260417T142455
CREATED:20250214T223843Z
LAST-MODIFIED:20250326T235032Z
UID:10090-1742990400-1742994000@www.protec17.org
SUMMARY:King County Chapter Meeting
DESCRIPTION:PROTEC17 King County Chapter members\, join your union siblings for our next chapter meeting on Zoom. For full details\, including how to join\, please check your email or the Member Portal events page for full details\, including how to access the meeting.
URL:https://www.protec17.org/event/king-county-chapter-meeting-15/
LOCATION:ONLINE CHAPTER MEETING VIA ZOOM
ATTACH;FMTTYPE=image/png:https://www.protec17.org/wp-content/uploads/2024/11/King-County-WEB.png
END:VEVENT
END:VCALENDAR