BEGIN:VCALENDAR
VERSION:2.0
PRODID:-//PROTEC17 - ECPv6.15.17.1//NONSGML v1.0//EN
CALSCALE:GREGORIAN
METHOD:PUBLISH
X-ORIGINAL-URL:https://www.protec17.org
X-WR-CALDESC:Events for PROTEC17
REFRESH-INTERVAL;VALUE=DURATION:PT1H
X-Robots-Tag:noindex
X-PUBLISHED-TTL:PT1H
BEGIN:VTIMEZONE
TZID:America/Los_Angeles
BEGIN:DAYLIGHT
TZOFFSETFROM:-0800
TZOFFSETTO:-0700
TZNAME:PDT
DTSTART:20240310T100000
END:DAYLIGHT
BEGIN:STANDARD
TZOFFSETFROM:-0700
TZOFFSETTO:-0800
TZNAME:PST
DTSTART:20241103T090000
END:STANDARD
BEGIN:DAYLIGHT
TZOFFSETFROM:-0800
TZOFFSETTO:-0700
TZNAME:PDT
DTSTART:20250309T100000
END:DAYLIGHT
BEGIN:STANDARD
TZOFFSETFROM:-0700
TZOFFSETTO:-0800
TZNAME:PST
DTSTART:20251102T090000
END:STANDARD
BEGIN:DAYLIGHT
TZOFFSETFROM:-0800
TZOFFSETTO:-0700
TZNAME:PDT
DTSTART:20260308T100000
END:DAYLIGHT
BEGIN:STANDARD
TZOFFSETFROM:-0700
TZOFFSETTO:-0800
TZNAME:PST
DTSTART:20261101T090000
END:STANDARD
END:VTIMEZONE
BEGIN:VEVENT
DTSTART;TZID=America/Los_Angeles:20250107T120000
DTEND;TZID=America/Los_Angeles:20250107T130000
DTSTAMP:20260422T192246
CREATED:20241211T205309Z
LAST-MODIFIED:20241211T205309Z
UID:9833-1736251200-1736254800@www.protec17.org
SUMMARY:Portland Chapter Meeting
DESCRIPTION:Please join your fellow PROTEC17 Portland Chapter members for a chapter meeting. Please note that first Tuesday meetings have a hybrid option. Check your personal email or the Member Portal events page here for more details\, including how to join. Hope to see you there!
URL:https://www.protec17.org/event/portland-chapter-meeting-14/
LOCATION:Hybrid
ATTACH;FMTTYPE=image/png:https://www.protec17.org/wp-content/uploads/2018/12/Portland.png
ORGANIZER;CN="Rachel Whiteside":MAILTO:rachel@protec17.org
END:VEVENT
BEGIN:VEVENT
DTSTART;TZID=America/Los_Angeles:20250108T120000
DTEND;TZID=America/Los_Angeles:20250108T130000
DTSTAMP:20260422T192246
CREATED:20241211T233818Z
LAST-MODIFIED:20241211T233818Z
UID:9847-1736337600-1736341200@www.protec17.org
SUMMARY:WSDOT Chapter Meeting
DESCRIPTION:Join your fellow WSDOT members for our next chapter meeting! Detailed information on how to join this online meeting\, including how to get into the meeting\, can be found in your personal email or under the “Events” section in the Member Portal here. Hope to see you all there!
URL:https://www.protec17.org/event/wsdot-chapter-meeting-6/
LOCATION:ONLINE CHAPTER MEETING VIA ZOOM
ATTACH;FMTTYPE=image/png:https://www.protec17.org/wp-content/uploads/2018/12/wsdot-logo-e1544476767123.png
ORGANIZER;CN="Sarah Lorenzini":MAILTO:sarah@protec17.org
END:VEVENT
BEGIN:VEVENT
DTSTART;TZID=America/Los_Angeles:20250109T120000
DTEND;TZID=America/Los_Angeles:20250109T130000
DTSTAMP:20260422T192246
CREATED:20241211T231137Z
LAST-MODIFIED:20241211T231137Z
UID:9845-1736424000-1736427600@www.protec17.org
SUMMARY:Seattle Chapter Meeting
DESCRIPTION:Join your fellow PROTEC17 Seattle members for your next chapter meeting! For full details\, including how to join\, please check your personal email or the Member Portal events page HERE.
URL:https://www.protec17.org/event/seattle-chapter-meeting-9/
LOCATION:ONLINE CHAPTER MEETING VIA ZOOM
ATTACH;FMTTYPE=image/png:https://www.protec17.org/wp-content/uploads/2018/12/CityofSeattle_logo_vertical_blue-black-1-e1544562937171.png
END:VEVENT
BEGIN:VEVENT
DTSTART;TZID=America/Los_Angeles:20250115T170000
DTEND;TZID=America/Los_Angeles:20250115T180000
DTSTAMP:20260422T192246
CREATED:20241211T205558Z
LAST-MODIFIED:20241211T205558Z
UID:9838-1736960400-1736964000@www.protec17.org
SUMMARY:Portland Chapter Meeting
DESCRIPTION:Join your fellow PROTEC17 members at the next Portland Chapter meeting! We will gather virtually via Zoom. \n— \nMeeting Info: \n\nJoin us online via Zoom HERE\nMeeting ID: 853 6805 7419\nPasscode: 885017\nBy phone: (253) 215-8782 with the same ID and passcode
URL:https://www.protec17.org/event/portland-chapter-meeting-15/
LOCATION:ONLINE MEETING VIA ZOOM
ATTACH;FMTTYPE=image/png:https://www.protec17.org/wp-content/uploads/2018/12/Portland.png
ORGANIZER;CN="Rachel Whiteside":MAILTO:rachel@protec17.org
END:VEVENT
BEGIN:VEVENT
DTSTART;TZID=America/Los_Angeles:20250122T120000
DTEND;TZID=America/Los_Angeles:20250122T130000
DTSTAMP:20260422T192246
CREATED:20241211T234540Z
LAST-MODIFIED:20250326T235103Z
UID:9853-1737547200-1737550800@www.protec17.org
SUMMARY:King County Chapter Meeting
DESCRIPTION:PROTEC17 King County Chapter members\, join your union siblings for our next chapter meeting on Zoom. For full details\, including how to join\, please check your email or the Member Portal events page for full details\, including how to access the meeting.
URL:https://www.protec17.org/event/king-county-chapter-meeting-13/
LOCATION:ONLINE CHAPTER MEETING VIA ZOOM
ATTACH;FMTTYPE=image/png:https://www.protec17.org/wp-content/uploads/2024/11/King-County-WEB.png
END:VEVENT
END:VCALENDAR