BEGIN:VCALENDAR
VERSION:2.0
PRODID:-//PROTEC17 - ECPv6.15.17.1//NONSGML v1.0//EN
CALSCALE:GREGORIAN
METHOD:PUBLISH
X-WR-CALNAME:PROTEC17
X-ORIGINAL-URL:https://www.protec17.org
X-WR-CALDESC:Events for PROTEC17
REFRESH-INTERVAL;VALUE=DURATION:PT1H
X-Robots-Tag:noindex
X-PUBLISHED-TTL:PT1H
BEGIN:VTIMEZONE
TZID:America/Los_Angeles
BEGIN:DAYLIGHT
TZOFFSETFROM:-0800
TZOFFSETTO:-0700
TZNAME:PDT
DTSTART:20230312T100000
END:DAYLIGHT
BEGIN:STANDARD
TZOFFSETFROM:-0700
TZOFFSETTO:-0800
TZNAME:PST
DTSTART:20231105T090000
END:STANDARD
BEGIN:DAYLIGHT
TZOFFSETFROM:-0800
TZOFFSETTO:-0700
TZNAME:PDT
DTSTART:20240310T100000
END:DAYLIGHT
BEGIN:STANDARD
TZOFFSETFROM:-0700
TZOFFSETTO:-0800
TZNAME:PST
DTSTART:20241103T090000
END:STANDARD
BEGIN:DAYLIGHT
TZOFFSETFROM:-0800
TZOFFSETTO:-0700
TZNAME:PDT
DTSTART:20250309T100000
END:DAYLIGHT
BEGIN:STANDARD
TZOFFSETFROM:-0700
TZOFFSETTO:-0800
TZNAME:PST
DTSTART:20251102T090000
END:STANDARD
END:VTIMEZONE
BEGIN:VEVENT
DTSTART;TZID=America/Los_Angeles:20241001T120000
DTEND;TZID=America/Los_Angeles:20241001T130000
DTSTAMP:20260420T113531
CREATED:20240913T232119Z
LAST-MODIFIED:20240913T232119Z
UID:9311-1727784000-1727787600@www.protec17.org
SUMMARY:Portland Chapter Meeting (Hybrid)
DESCRIPTION:Please join your fellow PROTEC17 Portland Chapter members for a chapter meeting. Please note that first Tuesday meetings have a hybrid option. Check your personal email or the Member Portal events page here for more details\, including how to join. Hope to see you there!
URL:https://www.protec17.org/event/portland-chapter-meeting-hybrid-10/
LOCATION:Hybrid
ATTACH;FMTTYPE=image/png:https://www.protec17.org/wp-content/uploads/2018/12/Portland.png
ORGANIZER;CN="Rachel Whiteside":MAILTO:rachel@protec17.org
END:VEVENT
BEGIN:VEVENT
DTSTART;TZID=America/Los_Angeles:20241009T120000
DTEND;TZID=America/Los_Angeles:20241009T130000
DTSTAMP:20260420T113531
CREATED:20240913T233544Z
LAST-MODIFIED:20240913T233544Z
UID:9316-1728475200-1728478800@www.protec17.org
SUMMARY:WSDOT Chapter Meeting (Virtual)
DESCRIPTION:Join your fellow WSDOT members for our next chapter meeting! Detailed information on how to join this online meeting\, including how to get into the meeting\, can be found in your personal email or under the “Events” section in the Member Portal here. Hope to see you all there!
URL:https://www.protec17.org/event/wsdot-chapter-meeting-virtual-20/
LOCATION:ONLINE CHAPTER MEETING VIA ZOOM
ATTACH;FMTTYPE=image/png:https://www.protec17.org/wp-content/uploads/2018/12/wsdot-logo-e1544476767123.png
ORGANIZER;CN="Sarah Lorenzini":MAILTO:sarah@protec17.org
END:VEVENT
BEGIN:VEVENT
DTSTART;TZID=America/Los_Angeles:20241010T120000
DTEND;TZID=America/Los_Angeles:20241010T130000
DTSTAMP:20260420T113531
CREATED:20240913T233304Z
LAST-MODIFIED:20240913T233304Z
UID:9314-1728561600-1728565200@www.protec17.org
SUMMARY:Seattle Chapter Meeting (Virtual)
DESCRIPTION:Join your fellow PROTEC17 Seattle members for your next chapter meeting! For full details\, including how to join\, please check your personal email or the Member Portal events page HERE.
URL:https://www.protec17.org/event/seattle-chapter-meeting-virtual-19/
LOCATION:ONLINE CHAPTER MEETING VIA ZOOM
ATTACH;FMTTYPE=image/png:https://www.protec17.org/wp-content/uploads/2018/12/CityofSeattle_logo_vertical_blue-black-1-e1544562937171.png
END:VEVENT
BEGIN:VEVENT
DTSTART;TZID=America/Los_Angeles:20241015T120000
DTEND;TZID=America/Los_Angeles:20241015T130000
DTSTAMP:20260420T113531
CREATED:20240808T205007Z
LAST-MODIFIED:20240913T235838Z
UID:9061-1728993600-1728997200@www.protec17.org
SUMMARY:Benton-Franklin Chapter Meeting (In-Person)
DESCRIPTION:Join your fellow PROTEC17 Benton-Franklin Health District (BFHD) members for your next chapter meeting! BFHD chapter meetings take place every third Tuesday of the month. Please check your personal email or the Member Portal for full details.
URL:https://www.protec17.org/event/benton-franklin-chapter-meeting-in-person-8/
LOCATION:BFHD Spruce Room
ATTACH;FMTTYPE=image/png:https://www.protec17.org/wp-content/uploads/2018/12/bfhd-e1544137658946.png
END:VEVENT
BEGIN:VEVENT
DTSTART;TZID=America/Los_Angeles:20241016T170000
DTEND;TZID=America/Los_Angeles:20241016T180000
DTSTAMP:20260420T113531
CREATED:20241021T204703Z
LAST-MODIFIED:20241021T204703Z
UID:9587-1729098000-1729101600@www.protec17.org
SUMMARY:Portland Chapter Meeting (Virtual)
DESCRIPTION:Please join your fellow PROTEC17 Portland Chapter members for a chapter meeting. Check your personal email or the Member Portal events page here for more details\, including how to join. Hope to see you there!
URL:https://www.protec17.org/event/portland-chapter-meeting-virtual-28/
LOCATION:ONLINE CHAPTER MEETING VIA ZOOM
ATTACH;FMTTYPE=image/png:https://www.protec17.org/wp-content/uploads/2018/12/Portland.png
ORGANIZER;CN="Rachel Whiteside":MAILTO:rachel@protec17.org
END:VEVENT
BEGIN:VEVENT
DTSTART;TZID=America/Los_Angeles:20241023T120000
DTEND;TZID=America/Los_Angeles:20241023T130000
DTSTAMP:20260420T113531
CREATED:20240914T000549Z
LAST-MODIFIED:20240914T000549Z
UID:9321-1729684800-1729688400@www.protec17.org
SUMMARY:King County Chapter Meeting (Virtual)
DESCRIPTION:PROTEC17 King County Chapter members\, join your union siblings for our monthly chapter meetings every fourth Wednesday of the month from 12-1 p.m. via Zoom. For full details\, including how to join\, please check your email or the Member Portal events page for full details\, including how to access the meeting.
URL:https://www.protec17.org/event/king-county-chapter-meeting-virtual-14/
LOCATION:ONLINE CHAPTER MEETING VIA ZOOM
ATTACH;FMTTYPE=image/png:https://www.protec17.org/wp-content/uploads/2018/12/KC-logo-square.png
END:VEVENT
END:VCALENDAR