BEGIN:VCALENDAR
VERSION:2.0
PRODID:-//PROTEC17 - ECPv6.15.17.1//NONSGML v1.0//EN
CALSCALE:GREGORIAN
METHOD:PUBLISH
X-ORIGINAL-URL:https://www.protec17.org
X-WR-CALDESC:Events for PROTEC17
REFRESH-INTERVAL;VALUE=DURATION:PT1H
X-Robots-Tag:noindex
X-PUBLISHED-TTL:PT1H
BEGIN:VTIMEZONE
TZID:America/Los_Angeles
BEGIN:DAYLIGHT
TZOFFSETFROM:-0800
TZOFFSETTO:-0700
TZNAME:PDT
DTSTART:20230312T100000
END:DAYLIGHT
BEGIN:STANDARD
TZOFFSETFROM:-0700
TZOFFSETTO:-0800
TZNAME:PST
DTSTART:20231105T090000
END:STANDARD
BEGIN:DAYLIGHT
TZOFFSETFROM:-0800
TZOFFSETTO:-0700
TZNAME:PDT
DTSTART:20240310T100000
END:DAYLIGHT
BEGIN:STANDARD
TZOFFSETFROM:-0700
TZOFFSETTO:-0800
TZNAME:PST
DTSTART:20241103T090000
END:STANDARD
BEGIN:DAYLIGHT
TZOFFSETFROM:-0800
TZOFFSETTO:-0700
TZNAME:PDT
DTSTART:20250309T100000
END:DAYLIGHT
BEGIN:STANDARD
TZOFFSETFROM:-0700
TZOFFSETTO:-0800
TZNAME:PST
DTSTART:20251102T090000
END:STANDARD
END:VTIMEZONE
BEGIN:VEVENT
DTSTART;TZID=America/Los_Angeles:20240806T120000
DTEND;TZID=America/Los_Angeles:20240806T130000
DTSTAMP:20260420T205631
CREATED:20240709T201456Z
LAST-MODIFIED:20240709T201456Z
UID:8931-1722945600-1722949200@www.protec17.org
SUMMARY:Portland Chapter Meeting (Hybrid)
DESCRIPTION:Please join your fellow PROTEC17 Portland Chapter members for a chapter meeting. Please note that first Tuesday meetings have a hybrid option. Check your personal email or the Member Portal events page here for more details\, including how to join. Hope to see you there!
URL:https://www.protec17.org/event/portland-chapter-meeting-hybrid-8/
LOCATION:Hybrid
ATTACH;FMTTYPE=image/png:https://www.protec17.org/wp-content/uploads/2018/12/Portland.png
ORGANIZER;CN="Rachel Whiteside":MAILTO:rachel@protec17.org
END:VEVENT
BEGIN:VEVENT
DTSTART;TZID=America/Los_Angeles:20240808T120000
DTEND;TZID=America/Los_Angeles:20240808T130000
DTSTAMP:20260420T205631
CREATED:20240709T204844Z
LAST-MODIFIED:20240709T204844Z
UID:8935-1723118400-1723122000@www.protec17.org
SUMMARY:Seattle Chapter Meeting (Virtual)
DESCRIPTION:Join your fellow PROTEC17 Seattle members for your next chapter meeting! For full details\, including how to join\, please check your personal email or the Member Portal events page HERE. \n  \n 
URL:https://www.protec17.org/event/seattle-chapter-meeting-virtual-17/
LOCATION:ONLINE CHAPTER MEETING VIA ZOOM
ATTACH;FMTTYPE=image/png:https://www.protec17.org/wp-content/uploads/2018/12/CityofSeattle_logo_vertical_blue-black-1-e1544562937171.png
END:VEVENT
BEGIN:VEVENT
DTSTART;TZID=America/Los_Angeles:20240814T120000
DTEND;TZID=America/Los_Angeles:20240814T130000
DTSTAMP:20260420T205631
CREATED:20240709T224919Z
LAST-MODIFIED:20240709T224919Z
UID:8937-1723636800-1723640400@www.protec17.org
SUMMARY:WSDOT Chapter Meeting (Virtual)
DESCRIPTION:Join your fellow WSDOT members for our next chapter meeting! Detailed information on how to join this online meeting\, including how to get into the meeting\, can be found in your personal email or under the “Events” section in the Member Portal here. Hope to see you all there!
URL:https://www.protec17.org/event/wsdot-chapter-meeting-virtual-18/
LOCATION:ONLINE CHAPTER MEETING VIA ZOOM
ATTACH;FMTTYPE=image/png:https://www.protec17.org/wp-content/uploads/2018/12/wsdot-logo-e1544476767123.png
ORGANIZER;CN="Sarah Lorenzini":MAILTO:sarah@protec17.org
END:VEVENT
BEGIN:VEVENT
DTSTART;TZID=America/Los_Angeles:20240821T170000
DTEND;TZID=America/Los_Angeles:20240821T180000
DTSTAMP:20260420T205631
CREATED:20240709T204521Z
LAST-MODIFIED:20240709T204521Z
UID:8933-1724259600-1724263200@www.protec17.org
SUMMARY:Portland Chapter Meeting (Virtual)
DESCRIPTION:Please join your fellow PROTEC17 Portland Chapter members for a chapter meeting. Check your personal email or the Member Portal events page here for more details\, including how to join. Hope to see you there!
URL:https://www.protec17.org/event/portland-chapter-meeting-virtual-26/
LOCATION:ONLINE CHAPTER MEETING VIA ZOOM
ATTACH;FMTTYPE=image/png:https://www.protec17.org/wp-content/uploads/2018/12/Portland.png
ORGANIZER;CN="Rachel Whiteside":MAILTO:rachel@protec17.org
END:VEVENT
BEGIN:VEVENT
DTSTART;TZID=America/Los_Angeles:20240827T120000
DTEND;TZID=America/Los_Angeles:20240827T130000
DTSTAMP:20260420T205631
CREATED:20240712T184914Z
LAST-MODIFIED:20240813T173119Z
UID:8947-1724760000-1724763600@www.protec17.org
SUMMARY:Benton-Franklin Chapter Meeting (In-Person)
DESCRIPTION:Instead of our typical monthly third Tuesday meeting\, join your fellow PROTEC17 Benton-Franklin Health District (BFHD) members for our next chapter meeting Tues.\, Aug. 27 at 12 p.m. Please check your personal email or the Member Portal for full details.
URL:https://www.protec17.org/event/benton-franklin-chapter-meeting-in-person-7/
LOCATION:BFHD Spruce Room
ATTACH;FMTTYPE=image/png:https://www.protec17.org/wp-content/uploads/2018/12/bfhd-e1544137658946.png
END:VEVENT
BEGIN:VEVENT
DTSTART;TZID=America/Los_Angeles:20240828T120000
DTEND;TZID=America/Los_Angeles:20240828T130000
DTSTAMP:20260420T205631
CREATED:20240712T204447Z
LAST-MODIFIED:20240822T181456Z
UID:8949-1724846400-1724850000@www.protec17.org
SUMMARY:King County Chapter Meeting (Virtual)
DESCRIPTION:PROTEC17 King County Chapter members\, join your union siblings for our monthly chapter meetings every fourth Wednesday of the month from 12-1 p.m. via Zoom. For full details\, including how to join\, please check your email or the Member Portal events page for full details\, including how to access the meeting. \nPLEASE NOTE THAT ZOOM LINK/VIRTUAL MEETING INFO HAS BEEN UPDATED ON AUG. 22.
URL:https://www.protec17.org/event/king-county-chapter-meeting-virtual-12/
LOCATION:ONLINE CHAPTER MEETING VIA ZOOM
ATTACH;FMTTYPE=image/png:https://www.protec17.org/wp-content/uploads/2018/12/KC-logo-square.png
END:VEVENT
END:VCALENDAR