BEGIN:VCALENDAR
VERSION:2.0
PRODID:-//PROTEC17 - ECPv6.15.17.1//NONSGML v1.0//EN
CALSCALE:GREGORIAN
METHOD:PUBLISH
X-WR-CALNAME:PROTEC17
X-ORIGINAL-URL:https://www.protec17.org
X-WR-CALDESC:Events for PROTEC17
REFRESH-INTERVAL;VALUE=DURATION:PT1H
X-Robots-Tag:noindex
X-PUBLISHED-TTL:PT1H
BEGIN:VTIMEZONE
TZID:America/Los_Angeles
BEGIN:DAYLIGHT
TZOFFSETFROM:-0800
TZOFFSETTO:-0700
TZNAME:PDT
DTSTART:20230312T100000
END:DAYLIGHT
BEGIN:STANDARD
TZOFFSETFROM:-0700
TZOFFSETTO:-0800
TZNAME:PST
DTSTART:20231105T090000
END:STANDARD
BEGIN:DAYLIGHT
TZOFFSETFROM:-0800
TZOFFSETTO:-0700
TZNAME:PDT
DTSTART:20240310T100000
END:DAYLIGHT
BEGIN:STANDARD
TZOFFSETFROM:-0700
TZOFFSETTO:-0800
TZNAME:PST
DTSTART:20241103T090000
END:STANDARD
BEGIN:DAYLIGHT
TZOFFSETFROM:-0800
TZOFFSETTO:-0700
TZNAME:PDT
DTSTART:20250309T100000
END:DAYLIGHT
BEGIN:STANDARD
TZOFFSETFROM:-0700
TZOFFSETTO:-0800
TZNAME:PST
DTSTART:20251102T090000
END:STANDARD
END:VTIMEZONE
BEGIN:VEVENT
DTSTART;TZID=America/Los_Angeles:20240102T120000
DTEND;TZID=America/Los_Angeles:20240102T130000
DTSTAMP:20260420T214606
CREATED:20231215T234517Z
LAST-MODIFIED:20231215T234517Z
UID:8149-1704196800-1704200400@www.protec17.org
SUMMARY:Portland Chapter Meeting (Hybrid)
DESCRIPTION:Please join your fellow PROTEC17 Portland Chapter members for a chapter meeting. Please note that first Tuesday meetings have a hybrid option. Check your personal email or the Member Portal events page here for more details\, including how to join. Hope to see you there!
URL:https://www.protec17.org/event/portland-chapter-meeting-hybrid/
LOCATION:Hybrid
ATTACH;FMTTYPE=image/png:https://www.protec17.org/wp-content/uploads/2018/12/Portland.png
ORGANIZER;CN="Rachel Whiteside":MAILTO:rachel@protec17.org
END:VEVENT
BEGIN:VEVENT
DTSTART;TZID=America/Los_Angeles:20240110T120000
DTEND;TZID=America/Los_Angeles:20240110T130000
DTSTAMP:20260420T214606
CREATED:20231214T012606Z
LAST-MODIFIED:20231214T012606Z
UID:8132-1704888000-1704891600@www.protec17.org
SUMMARY:WSDOT Chapter Meeting (Virtual)
DESCRIPTION:Join your fellow WSDOT members for our next chapter meeting! Detailed information on how to join this online meeting\, including how to get into the meeting\, can be found in your personal email or under the “Events” section in the Member Portal here. Hope to see you all there!
URL:https://www.protec17.org/event/wsdot-chapter-meeting-virtual-8/
LOCATION:ONLINE CHAPTER MEETING VIA ZOOM
ATTACH;FMTTYPE=image/png:https://www.protec17.org/wp-content/uploads/2018/12/wsdot-logo-e1544476767123.png
ORGANIZER;CN="Sarah Lorenzini":MAILTO:sarah@protec17.org
END:VEVENT
BEGIN:VEVENT
DTSTART;TZID=America/Los_Angeles:20240111T120000
DTEND;TZID=America/Los_Angeles:20240111T130000
DTSTAMP:20260420T214606
CREATED:20231214T202429Z
LAST-MODIFIED:20231214T202429Z
UID:8135-1704974400-1704978000@www.protec17.org
SUMMARY:Seattle Chapter Meeting (Virtual)
DESCRIPTION:Join your fellow PROTEC17 Seattle members for the next chapter meeting! Detailed information on how to join the online chapter meeting is emailed out to members’ personal emails. You can also check the Member Portal “Events” page here OR ask a co-worker\, Steward\, or your Union Representative if you didn’t receive the email. \n  \n 
URL:https://www.protec17.org/event/seattle-chapter-meeting-virtual-11/
LOCATION:ONLINE CHAPTER MEETING VIA ZOOM
ATTACH;FMTTYPE=image/png:https://www.protec17.org/wp-content/uploads/2018/12/CityofSeattle_logo_vertical_blue-black-1-e1544562937171.png
END:VEVENT
BEGIN:VEVENT
DTSTART;TZID=America/Los_Angeles:20240116T120000
DTEND;TZID=America/Los_Angeles:20240116T130000
DTSTAMP:20260420T214606
CREATED:20240111T195449Z
LAST-MODIFIED:20240111T195544Z
UID:8185-1705406400-1705410000@www.protec17.org
SUMMARY:Benton-Franklin Chapter Meeting (In Person)
DESCRIPTION:Join your fellow PROTEC17 Benton-Franklin Health District (BFHD) members at your next chapter meeting! Please check your personal email or the Member Portal for full details including location.
URL:https://www.protec17.org/event/benton-franklin-chapter-meeting-in-person-4/
ATTACH;FMTTYPE=image/png:https://www.protec17.org/wp-content/uploads/2018/12/bfhd-e1544137658946.png
END:VEVENT
BEGIN:VEVENT
DTSTART;TZID=America/Los_Angeles:20240117T170000
DTEND;TZID=America/Los_Angeles:20240117T180000
DTSTAMP:20260420T214606
CREATED:20231215T235818Z
LAST-MODIFIED:20240109T200534Z
UID:8152-1705510800-1705514400@www.protec17.org
SUMMARY:Portland Chapter Meeting (Virtual)
DESCRIPTION:Please join your fellow PROTEC17 Portland Chapter members for a chapter meeting. Check your personal email or the Member Portal events page here for more details\, including how to join. Hope to see you there!
URL:https://www.protec17.org/event/portland-chapter-meeting-hybrid-2/
LOCATION:ONLINE CHAPTER MEETING VIA ZOOM
ATTACH;FMTTYPE=image/png:https://www.protec17.org/wp-content/uploads/2018/12/Portland.png
ORGANIZER;CN="Rachel Whiteside":MAILTO:rachel@protec17.org
END:VEVENT
BEGIN:VEVENT
DTSTART;TZID=America/Los_Angeles:20240131T120000
DTEND;TZID=America/Los_Angeles:20240131T130000
DTSTAMP:20260420T214606
CREATED:20230712T200609Z
LAST-MODIFIED:20230712T200609Z
UID:7747-1706702400-1706706000@www.protec17.org
SUMMARY:King County Chapter Meeting (Virtual)
DESCRIPTION:PROTEC17 King County Chapter members: join your fellow union siblings for our next chapter meeting. Please see your email or the Member Portal events page for full details\, including how to access the meeting.
URL:https://www.protec17.org/event/king-county-chapter-meeting-virtual-9/
LOCATION:ONLINE CHAPTER MEETING VIA ZOOM
ATTACH;FMTTYPE=image/png:https://www.protec17.org/wp-content/uploads/2018/12/KC-logo-square.png
END:VEVENT
BEGIN:VEVENT
DTSTART;TZID=America/Los_Angeles:20240131T180000
DTEND;TZID=America/Los_Angeles:20240131T190000
DTSTAMP:20260420T214606
CREATED:20240118T211436Z
LAST-MODIFIED:20240118T211436Z
UID:8248-1706724000-1706727600@www.protec17.org
SUMMARY:DOL LSR Meeting (Virtual)
DESCRIPTION:PROTEC17 Washington Department of Licensing (DOL) Licensing Service Representative (LSR) members! Join your fellow union siblings for your upcoming chapter meeting on Wed.\, Jan. 31 at 6 p.m. We will gather virtually via Zoom. Please check your personal email or the Member Portal events page for details\, including how to join.
URL:https://www.protec17.org/event/dol-lsr-meeting-virtual/
LOCATION:ONLINE CHAPTER MEETING VIA ZOOM
ATTACH;FMTTYPE=image/png:https://www.protec17.org/wp-content/uploads/2018/12/dol-e1544141089349.png
END:VEVENT
END:VCALENDAR