BEGIN:VCALENDAR
VERSION:2.0
PRODID:-//PROTEC17 - ECPv6.15.17.1//NONSGML v1.0//EN
CALSCALE:GREGORIAN
METHOD:PUBLISH
X-WR-CALNAME:PROTEC17
X-ORIGINAL-URL:https://www.protec17.org
X-WR-CALDESC:Events for PROTEC17
REFRESH-INTERVAL;VALUE=DURATION:PT1H
X-Robots-Tag:noindex
X-PUBLISHED-TTL:PT1H
BEGIN:VTIMEZONE
TZID:America/Los_Angeles
BEGIN:DAYLIGHT
TZOFFSETFROM:-0800
TZOFFSETTO:-0700
TZNAME:PDT
DTSTART:20230312T100000
END:DAYLIGHT
BEGIN:STANDARD
TZOFFSETFROM:-0700
TZOFFSETTO:-0800
TZNAME:PST
DTSTART:20231105T090000
END:STANDARD
BEGIN:DAYLIGHT
TZOFFSETFROM:-0800
TZOFFSETTO:-0700
TZNAME:PDT
DTSTART:20240310T100000
END:DAYLIGHT
BEGIN:STANDARD
TZOFFSETFROM:-0700
TZOFFSETTO:-0800
TZNAME:PST
DTSTART:20241103T090000
END:STANDARD
BEGIN:DAYLIGHT
TZOFFSETFROM:-0800
TZOFFSETTO:-0700
TZNAME:PDT
DTSTART:20250309T100000
END:DAYLIGHT
BEGIN:STANDARD
TZOFFSETFROM:-0700
TZOFFSETTO:-0800
TZNAME:PST
DTSTART:20251102T090000
END:STANDARD
END:VTIMEZONE
BEGIN:VEVENT
DTSTART;TZID=America/Los_Angeles:20240910T120000
DTEND;TZID=America/Los_Angeles:20240910T130000
DTSTAMP:20260420T205608
CREATED:20240808T205813Z
LAST-MODIFIED:20240821T215429Z
UID:9065-1725969600-1725973200@www.protec17.org
SUMMARY:King County Non-Coalition CAT Meeting
DESCRIPTION:PROTEC17 King County Transit non-coalition bargaining is starting up! If you are in the Transit Admin\, Chiefs\, or Superintendents units\, this is you! Join your fellow union siblings for your upcoming Contract Action Team (CAT) meeting. Your CAT activates the membership around our contract priorities and supports the bargaining team in sharing information about negotiations. Let’s get organized! \nPlease check your personal email address or the Member Portal events page for details\, including how to join.
URL:https://www.protec17.org/event/king-county-non-coalition-cat-meeting/
LOCATION:ONLINE MEETING VIA ZOOM
ATTACH;FMTTYPE=image/png:https://www.protec17.org/wp-content/uploads/2024/08/KC-Non-Coalition-CAT-WEB.png
END:VEVENT
BEGIN:VEVENT
DTSTART;TZID=America/Los_Angeles:20240919T120000
DTEND;TZID=America/Los_Angeles:20240919T130000
DTSTAMP:20260420T205608
CREATED:20240808T210507Z
LAST-MODIFIED:20240808T211114Z
UID:9067-1726747200-1726750800@www.protec17.org
SUMMARY:King County Coalition CAT Meeting (Virtual)
DESCRIPTION:Instead of our monthly King County Steward Meeting\, our Coalition Contract Action Team (CAT) will get together as we prepare for contract negotiations! Join your fellow with union siblings and member leaders from across your chapter as we get ready to prepare for the best contract possible! If you are part of the following King County Transit units\, you have a different CAT for contract negotiations: Admin\, Chiefs\, and Superintendents. \nPlease check your email for full details and meeting info.
URL:https://www.protec17.org/event/king-county-cat-meeting-virtual-3/
LOCATION:ONLINE MEETING ONLY
ATTACH;FMTTYPE=image/png:https://www.protec17.org/wp-content/uploads/2024/07/King-County-Coalition-CAT-WEB.png
END:VEVENT
END:VCALENDAR