BEGIN:VCALENDAR
VERSION:2.0
PRODID:-//PROTEC17 - ECPv6.15.17.1//NONSGML v1.0//EN
CALSCALE:GREGORIAN
METHOD:PUBLISH
X-WR-CALNAME:PROTEC17
X-ORIGINAL-URL:https://www.protec17.org
X-WR-CALDESC:Events for PROTEC17
REFRESH-INTERVAL;VALUE=DURATION:PT1H
X-Robots-Tag:noindex
X-PUBLISHED-TTL:PT1H
BEGIN:VTIMEZONE
TZID:America/Los_Angeles
BEGIN:DAYLIGHT
TZOFFSETFROM:-0800
TZOFFSETTO:-0700
TZNAME:PDT
DTSTART:20230312T100000
END:DAYLIGHT
BEGIN:STANDARD
TZOFFSETFROM:-0700
TZOFFSETTO:-0800
TZNAME:PST
DTSTART:20231105T090000
END:STANDARD
BEGIN:DAYLIGHT
TZOFFSETFROM:-0800
TZOFFSETTO:-0700
TZNAME:PDT
DTSTART:20240310T100000
END:DAYLIGHT
BEGIN:STANDARD
TZOFFSETFROM:-0700
TZOFFSETTO:-0800
TZNAME:PST
DTSTART:20241103T090000
END:STANDARD
BEGIN:DAYLIGHT
TZOFFSETFROM:-0800
TZOFFSETTO:-0700
TZNAME:PDT
DTSTART:20250309T100000
END:DAYLIGHT
BEGIN:STANDARD
TZOFFSETFROM:-0700
TZOFFSETTO:-0800
TZNAME:PST
DTSTART:20251102T090000
END:STANDARD
END:VTIMEZONE
BEGIN:VEVENT
DTSTART;TZID=America/Los_Angeles:20240501T120000
DTEND;TZID=America/Los_Angeles:20240501T130000
DTSTAMP:20260420T210523
CREATED:20240405T173839Z
LAST-MODIFIED:20240405T174950Z
UID:8642-1714564800-1714568400@www.protec17.org
SUMMARY:Steward Training - Part 1 (Virtual)
DESCRIPTION:Not sure what all a steward does? We’re here to help! Join your fellow PROTEC17 union stewards for Steward Training – Part I! We’ll discuss the many roles of an effective steward\, grievances\, and members’ right to representation. Open to all stewards\, new and experienced! Members will need to attend Parts 1 and 2 before officially becoming a Steward. PROTEC17 members\, please check your email and/or the Member Portal for more info and meeting details.
URL:https://www.protec17.org/event/steward-training-part-1-virtual-17/
LOCATION:ONLINE MEETING VIA ZOOM
ATTACH;FMTTYPE=image/png:https://www.protec17.org/wp-content/uploads/2024/04/Steward-Training-WEB.png
END:VEVENT
BEGIN:VEVENT
DTSTART;TZID=America/Los_Angeles:20240507T120000
DTEND;TZID=America/Los_Angeles:20240507T130000
DTSTAMP:20260420T210523
CREATED:20240404T193354Z
LAST-MODIFIED:20240404T193354Z
UID:8626-1715083200-1715086800@www.protec17.org
SUMMARY:Portland Chapter Meeting (Hybrid)
DESCRIPTION:Please join your fellow PROTEC17 Portland Chapter members for a chapter meeting. Please note that first Tuesday meetings have a hybrid option. Check your personal email or the Member Portal events page here for more details\, including how to join. Hope to see you there!
URL:https://www.protec17.org/event/portland-chapter-meeting-hybrid-6/
LOCATION:Hybrid
ATTACH;FMTTYPE=image/png:https://www.protec17.org/wp-content/uploads/2018/12/Portland.png
ORGANIZER;CN="Rachel Whiteside":MAILTO:rachel@protec17.org
END:VEVENT
BEGIN:VEVENT
DTSTART;TZID=America/Los_Angeles:20240507T170000
DTEND;TZID=America/Los_Angeles:20240507T190000
DTSTAMP:20260420T210523
CREATED:20240502T171641Z
LAST-MODIFIED:20240502T172555Z
UID:8713-1715101200-1715108400@www.protec17.org
SUMMARY:King County Save Public Health Phone Bank (In-person)
DESCRIPTION:Join your fellow PROTEC17 King County union siblings for a phone bank on Tues.\, May 7 from 5 – 7 p.m. to Save Public Health! As many of you know\, your very own PROTEC17 union siblings have been facing a HUGE challenge at King County Public Health. DOZENS of Seattle-King County health clinics are at risk of closing\, which would mean that 80\,000 patients would be left without access to vital care and tons of dedicated healthcare workers\, and YOUR fellow union siblings\, face the possibility of losing their jobs. We have already launched a petition to Save Public Health but we need YOUR help to reach our signature goal! Please find details on how to REGISTER via your personal email and the Member Portal events page.
URL:https://www.protec17.org/event/king-county-save-public-health-phone-bank-in-person/
LOCATION:PROTEC17 Office\, 2900 Eastlake Ave. East\, Suite 300\, Seattle\, WA\, 98102
ATTACH;FMTTYPE=image/png:https://www.protec17.org/wp-content/uploads/2024/05/Save-Public-Health-Phone-Bank-WEB.png
END:VEVENT
BEGIN:VEVENT
DTSTART;TZID=America/Los_Angeles:20240508T120000
DTEND;TZID=America/Los_Angeles:20240508T130000
DTSTAMP:20260420T210523
CREATED:20240404T194103Z
LAST-MODIFIED:20240404T194103Z
UID:8632-1715169600-1715173200@www.protec17.org
SUMMARY:WSDOT Chapter Meeting (Virtual)
DESCRIPTION:Join your fellow WSDOT members for our next chapter meeting! Detailed information on how to join this online meeting\, including how to get into the meeting\, can be found in your personal email or under the “Events” section in the Member Portal here. Hope to see you all there!
URL:https://www.protec17.org/event/wsdot-chapter-meeting-virtual-15/
LOCATION:ONLINE CHAPTER MEETING VIA ZOOM
ATTACH;FMTTYPE=image/png:https://www.protec17.org/wp-content/uploads/2018/12/wsdot-logo-e1544476767123.png
ORGANIZER;CN="Sarah Lorenzini":MAILTO:sarah@protec17.org
END:VEVENT
BEGIN:VEVENT
DTSTART;TZID=America/Los_Angeles:20240508T120000
DTEND;TZID=America/Los_Angeles:20240508T130000
DTSTAMP:20260420T210523
CREATED:20240405T173628Z
LAST-MODIFIED:20240405T173628Z
UID:8640-1715169600-1715173200@www.protec17.org
SUMMARY:King County Chapter Meeting (Virtual)
DESCRIPTION:PROTEC17 King County Chapter members! Join your fellow union siblings for our next chapter meeting. For full details\, including how to join\, please check your email or the Member Portal events page for full details\, including how to access the meeting.
URL:https://www.protec17.org/event/king-county-chapter-meeting-virtual-10/
LOCATION:ONLINE CHAPTER MEETING VIA ZOOM
ATTACH;FMTTYPE=image/png:https://www.protec17.org/wp-content/uploads/2018/12/KC-logo-square.png
END:VEVENT
BEGIN:VEVENT
DTSTART;TZID=America/Los_Angeles:20240508T120000
DTEND;TZID=America/Los_Angeles:20240508T130000
DTSTAMP:20260420T210523
CREATED:20240405T180148Z
LAST-MODIFIED:20240405T180148Z
UID:8645-1715169600-1715173200@www.protec17.org
SUMMARY:Steward Training - Part 2 (Virtual)
DESCRIPTION:Join your fellow PROTEC17 union stewards for Steward Training – Part 2! We’ll dig deeper into activating new members\, how to organize your coworkers\, and how to take action on issues impacting your workplace. Open to all stewards\, new and experienced! Members will need to attend Parts 1 and 2 before officially becoming a Steward. PROTEC17 members\, please check your email and/or the Member Portal for more info and meeting details. \n 
URL:https://www.protec17.org/event/steward-training-part-2-virtual-18/
LOCATION:ONLINE MEETING VIA ZOOM
ATTACH;FMTTYPE=image/png:https://www.protec17.org/wp-content/uploads/2024/04/Steward-Training-WEB.png
END:VEVENT
BEGIN:VEVENT
DTSTART;TZID=America/Los_Angeles:20240509T120000
DTEND;TZID=America/Los_Angeles:20240509T130000
DTSTAMP:20260420T210523
CREATED:20240404T193845Z
LAST-MODIFIED:20240404T193845Z
UID:8630-1715256000-1715259600@www.protec17.org
SUMMARY:Seattle Chapter Meeting (Virtual)
DESCRIPTION:Join your fellow PROTEC17 Seattle members for your next chapter meeting! For full details\, including how to join\, please check your personal email or the Member Portal events page HERE. \n  \n 
URL:https://www.protec17.org/event/seattle-chapter-meeting-virtual-14/
LOCATION:ONLINE CHAPTER MEETING VIA ZOOM
ATTACH;FMTTYPE=image/png:https://www.protec17.org/wp-content/uploads/2018/12/CityofSeattle_logo_vertical_blue-black-1-e1544562937171.png
END:VEVENT
BEGIN:VEVENT
DTSTART;TZID=America/Los_Angeles:20240515T170000
DTEND;TZID=America/Los_Angeles:20240515T180000
DTSTAMP:20260420T210523
CREATED:20240404T193746Z
LAST-MODIFIED:20240404T193746Z
UID:8628-1715792400-1715796000@www.protec17.org
SUMMARY:Portland Chapter Meeting (Virtual)
DESCRIPTION:Please join your fellow PROTEC17 Portland Chapter members for a chapter meeting. Check your personal email or the Member Portal events page here for more details\, including how to join. Hope to see you there!
URL:https://www.protec17.org/event/portland-chapter-meeting-virtual-24/
LOCATION:ONLINE CHAPTER MEETING VIA ZOOM
ATTACH;FMTTYPE=image/png:https://www.protec17.org/wp-content/uploads/2018/12/Portland.png
ORGANIZER;CN="Rachel Whiteside":MAILTO:rachel@protec17.org
END:VEVENT
BEGIN:VEVENT
DTSTART;TZID=America/Los_Angeles:20240515T173000
DTEND;TZID=America/Los_Angeles:20240515T183000
DTSTAMP:20260420T210523
CREATED:20240404T194515Z
LAST-MODIFIED:20240507T195942Z
UID:8634-1715794200-1715797800@www.protec17.org
SUMMARY:Tacoma Chapter Meeting (Virtual)
DESCRIPTION:PROTEC17 City of Tacoma members\, join your fellow union siblings for our next chapter meeting. Please check your home email or the events page in the Member Portal events page HERE for all the details\, including how to join the meeting. Hope to see you then! \nPlease note that this meeting was rescheduled from Wed.\, May 8 to Wed.\, May 15\,
URL:https://www.protec17.org/event/tacoma-chapter-meeting-virtual-12/
LOCATION:ONLINE CHAPTER MEETING VIA ZOOM
ATTACH;FMTTYPE=image/png:https://www.protec17.org/wp-content/uploads/2018/12/tacoma-e1544559258741.png
ORGANIZER;CN="Brent Wagar":MAILTO:brent@protec17.org
END:VEVENT
BEGIN:VEVENT
DTSTART;TZID=America/Los_Angeles:20240516T120000
DTEND;TZID=America/Los_Angeles:20240516T130000
DTSTAMP:20260420T210523
CREATED:20240417T175102Z
LAST-MODIFIED:20240502T220032Z
UID:8690-1715860800-1715864400@www.protec17.org
SUMMARY:King County CAT Meeting (Virtual)
DESCRIPTION:Instead of our monthly King County Steward Meeting\, our Contract Action Team (CAT) will get together as we prepare for contract negotiations! Join your fellow with union siblings and member leaders from across your chapter as we get ready to prepare for the best contract possible! Please check your email for full details and meeting info.
URL:https://www.protec17.org/event/king-county-steward-meeting-virtual-18/
LOCATION:ONLINE MEETING ONLY
END:VEVENT
BEGIN:VEVENT
DTSTART;TZID=America/Los_Angeles:20240522T173000
DTEND;TZID=America/Los_Angeles:20240522T183000
DTSTAMP:20260420T210523
CREATED:20240515T191615Z
LAST-MODIFIED:20240515T191615Z
UID:8774-1716399000-1716402600@www.protec17.org
SUMMARY:Pierce County Engineers Unit - Contract Vote Info Session (Virtual)
DESCRIPTION:Pierce County Engineers unit\, join your fellow union siblings for a virtual info session regarding your *NEW* Tentative Agreement (TA). Come to ask any questions you may have about to the new contract! As a reminder this agreement is slightly different from the one you voted on at the end of last year. Please check your personal email for the latest email update which includes all details about the new agreement\, the upcoming info session\, and how to vote!
URL:https://www.protec17.org/event/pierce-county-engineers-unit-contract-vote-info-session-virtual/
LOCATION:ONLINE MEETING VIA ZOOM
ATTACH;FMTTYPE=image/png:https://www.protec17.org/wp-content/uploads/2024/05/Pierce-County-Engineers-Unit-Contract-Info-Session-WEB.png
ORGANIZER;CN="Brent Wagar":MAILTO:brent@protec17.org
END:VEVENT
BEGIN:VEVENT
DTSTART;TZID=America/Los_Angeles:20240523T120000
DTEND;TZID=America/Los_Angeles:20240523T130000
DTSTAMP:20260420T210523
CREATED:20240417T175322Z
LAST-MODIFIED:20240417T175322Z
UID:8692-1716465600-1716469200@www.protec17.org
SUMMARY:Seattle Steward Meeting (Virtual)
DESCRIPTION:Join your fellow Seattle Stewards for your next Seattle Steward Monthly Meeting! Come meet Stewards from other departments\, keep up to date\, build power together\, and more. Open to all Seattle Stewards! Please check your email for full details and meeting info. Please also note that this meeting will be recurring on every fourth Thursday of the month unless stated otherwise.
URL:https://www.protec17.org/event/seattle-steward-meeting-virtual-13/
LOCATION:ONLINE MEETING ONLY
END:VEVENT
END:VCALENDAR