BEGIN:VCALENDAR
VERSION:2.0
PRODID:-//PROTEC17 - ECPv6.15.17.1//NONSGML v1.0//EN
CALSCALE:GREGORIAN
METHOD:PUBLISH
X-ORIGINAL-URL:https://www.protec17.org
X-WR-CALDESC:Events for PROTEC17
REFRESH-INTERVAL;VALUE=DURATION:PT1H
X-Robots-Tag:noindex
X-PUBLISHED-TTL:PT1H
BEGIN:VTIMEZONE
TZID:America/Los_Angeles
BEGIN:DAYLIGHT
TZOFFSETFROM:-0800
TZOFFSETTO:-0700
TZNAME:PDT
DTSTART:20230312T100000
END:DAYLIGHT
BEGIN:STANDARD
TZOFFSETFROM:-0700
TZOFFSETTO:-0800
TZNAME:PST
DTSTART:20231105T090000
END:STANDARD
BEGIN:DAYLIGHT
TZOFFSETFROM:-0800
TZOFFSETTO:-0700
TZNAME:PDT
DTSTART:20240310T100000
END:DAYLIGHT
BEGIN:STANDARD
TZOFFSETFROM:-0700
TZOFFSETTO:-0800
TZNAME:PST
DTSTART:20241103T090000
END:STANDARD
BEGIN:DAYLIGHT
TZOFFSETFROM:-0800
TZOFFSETTO:-0700
TZNAME:PDT
DTSTART:20250309T100000
END:DAYLIGHT
BEGIN:STANDARD
TZOFFSETFROM:-0700
TZOFFSETTO:-0800
TZNAME:PST
DTSTART:20251102T090000
END:STANDARD
END:VTIMEZONE
BEGIN:VEVENT
DTSTART;TZID=America/Los_Angeles:20240402T120000
DTEND;TZID=America/Los_Angeles:20240402T130000
DTSTAMP:20260420T211146
CREATED:20240313T231140Z
LAST-MODIFIED:20240313T231140Z
UID:8523-1712059200-1712062800@www.protec17.org
SUMMARY:Portland Chapter Meeting (Hybrid)
DESCRIPTION:Please join your fellow PROTEC17 Portland Chapter members for a chapter meeting. Please note that first Tuesday meetings have a hybrid option. Check your personal email or the Member Portal events page here for more details\, including how to join. Hope to see you there!
URL:https://www.protec17.org/event/portland-chapter-meeting-hybrid-5/
LOCATION:Hybrid
ATTACH;FMTTYPE=image/png:https://www.protec17.org/wp-content/uploads/2018/12/Portland.png
ORGANIZER;CN="Rachel Whiteside":MAILTO:rachel@protec17.org
END:VEVENT
BEGIN:VEVENT
DTSTART;TZID=America/Los_Angeles:20240402T173000
DTEND;TZID=America/Los_Angeles:20240402T203000
DTSTAMP:20260420T211146
CREATED:20240312T201125Z
LAST-MODIFIED:20240319T165530Z
UID:8511-1712079000-1712089800@www.protec17.org
SUMMARY:Labor Teach-In
DESCRIPTION:Join other Seattle-based union members and Labor partners for an in-person workshop on April 2 to explore key historical events\, concepts\, and ideologies that underpin the current round of violence in Gaza\, and the occupied Palestinian territories. \nIn collaboration with MLK Labor Council\, this workshop will be an opportunity to bring your experiences\, thoughts\, and questions forward. \nPlease come prepared to participate\, ask questions\, and listen to each other — we will be using each other’s knowledge and inquiry to strengthen our own thinking around the context and the conflict. \nPlease note that the event is space limited. To provide both a safe and impactful experience\, we are capping this teach-in at 75 people. We acknowledge that unexpected life circumstances arise and just ask that you are mindful about registering for the event with commitment. You can find registration information in your personal email or the Member Portal events page HERE.
URL:https://www.protec17.org/event/labor-teach-in/
CATEGORIES:racial justice
ATTACH;FMTTYPE=image/png:https://www.protec17.org/wp-content/uploads/2024/03/Labor-Teach-In-WEB-1.png
END:VEVENT
BEGIN:VEVENT
DTSTART;TZID=America/Los_Angeles:20240403T120000
DTEND;TZID=America/Los_Angeles:20240403T130000
DTSTAMP:20260420T211146
CREATED:20240321T194643Z
LAST-MODIFIED:20240321T194643Z
UID:8552-1712145600-1712149200@www.protec17.org
SUMMARY:Steward Training - Part 1 (Virtual)
DESCRIPTION:Not sure what all a steward does? We’re here to help! Join your fellow PROTEC17 union stewards for Steward Training – Part I! We’ll discuss the many roles of an effective steward\, grievances\, and members’ right to representation. Open to all stewards\, new and experienced! Members will need to attend Parts 1 and 2 before officially becoming a Steward. PROTEC17 members\, please check your email and/or the Member Portal for more info and meeting details.
URL:https://www.protec17.org/event/steward-training-part-1-virtual-16/
LOCATION:ONLINE MEETING VIA ZOOM
ATTACH;FMTTYPE=image/jpeg:https://www.protec17.org/wp-content/uploads/2022/07/steward-training.jpeg
END:VEVENT
BEGIN:VEVENT
DTSTART;TZID=America/Los_Angeles:20240409T120000
DTEND;TZID=America/Los_Angeles:20240409T130000
DTSTAMP:20260420T211146
CREATED:20240311T234253Z
LAST-MODIFIED:20240321T190853Z
UID:8508-1712664000-1712667600@www.protec17.org
SUMMARY:King County Deep-Dive Training on Bargaining (Virtual)
DESCRIPTION:FOR KING COUNTY CHAPTER MEMBER LEADERS ONLY: \nJoin your fellow member leaders (Stewards\, Chapter Officers\, etc.\,) on Tues.\, April 9 for a deep-dive on bargaining! Come learn about the process for preparing for bargaining\, how to create bargaining proposals that incorporate your fellow members priorities\, and tips/tricks for the bargaining table. \nPlease check your personal email and/or the Member Portal events page HERE for more info\, including how to join.
URL:https://www.protec17.org/event/king-county-deep-dive-training-on-bargaining-virtual/
LOCATION:Online meeting
ATTACH;FMTTYPE=image/png:https://www.protec17.org/wp-content/uploads/2024/03/King-County-Training-Bargaining-WEB.png
END:VEVENT
BEGIN:VEVENT
DTSTART;TZID=America/Los_Angeles:20240409T120000
DTEND;TZID=America/Los_Angeles:20240409T130000
DTSTAMP:20260420T211146
CREATED:20240320T223834Z
LAST-MODIFIED:20240320T223834Z
UID:8539-1712664000-1712667600@www.protec17.org
SUMMARY:PROTEC17 Presents: Union 101! (Virtual)
DESCRIPTION:First time being a union member? Been a member for awhile\, but not sure what PROTEC17 does? Join us for a quick Union 101 training to learn more about your union\, what unions do\, and opportunity to ask your lingering questions! Open to all bargaining unit members\, you do not need to have signed a membership card to attend. \nPROTEC17 members\, please check your home email or the Member Portal Events page HERE for more info.
URL:https://www.protec17.org/event/protec17-presents-union-101-virtual-2/
LOCATION:ONLINE MEETING VIA ZOOM
ATTACH;FMTTYPE=image/png:https://www.protec17.org/wp-content/uploads/2023/11/Union-101-Training-FOR-WEB.png
END:VEVENT
BEGIN:VEVENT
DTSTART;TZID=America/Los_Angeles:20240410T120000
DTEND;TZID=America/Los_Angeles:20240410T130000
DTSTAMP:20260420T211146
CREATED:20240321T234452Z
LAST-MODIFIED:20240321T234452Z
UID:8555-1712750400-1712754000@www.protec17.org
SUMMARY:Steward Training - Part 2 (Virtual)
DESCRIPTION:Join your fellow PROTEC17 union stewards for Steward Training – Part 2! We’ll dig deeper into activating new members\, how to organize your coworkers\, and how to take action on issues impacting your workplace. Open to all stewards\, new and experienced! Members will need to attend Parts 1 and 2 before officially becoming a Steward. PROTEC17 members\, please check your email and/or the Member Portal for more info and meeting details. \n 
URL:https://www.protec17.org/event/steward-training-part-2-virtual-17/
LOCATION:ONLINE MEETING VIA ZOOM
ATTACH;FMTTYPE=image/jpeg:https://www.protec17.org/wp-content/uploads/2022/07/steward-training.jpeg
END:VEVENT
BEGIN:VEVENT
DTSTART;TZID=America/Los_Angeles:20240410T173000
DTEND;TZID=America/Los_Angeles:20240410T183000
DTSTAMP:20260420T211146
CREATED:20240313T232901Z
LAST-MODIFIED:20240313T232901Z
UID:8527-1712770200-1712773800@www.protec17.org
SUMMARY:Tacoma Chapter Meeting (Virtual)
DESCRIPTION:PROTEC17 City of Tacoma members\, join your fellow union siblings for our next chapter meeting. Please check your home email or the events page in the Member Portal events page HERE for all the details\, including how to join the meeting. Hope to see you then!
URL:https://www.protec17.org/event/tacoma-chapter-meeting-virtual-10/
LOCATION:ONLINE CHAPTER MEETING VIA ZOOM
ATTACH;FMTTYPE=image/png:https://www.protec17.org/wp-content/uploads/2018/12/tacoma-e1544559258741.png
ORGANIZER;CN="Brent Wagar":MAILTO:brent@protec17.org
END:VEVENT
BEGIN:VEVENT
DTSTART;TZID=America/Los_Angeles:20240411T120000
DTEND;TZID=America/Los_Angeles:20240411T130000
DTSTAMP:20260420T211146
CREATED:20240314T182953Z
LAST-MODIFIED:20240314T182953Z
UID:8529-1712836800-1712840400@www.protec17.org
SUMMARY:Seattle Chapter Meeting (Virtual)
DESCRIPTION:Join your fellow PROTEC17 Seattle members for your next chapter meeting! For full details\, including how to join\, please check your personal email or the Member Portal events page HERE. \n  \n 
URL:https://www.protec17.org/event/seattle-chapter-meeting-virtual-13/
LOCATION:ONLINE CHAPTER MEETING VIA ZOOM
ATTACH;FMTTYPE=image/png:https://www.protec17.org/wp-content/uploads/2018/12/CityofSeattle_logo_vertical_blue-black-1-e1544562937171.png
END:VEVENT
BEGIN:VEVENT
DTSTART;TZID=America/Los_Angeles:20240417T120000
DTEND;TZID=America/Los_Angeles:20240417T130000
DTSTAMP:20260420T211146
CREATED:20240321T191842Z
LAST-MODIFIED:20240321T191842Z
UID:8548-1713355200-1713358800@www.protec17.org
SUMMARY:Steward Training: Deep Dive on Labor Management Committees
DESCRIPTION:Join your fellow Stewards and Member Leaders on Wed.\, April 17 for a deep-dive training on Labor Management Committees (LMCs)! Come learn about what an LMC is\, the process for preparing for these meetings\, what can be discussed\, and how to recruit your fellow member leaders to participate. Open to all Stewards and Member Leaders! Please check your personal email and/or the Member Portal events page HERE for more info and meeting details.
URL:https://www.protec17.org/event/steward-training-deep-dive-on-labor-management-committees/
LOCATION:ONLINE MEETING VIA ZOOM
ATTACH;FMTTYPE=image/png:https://www.protec17.org/wp-content/uploads/2024/03/Steward-Training-LMCs-WEB.png
END:VEVENT
BEGIN:VEVENT
DTSTART;TZID=America/Los_Angeles:20240417T170000
DTEND;TZID=America/Los_Angeles:20240417T180000
DTSTAMP:20260420T211146
CREATED:20240314T184517Z
LAST-MODIFIED:20240314T184517Z
UID:8531-1713373200-1713376800@www.protec17.org
SUMMARY:Portland Chapter Meeting (Virtual)
DESCRIPTION:Please join your fellow PROTEC17 Portland Chapter members for a chapter meeting. Check your personal email or the Member Portal events page here for more details\, including how to join. Hope to see you there!
URL:https://www.protec17.org/event/portland-chapter-meeting-virtual-22/
LOCATION:ONLINE CHAPTER MEETING VIA ZOOM
ATTACH;FMTTYPE=image/png:https://www.protec17.org/wp-content/uploads/2018/12/Portland.png
ORGANIZER;CN="Rachel Whiteside":MAILTO:rachel@protec17.org
END:VEVENT
BEGIN:VEVENT
DTSTART;TZID=America/Los_Angeles:20240425T120000
DTEND;TZID=America/Los_Angeles:20240425T130000
DTSTAMP:20260420T211146
CREATED:20240404T194916Z
LAST-MODIFIED:20240404T194916Z
UID:8636-1714046400-1714050000@www.protec17.org
SUMMARY:Seattle Steward Meeting (Virtual)
DESCRIPTION:Join your fellow Seattle Stewards for your next Seattle Steward Monthly Meeting! Come meet Stewards from other departments\, keep up to date\, build power together\, and more. Open to all Seattle Stewards! Please check your email for full details and meeting info. Please also note that this meeting will be recurring on every fourth Thursday of the month unless stated otherwise.
URL:https://www.protec17.org/event/seattle-steward-meeting-virtual-12/
LOCATION:ONLINE MEETING ONLY
END:VEVENT
END:VCALENDAR