BEGIN:VCALENDAR
VERSION:2.0
PRODID:-//PROTEC17 - ECPv6.15.17.1//NONSGML v1.0//EN
CALSCALE:GREGORIAN
METHOD:PUBLISH
X-WR-CALNAME:PROTEC17
X-ORIGINAL-URL:https://www.protec17.org
X-WR-CALDESC:Events for PROTEC17
REFRESH-INTERVAL;VALUE=DURATION:PT1H
X-Robots-Tag:noindex
X-PUBLISHED-TTL:PT1H
BEGIN:VTIMEZONE
TZID:America/Los_Angeles
BEGIN:DAYLIGHT
TZOFFSETFROM:-0800
TZOFFSETTO:-0700
TZNAME:PDT
DTSTART:20230312T100000
END:DAYLIGHT
BEGIN:STANDARD
TZOFFSETFROM:-0700
TZOFFSETTO:-0800
TZNAME:PST
DTSTART:20231105T090000
END:STANDARD
BEGIN:DAYLIGHT
TZOFFSETFROM:-0800
TZOFFSETTO:-0700
TZNAME:PDT
DTSTART:20240310T100000
END:DAYLIGHT
BEGIN:STANDARD
TZOFFSETFROM:-0700
TZOFFSETTO:-0800
TZNAME:PST
DTSTART:20241103T090000
END:STANDARD
BEGIN:DAYLIGHT
TZOFFSETFROM:-0800
TZOFFSETTO:-0700
TZNAME:PDT
DTSTART:20250309T100000
END:DAYLIGHT
BEGIN:STANDARD
TZOFFSETFROM:-0700
TZOFFSETTO:-0800
TZNAME:PST
DTSTART:20251102T090000
END:STANDARD
END:VTIMEZONE
BEGIN:VEVENT
DTSTART;TZID=America/Los_Angeles:20240305T120000
DTEND;TZID=America/Los_Angeles:20240305T130000
DTSTAMP:20260423T220145
CREATED:20240215T213726Z
LAST-MODIFIED:20240215T213726Z
UID:8348-1709640000-1709643600@www.protec17.org
SUMMARY:Portland Chapter Meeting (Hybrid)
DESCRIPTION:Please join your fellow PROTEC17 Portland Chapter members for a chapter meeting. Please note that first Tuesday meetings have a hybrid option. Check your personal email or the Member Portal events page here for more details\, including how to join. Hope to see you there!
URL:https://www.protec17.org/event/portland-chapter-meeting-hybrid-4/
LOCATION:Hybrid
ATTACH;FMTTYPE=image/png:https://www.protec17.org/wp-content/uploads/2018/12/Portland.png
ORGANIZER;CN="Rachel Whiteside":MAILTO:rachel@protec17.org
END:VEVENT
BEGIN:VEVENT
DTSTART;TZID=America/Los_Angeles:20240306T120000
DTEND;TZID=America/Los_Angeles:20240306T130000
DTSTAMP:20260423T220145
CREATED:20240222T192914Z
LAST-MODIFIED:20240222T192914Z
UID:8362-1709726400-1709730000@www.protec17.org
SUMMARY:Steward Training - Part 1 (Virtual)
DESCRIPTION:Not sure what all a steward does? We’re here to help! Join your fellow PROTEC17 union stewards for Steward Training – Part I! We’ll discuss the many roles of an effective steward\, grievances\, and members’ right to representation. Open to all stewards\, new and experienced! Members will need to attend Parts 1 and 2 before officially becoming a Steward. PROTEC17 members\, please check your email and/or the Member Portal for more info and meeting details.
URL:https://www.protec17.org/event/steward-training-part-1-virtual-15/
LOCATION:ONLINE MEETING VIA ZOOM
ATTACH;FMTTYPE=image/jpeg:https://www.protec17.org/wp-content/uploads/2022/07/steward-training.jpeg
END:VEVENT
BEGIN:VEVENT
DTSTART;TZID=America/Los_Angeles:20240306T180000
DTEND;TZID=America/Los_Angeles:20240306T190000
DTSTAMP:20260423T220145
CREATED:20240216T194100Z
LAST-MODIFIED:20240216T194100Z
UID:8357-1709748000-1709751600@www.protec17.org
SUMMARY:WSDOL Revenue Auditors Meeting (Virtual)
DESCRIPTION:Join your fellow PROTEC17 WSDOL Revenue Auditors to kick off our FIRST virtual meeting in our series! We’ll gather together on Wed.\, March 6 from 6 – 7 p.m. Please check your personal email or the Member Portal events page HERE for full details\, including how to join. \n— \nFuture Meetings: \n\nWed.\, June 5 | 6 – 7 p.m.\nWed.\, Sep. 4 | 6 – 7 p.m.\nWed.\, Dec. 4 | 6 – 7 p.m.
URL:https://www.protec17.org/event/wsdol-revenue-auditors-meeting-virtual/
LOCATION:ONLINE MEETING ONLY
END:VEVENT
BEGIN:VEVENT
DTSTART;TZID=America/Los_Angeles:20240313T120000
DTEND;TZID=America/Los_Angeles:20240313T130000
DTSTAMP:20260423T220145
CREATED:20240216T192401Z
LAST-MODIFIED:20240216T192401Z
UID:8355-1710331200-1710334800@www.protec17.org
SUMMARY:WSDOT Chapter Meeting (Virtual)
DESCRIPTION:Join your fellow WSDOT members for our next chapter meeting! Detailed information on how to join this online meeting\, including how to get into the meeting\, can be found in your personal email or under the “Events” section in the Member Portal here. Hope to see you all there!
URL:https://www.protec17.org/event/wsdot-chapter-meeting-virtual-14/
LOCATION:ONLINE CHAPTER MEETING VIA ZOOM
ATTACH;FMTTYPE=image/png:https://www.protec17.org/wp-content/uploads/2018/12/wsdot-logo-e1544476767123.png
ORGANIZER;CN="Sarah Lorenzini":MAILTO:sarah@protec17.org
END:VEVENT
BEGIN:VEVENT
DTSTART;TZID=America/Los_Angeles:20240313T120000
DTEND;TZID=America/Los_Angeles:20240313T130000
DTSTAMP:20260423T220145
CREATED:20240222T194052Z
LAST-MODIFIED:20240222T194052Z
UID:8364-1710331200-1710334800@www.protec17.org
SUMMARY:Steward Training - Part 2 (Virtual)
DESCRIPTION:Join your fellow PROTEC17 union stewards for Steward Training – Part 2! We’ll dig deeper into activating new members\, how to organize your coworkers\, and how to take action on issues impacting your workplace. Open to all stewards\, new and experienced! Members will need to attend Parts 1 and 2 before officially becoming a Steward. PROTEC17 members\, please check your email and/or the Member Portal for more info and meeting details. \n 
URL:https://www.protec17.org/event/steward-training-part-2-virtual-16/
LOCATION:ONLINE MEETING VIA ZOOM
ATTACH;FMTTYPE=image/jpeg:https://www.protec17.org/wp-content/uploads/2022/07/steward-training.jpeg
END:VEVENT
BEGIN:VEVENT
DTSTART;TZID=America/Los_Angeles:20240314T120000
DTEND;TZID=America/Los_Angeles:20240314T130000
DTSTAMP:20260423T220145
CREATED:20240223T210610Z
LAST-MODIFIED:20240223T210610Z
UID:8373-1710417600-1710421200@www.protec17.org
SUMMARY:Seattle Chapter Meeting (Virtual)
DESCRIPTION:Join your fellow PROTEC17 Seattle members for your next chapter meeting! For full details\, including how to join\, please check your personal email or the Member Portal events page HERE. \n  \n 
URL:https://www.protec17.org/event/seattle-chapter-meeting-virtual-12/
LOCATION:ONLINE CHAPTER MEETING VIA ZOOM
ATTACH;FMTTYPE=image/png:https://www.protec17.org/wp-content/uploads/2018/12/CityofSeattle_logo_vertical_blue-black-1-e1544562937171.png
END:VEVENT
BEGIN:VEVENT
DTSTART;TZID=America/Los_Angeles:20240320T120000
DTEND;TZID=America/Los_Angeles:20240320T130000
DTSTAMP:20260423T220145
CREATED:20240222T200118Z
LAST-MODIFIED:20240222T203723Z
UID:8368-1710936000-1710939600@www.protec17.org
SUMMARY:Steward Training: Deep-Dive on Bargaining (Virtual)
DESCRIPTION:FOR PROTEC17 STEWARDS AND MEMBER LEADERS: \nJoin your fellow Stewards and Member Leaders on Wed.\, March 20 for a deep-dive on bargaining! Come learn about the process for preparing for bargaining\, how to create bargaining proposals that incorporate your fellow members priorities\, and tips/tricks for the bargaining table. Open to all Stewards and Member Leaders! \nPROTEC17 member leaders\, please check your personal email and/or the Member Portal events page HERE for more info\, including how to join.
URL:https://www.protec17.org/event/steward-training-deep-dive-on-bargaining-virtual/
LOCATION:Online meeting
ATTACH;FMTTYPE=image/png:https://www.protec17.org/wp-content/uploads/2024/02/Steward-Training-Bargaining-WEB.png
END:VEVENT
BEGIN:VEVENT
DTSTART;TZID=America/Los_Angeles:20240320T120000
DTEND;TZID=America/Los_Angeles:20240320T130000
DTSTAMP:20260423T220145
CREATED:20240227T000621Z
LAST-MODIFIED:20240227T000621Z
UID:8402-1710936000-1710939600@www.protec17.org
SUMMARY:King County Chapter Meeting (Virtual)
DESCRIPTION:PROTEC17 King County Chapter members! Join your fellow union siblings for our next chapter meeting. For full details\, including how to join\, please check your email or the Member Portal events page for full details\, including how to access the meeting.
URL:https://www.protec17.org/event/king-county-chapter-meeting-virtual-7/
LOCATION:ONLINE CHAPTER MEETING VIA ZOOM
ATTACH;FMTTYPE=image/png:https://www.protec17.org/wp-content/uploads/2018/12/KC-logo-square.png
END:VEVENT
BEGIN:VEVENT
DTSTART;TZID=America/Los_Angeles:20240320T170000
DTEND;TZID=America/Los_Angeles:20240320T180000
DTSTAMP:20260423T220145
CREATED:20240223T220113Z
LAST-MODIFIED:20240223T220113Z
UID:8377-1710954000-1710957600@www.protec17.org
SUMMARY:Portland Chapter Meeting (Virtual)
DESCRIPTION:Please join your fellow PROTEC17 Portland Chapter members for a chapter meeting. Check your personal email or the Member Portal events page here for more details\, including how to join. Hope to see you there!
URL:https://www.protec17.org/event/portland-chapter-meeting-virtual-12/
LOCATION:ONLINE CHAPTER MEETING VIA ZOOM
ATTACH;FMTTYPE=image/png:https://www.protec17.org/wp-content/uploads/2018/12/Portland.png
ORGANIZER;CN="Rachel Whiteside":MAILTO:rachel@protec17.org
END:VEVENT
BEGIN:VEVENT
DTSTART;TZID=America/Los_Angeles:20240321T120000
DTEND;TZID=America/Los_Angeles:20240321T130000
DTSTAMP:20260423T220145
CREATED:20240226T224046Z
LAST-MODIFIED:20240226T224046Z
UID:8395-1711022400-1711026000@www.protec17.org
SUMMARY:King County Steward Meeting (Virtual)
DESCRIPTION:Join your fellow King County Stewards for our next King County Steward Monthly Meeting! Meet up with Stewards from other departments\, learn about the new Steward Corner on the Member Portal\, and more! Open to all King County Stewards. This meeting is usually held every third Thursday of the month unless stated otherwise. Please check your email for full details and meeting info.
URL:https://www.protec17.org/event/king-county-steward-meeting-virtual-17/
LOCATION:ONLINE MEETING ONLY
END:VEVENT
BEGIN:VEVENT
DTSTART;TZID=America/Los_Angeles:20240328T120000
DTEND;TZID=America/Los_Angeles:20240328T130000
DTSTAMP:20260423T220145
CREATED:20240226T224411Z
LAST-MODIFIED:20240226T224411Z
UID:8397-1711627200-1711630800@www.protec17.org
SUMMARY:Seattle Steward Meeting (Virtual)
DESCRIPTION:Join your fellow Seattle Stewards for your next Seattle Steward Monthly Meeting! Come meet Stewards from other departments\, keep up to date\, build power together\, and more. Open to all Seattle Stewards! Please check your email for full details and meeting info. Please also note that this meeting will be recurring on every fourth Thursday of the month unless stated otherwise.
URL:https://www.protec17.org/event/seattle-steward-meeting-virtual-11/
LOCATION:ONLINE MEETING ONLY
END:VEVENT
BEGIN:VEVENT
DTSTART;TZID=America/Los_Angeles:20240328T170000
DTEND;TZID=America/Los_Angeles:20240328T190000
DTSTAMP:20260423T220145
CREATED:20240308T212401Z
LAST-MODIFIED:20240308T212401Z
UID:8500-1711645200-1711652400@www.protec17.org
SUMMARY:Portland Union Social
DESCRIPTION:Join us on our own or bring your loved ones for our union social on Thurs.\, March 28 from 5-7 p.m. We’ll hang out in the Community Room at Dick’s Primal Burger (4905 SE Woodstock Blvd.). Please note that everyone will be responsible for their own tabs. Questions? Suggestions? Email PROTEC17 Portland Chapter Vice President\, Rachel Burlington\, at: (rburlington@hotmail.com)
URL:https://www.protec17.org/event/portland-union-social-3/
LOCATION:Community Room at Dick’s Primal Burger\, 4905 SE Woodstock Blvd.\, Portland\, OR\, 97206\, United States
ATTACH;FMTTYPE=image/png:https://www.protec17.org/wp-content/uploads/2024/03/Portland-Social-3.28.24-WEB.png
ORGANIZER;CN="Rachel Burlington":MAILTO:rachel.burlington@portlandoregon.gov
END:VEVENT
BEGIN:VEVENT
DTSTART;TZID=America/Los_Angeles:20240330T140000
DTEND;TZID=America/Los_Angeles:20240330T170000
DTSTAMP:20260423T220145
CREATED:20240321T184148Z
LAST-MODIFIED:20240321T184148Z
UID:8544-1711807200-1711818000@www.protec17.org
SUMMARY:Land Day (Partner Event)
DESCRIPTION:Join your PNW-area union siblings and Labor partners/community organizations for a march to commemorate Land Day on Sat.\, March 30 at 2 p.m. The march will begin at Lake Union Park (860 Terry Ave N\, Seattle\, WA).  \nCurious about what “Land Day” is? “Land Day” is an annual commemoration of Palestinian protests against land confiscation by the Israeli government on March 30\, 1976. The day also serves as an important time to honor Palestinian heritage and culture and to highlight the ongoing issue for land rights and sovereignty. It is a celebration of resilience\, resistance\, and collective community. \nIn the labor movement\, we fight for fair compensation for workers everywhere\, seeking greater liberation under capitalism. An intersectional approach is crucial as we are human beings with multiple identities. Amidst our diversity\, a call to action unites us. \nWe know that we need basic resources to survive before we can even consider thriving. Our fight for better working conditions would be MEANINGLESS without also pushing for access to necessities like food\, water\, shelter\, safety\, etc.\, \nIn our struggle\, we have already understood the importance of solidarity. We must take this worker power to further the fight for liberation from ALL forms of oppression like capitalism\, but also racism\, gender inequality\, ableism\, etc.\, \nHonoring and celebrating Land Day is intrinsically part of our collective journey of liberation and doing what we do best\, calling for accountability and demanding better because we deserve better.
URL:https://www.protec17.org/event/land-day-partner-event/
LOCATION:Lake Union Park\, 860 Terry Ave N\, Seattle\, WA\, 98109\, United States
ATTACH;FMTTYPE=image/png:https://www.protec17.org/wp-content/uploads/2024/03/Land-Day-WEB.png
END:VEVENT
END:VCALENDAR