BEGIN:VCALENDAR
VERSION:2.0
PRODID:-//PROTEC17 - ECPv6.15.17.1//NONSGML v1.0//EN
CALSCALE:GREGORIAN
METHOD:PUBLISH
X-WR-CALNAME:PROTEC17
X-ORIGINAL-URL:https://www.protec17.org
X-WR-CALDESC:Events for PROTEC17
REFRESH-INTERVAL;VALUE=DURATION:PT1H
X-Robots-Tag:noindex
X-PUBLISHED-TTL:PT1H
BEGIN:VTIMEZONE
TZID:America/Los_Angeles
BEGIN:DAYLIGHT
TZOFFSETFROM:-0800
TZOFFSETTO:-0700
TZNAME:PDT
DTSTART:20220313T100000
END:DAYLIGHT
BEGIN:STANDARD
TZOFFSETFROM:-0700
TZOFFSETTO:-0800
TZNAME:PST
DTSTART:20221106T090000
END:STANDARD
BEGIN:DAYLIGHT
TZOFFSETFROM:-0800
TZOFFSETTO:-0700
TZNAME:PDT
DTSTART:20230312T100000
END:DAYLIGHT
BEGIN:STANDARD
TZOFFSETFROM:-0700
TZOFFSETTO:-0800
TZNAME:PST
DTSTART:20231105T090000
END:STANDARD
BEGIN:DAYLIGHT
TZOFFSETFROM:-0800
TZOFFSETTO:-0700
TZNAME:PDT
DTSTART:20240310T100000
END:DAYLIGHT
BEGIN:STANDARD
TZOFFSETFROM:-0700
TZOFFSETTO:-0800
TZNAME:PST
DTSTART:20241103T090000
END:STANDARD
END:VTIMEZONE
BEGIN:VEVENT
DTSTART;TZID=America/Los_Angeles:20231205T120000
DTEND;TZID=America/Los_Angeles:20231205T130000
DTSTAMP:20260420T214011
CREATED:20230106T004312Z
LAST-MODIFIED:20230317T183405Z
UID:6758-1701777600-1701781200@www.protec17.org
SUMMARY:Portland Chapter Meeting (Hybrid)
DESCRIPTION:Please note that all first Tuesday meetings now have a hybrid option. Detailed information on how to join the online chapter meeting is emailed out to members usually around a week before the meeting\, followed by a reminder email the day before your chapter meeting. Please check your home email address\, check out this event in the Member Portal\, or ask a co-worker/steward/your union rep if you don’t receive the email. Hope to see you all there!
URL:https://www.protec17.org/event/portland-chapter-meeting-virtual-21/
LOCATION:ONLINE CHAPTER MEETING VIA ZOOM
ATTACH;FMTTYPE=image/png:https://www.protec17.org/wp-content/uploads/2022/03/Portland-Chapter-Meeting-April-2022.png
ORGANIZER;CN="Rachel Whiteside":MAILTO:rachel@protec17.org
END:VEVENT
BEGIN:VEVENT
DTSTART;TZID=America/Los_Angeles:20231205T120000
DTEND;TZID=America/Los_Angeles:20231205T130000
DTSTAMP:20260420T214011
CREATED:20230712T200143Z
LAST-MODIFIED:20230712T200143Z
UID:7745-1701777600-1701781200@www.protec17.org
SUMMARY:King County Chapter Meeting (Virtual)
DESCRIPTION:PROTEC17 King County Chapter members: join your fellow union siblings for our next chapter meeting. Please see your email or the Member Portal events page for full details\, including how to access the meeting.
URL:https://www.protec17.org/event/king-county-chapter-meeting-virtual-8/
LOCATION:ONLINE CHAPTER MEETING VIA ZOOM
ATTACH;FMTTYPE=image/png:https://www.protec17.org/wp-content/uploads/2018/12/KC-logo-square.png
END:VEVENT
BEGIN:VEVENT
DTSTART;TZID=America/Los_Angeles:20231206T120000
DTEND;TZID=America/Los_Angeles:20231206T130000
DTSTAMP:20260420T214011
CREATED:20231101T223353Z
LAST-MODIFIED:20231101T223353Z
UID:7997-1701864000-1701867600@www.protec17.org
SUMMARY:Steward Training - Part 1 (Virtual)
DESCRIPTION:Not sure what all a steward does? We’re here to help! Join your fellow PROTEC17 union stewards on Wed.\, Dec. 6 for Steward Training – Part I! We’ll discuss the many roles of an effective steward\, grievances\, and members’ right to representation. Open to all stewards\, new and experienced! Members will need to attend Parts 1 and 2 before officially becoming a Steward. PROTEC17 members\, please check your email and/or the Member Portal for more info and meeting details.
URL:https://www.protec17.org/event/steward-training-part-1-virtual-10/
LOCATION:ONLINE MEETING VIA ZOOM
ATTACH;FMTTYPE=image/jpeg:https://www.protec17.org/wp-content/uploads/2022/07/steward-training.jpeg
END:VEVENT
BEGIN:VEVENT
DTSTART;VALUE=DATE:20231207
DTEND;VALUE=DATE:20231208
DTSTAMP:20260420T214011
CREATED:20231128T215803Z
LAST-MODIFIED:20231128T215803Z
UID:8105-1701907200-1701993599@www.protec17.org
SUMMARY:Happy Hanukkah!
DESCRIPTION:PROTEC17 wishes a happy Hanukkah to all who celebrate!
URL:https://www.protec17.org/event/happy-hanukkah/
ATTACH;FMTTYPE=image/png:https://www.protec17.org/wp-content/uploads/2023/11/Hanukkah-2023-FOR-WEB-1.png
END:VEVENT
BEGIN:VEVENT
DTSTART;TZID=America/Los_Angeles:20231207T120000
DTEND;TZID=America/Los_Angeles:20231207T130000
DTSTAMP:20260420T214011
CREATED:20231006T214302Z
LAST-MODIFIED:20231006T214302Z
UID:7905-1701950400-1701954000@www.protec17.org
SUMMARY:Steward Training: Deep-Dive on Grievances (Virtual)
DESCRIPTION:Join your fellow Stewards on Thurs.\, Dec 7th for a deep-dive on Grievances! Come learn about the difference between a grievance and complaint\, how to investigate a grievance\, effective ways to interact with grievants and management\, and your legal rights and responsibilities. Open to all Stewards! Please check your personal email or the Member Portal events page HERE for full details\, including how to join.
URL:https://www.protec17.org/event/steward-training-deep-dive-on-grievances-virtual-2/
LOCATION:Online meeting
ATTACH;FMTTYPE=image/png:https://www.protec17.org/wp-content/uploads/2022/09/steward-training-grievances-e1666637313137.png
END:VEVENT
BEGIN:VEVENT
DTSTART;TZID=America/Los_Angeles:20231212T174500
DTEND;TZID=America/Los_Angeles:20231212T184500
DTSTAMP:20260420T214011
CREATED:20231116T010932Z
LAST-MODIFIED:20231117T202708Z
UID:8085-1702403100-1702406700@www.protec17.org
SUMMARY:DOL LSR Meeting (Virtual)
DESCRIPTION:PROTEC17 Washington Department of Licensing (DOL) Licensing Service Representative (LSR) members! Join your fellow union siblings for your upcoming chapter meeting on Tues.\, Dec. 12 at 5:45 p.m. We will gather virtually via Zoom. Please check your personal email or the Member Portal events page for details\, including how to join.
URL:https://www.protec17.org/event/dol-chapter-meeting-virtual/
LOCATION:ONLINE CHAPTER MEETING VIA ZOOM
ATTACH;FMTTYPE=image/png:https://www.protec17.org/wp-content/uploads/2018/12/dol-e1544141089349.png
END:VEVENT
BEGIN:VEVENT
DTSTART;TZID=America/Los_Angeles:20231213T120000
DTEND;TZID=America/Los_Angeles:20231213T130000
DTSTAMP:20260420T214011
CREATED:20230112T200000Z
LAST-MODIFIED:20231003T215836Z
UID:6877-1702468800-1702472400@www.protec17.org
SUMMARY:WSDOT Chapter Meeting (Virtual)
DESCRIPTION:Join your fellow WSDOT members for our next chapter meeting! Detailed information on how to join this online meeting\, including how to get into the meeting\, can be found in your personal email or under the “Events” section in the Member Portal here. As a fun incentive\, we’ll also have a raffle for members who attend the meeting. Three lucky members will receive Safeway gift cards and two folks will receive any swag item of their choice from our PROTEC17 store. Hope to see you all there!
URL:https://www.protec17.org/event/wsdot-chapter-meeting-virtual-12/
LOCATION:ONLINE CHAPTER MEETING VIA ZOOM
ATTACH;FMTTYPE=image/png:https://www.protec17.org/wp-content/uploads/2018/12/wsdot-logo-e1544476767123.png
ORGANIZER;CN="Sarah Lorenzini":MAILTO:sarah@protec17.org
END:VEVENT
BEGIN:VEVENT
DTSTART;TZID=America/Los_Angeles:20231213T120000
DTEND;TZID=America/Los_Angeles:20231213T130000
DTSTAMP:20260420T214011
CREATED:20231101T224643Z
LAST-MODIFIED:20231101T224643Z
UID:7999-1702468800-1702472400@www.protec17.org
SUMMARY:Steward Training - Part 2 (Virtual)
DESCRIPTION:Join your fellow PROTEC17 union stewards on Wed.\, Dec. 13 for Steward Training – Part 2! We’ll dig deeper into activating new members\, how to organize your coworkers\, and how to take action on issues impacting your workplace. Open to all stewards\, new and experienced! Members will need to attend Parts 1 and 2 before officially becoming a Steward. PROTEC17 members\, please check your email and/or the Member Portal for more info and meeting details. \n 
URL:https://www.protec17.org/event/steward-training-part-2-virtual-14/
LOCATION:ONLINE MEETING VIA ZOOM
ATTACH;FMTTYPE=image/jpeg:https://www.protec17.org/wp-content/uploads/2022/07/steward-training.jpeg
END:VEVENT
BEGIN:VEVENT
DTSTART;TZID=America/Los_Angeles:20231214T120000
DTEND;TZID=America/Los_Angeles:20231214T130000
DTSTAMP:20260420T214011
CREATED:20230112T210541Z
LAST-MODIFIED:20230112T210541Z
UID:6887-1702555200-1702558800@www.protec17.org
SUMMARY:Seattle Chapter Meeting (Virtual)
DESCRIPTION:Join your fellow PROTEC17 Seattle members for the next chapter meeting! Detailed information on how to join the online chapter meeting is emailed out to members’ personal emails. You can also check the Member Portal “Events” page here or ask a co-worker\, steward\, or your union rep if you didn’t receive the email. \n  \n  \n 
URL:https://www.protec17.org/event/seattle-chapter-meeting-virtual-10/
LOCATION:ONLINE CHAPTER MEETING VIA ZOOM
ATTACH;FMTTYPE=image/png:https://www.protec17.org/wp-content/uploads/2018/12/CityofSeattle_logo_vertical_blue-black-1-e1544562937171.png
END:VEVENT
BEGIN:VEVENT
DTSTART;TZID=America/Los_Angeles:20231214T173000
DTEND;TZID=America/Los_Angeles:20231214T193000
DTSTAMP:20260420T214011
CREATED:20231128T195937Z
LAST-MODIFIED:20231128T195937Z
UID:8102-1702575000-1702582200@www.protec17.org
SUMMARY:Portland Winter Social
DESCRIPTION:Join your fellow union siblings for our upcoming Winter Social on Thurs.\, Dec. 14 at 5:30 p.m. We’ll hang out in a private room at Lucky Labrador Brewing Co. (915 SE Hawthorne Blvd.). Family\, friends\, and loved ones are welcome. We’ll play games and socialize the night away! Please note that everyone will be responsible for their own tabs.  \nRSVP info in your personal email or on the Member Portal event page here.
URL:https://www.protec17.org/event/portland-winter-social/
LOCATION:Lucky Labrador Brewing Co. (Hawthorne)\, 915 SE Hawthorne Blvd.\, Portland\, OR\, 97214\, United States
ATTACH;FMTTYPE=image/png:https://www.protec17.org/wp-content/uploads/2023/11/Portland-Social-12.14.23-FOR-WEB.png
ORGANIZER;CN="Rachel Burlington":MAILTO:rachel.burlington@portlandoregon.gov
END:VEVENT
END:VCALENDAR