BEGIN:VCALENDAR
VERSION:2.0
PRODID:-//PROTEC17 - ECPv6.15.17.1//NONSGML v1.0//EN
CALSCALE:GREGORIAN
METHOD:PUBLISH
X-WR-CALNAME:PROTEC17
X-ORIGINAL-URL:https://www.protec17.org
X-WR-CALDESC:Events for PROTEC17
REFRESH-INTERVAL;VALUE=DURATION:PT1H
X-Robots-Tag:noindex
X-PUBLISHED-TTL:PT1H
BEGIN:VTIMEZONE
TZID:America/Los_Angeles
BEGIN:DAYLIGHT
TZOFFSETFROM:-0800
TZOFFSETTO:-0700
TZNAME:PDT
DTSTART:20220313T100000
END:DAYLIGHT
BEGIN:STANDARD
TZOFFSETFROM:-0700
TZOFFSETTO:-0800
TZNAME:PST
DTSTART:20221106T090000
END:STANDARD
BEGIN:DAYLIGHT
TZOFFSETFROM:-0800
TZOFFSETTO:-0700
TZNAME:PDT
DTSTART:20230312T100000
END:DAYLIGHT
BEGIN:STANDARD
TZOFFSETFROM:-0700
TZOFFSETTO:-0800
TZNAME:PST
DTSTART:20231105T090000
END:STANDARD
BEGIN:DAYLIGHT
TZOFFSETFROM:-0800
TZOFFSETTO:-0700
TZNAME:PDT
DTSTART:20240310T100000
END:DAYLIGHT
BEGIN:STANDARD
TZOFFSETFROM:-0700
TZOFFSETTO:-0800
TZNAME:PST
DTSTART:20241103T090000
END:STANDARD
END:VTIMEZONE
BEGIN:VEVENT
DTSTART;TZID=America/Los_Angeles:20231101T120000
DTEND;TZID=America/Los_Angeles:20231101T130000
DTSTAMP:20260420T214649
CREATED:20221221T003210Z
LAST-MODIFIED:20221221T003210Z
UID:6676-1698840000-1698843600@www.protec17.org
SUMMARY:Steward Training - Part 1 (Virtual)
DESCRIPTION:Not sure what all a steward does? We’re here to help! Join your fellow PROTEC17 union stewards on Wed.\, Nov. 1 for Steward Training – Part I! We’ll discuss the many roles of an effective steward\, grievances\, and members’ right to representation. Open to all stewards\, new and experienced! Members will need to attend Parts 1 and 2 before officially becoming a Steward. PROTEC17 members\, please check your email and/or the Member Portal for more info and meeting details.
URL:https://www.protec17.org/event/steward-training-part-1-virtual-13/
LOCATION:ONLINE MEETING VIA ZOOM
ATTACH;FMTTYPE=image/jpeg:https://www.protec17.org/wp-content/uploads/2022/07/steward-training.jpeg
END:VEVENT
BEGIN:VEVENT
DTSTART;TZID=America/Los_Angeles:20231102T060000
DTEND;TZID=America/Los_Angeles:20231102T170000
DTSTAMP:20260420T214649
CREATED:20231101T200501Z
LAST-MODIFIED:20231101T200501Z
UID:7991-1698904800-1698944400@www.protec17.org
SUMMARY:Seattle Coalition of City Unions (CCU) Practice Picket
DESCRIPTION:PROTEC17 Seattle members! Join your coworkers for our PRACTICE pickets around the City on Nov. 2! We’ll practice picket at: \n\nCharles Street Station (8th Ave S and S Dearborn\, next to I-5): 6 – 7:30 a.m.\nSeattle Municipal Tower (5th and Columbia): 11:30 a.m. – 1 p.m.\nSeattle Center (5th and Mercer): 3:30 – 5 p.m.\n\nPledge HERE \nREMEMBER\n\nParticipating in this activity is well within your UNION RIGHT\nMake sure you are ONLY attending if you were pre-approved to flex time or use personal leave (DO NOT USE SICK LEAVE)\nWhile participating\, do NOT cause an interference IN ANY WAY to City functions\nIf you are NOT participating\, you should attend work as usual
URL:https://www.protec17.org/event/seattle-coalition-of-city-unions-ccu-practice-picket/
LOCATION:Various Locations
ATTACH;FMTTYPE=image/png:https://www.protec17.org/wp-content/uploads/2023/11/Practice-Picket-Banner-FOR-WEB.png
END:VEVENT
BEGIN:VEVENT
DTSTART;TZID=America/Los_Angeles:20231107T120000
DTEND;TZID=America/Los_Angeles:20231107T130000
DTSTAMP:20260420T214649
CREATED:20230106T003854Z
LAST-MODIFIED:20230317T183401Z
UID:6754-1699358400-1699362000@www.protec17.org
SUMMARY:Portland Chapter Meeting (Hybrid)
DESCRIPTION:Please note that all first Tuesday meetings now have a hybrid option. Detailed information on how to join the online chapter meeting is emailed out to members usually around a week before the meeting\, followed by a reminder email the day before your chapter meeting. Please check your home email address\, check out this event in the Member Portal\, or ask a co-worker/steward/your union rep if you don’t receive the email. Hope to see you all there!
URL:https://www.protec17.org/event/portland-chapter-meeting-virtual-19/
LOCATION:ONLINE CHAPTER MEETING VIA ZOOM
ATTACH;FMTTYPE=image/png:https://www.protec17.org/wp-content/uploads/2022/03/Portland-Chapter-Meeting-April-2022.png
ORGANIZER;CN="Rachel Whiteside":MAILTO:rachel@protec17.org
END:VEVENT
BEGIN:VEVENT
DTSTART;TZID=America/Los_Angeles:20231108T120000
DTEND;TZID=America/Los_Angeles:20231108T130000
DTSTAMP:20260420T214649
CREATED:20221221T003316Z
LAST-MODIFIED:20221221T003316Z
UID:6678-1699444800-1699448400@www.protec17.org
SUMMARY:Steward Training - Part 2 (Virtual)
DESCRIPTION:Join your fellow PROTEC17 union stewards on Wed.\, Nov. 8 for Steward Training – Part 2! We’ll dig deeper into activating new members\, how to organize your coworkers\, and how to take action on issues impacting your workplace. Open to all stewards\, new and experienced! Members will need to attend Parts 1 and 2 before officially becoming a Steward. PROTEC17 members\, please check your email and/or the Member Portal for more info and meeting details. \n 
URL:https://www.protec17.org/event/steward-training-part-2-virtual-13/
LOCATION:ONLINE MEETING VIA ZOOM
ATTACH;FMTTYPE=image/jpeg:https://www.protec17.org/wp-content/uploads/2022/07/steward-training.jpeg
END:VEVENT
BEGIN:VEVENT
DTSTART;TZID=America/Los_Angeles:20231108T120000
DTEND;TZID=America/Los_Angeles:20231108T130000
DTSTAMP:20260420T214649
CREATED:20230112T195545Z
LAST-MODIFIED:20231003T215834Z
UID:6875-1699444800-1699448400@www.protec17.org
SUMMARY:WSDOT Chapter Meeting (Virtual)
DESCRIPTION:Join your fellow WSDOT members for our next chapter meeting! Detailed information on how to join this online meeting\, including how to get into the meeting\, can be found in your personal email or under the “Events” section in the Member Portal here. As a fun incentive\, we’ll also have a raffle for members who attend the meeting. Three lucky members will receive Safeway gift cards and two folks will receive any swag item of their choice from our PROTEC17 store. Hope to see you all there!
URL:https://www.protec17.org/event/wsdot-chapter-meeting-virtual-11/
LOCATION:ONLINE CHAPTER MEETING VIA ZOOM
ATTACH;FMTTYPE=image/png:https://www.protec17.org/wp-content/uploads/2018/12/wsdot-logo-e1544476767123.png
ORGANIZER;CN="Sarah Lorenzini":MAILTO:sarah@protec17.org
END:VEVENT
BEGIN:VEVENT
DTSTART;TZID=America/Los_Angeles:20231108T120000
DTEND;TZID=America/Los_Angeles:20231108T130000
DTSTAMP:20260420T214649
CREATED:20231031T220102Z
LAST-MODIFIED:20231031T220727Z
UID:7987-1699444800-1699448400@www.protec17.org
SUMMARY:King County Public Health Member Meeting (Virtual)
DESCRIPTION:Join your fellow PROTEC17 King County Public Health (KCPH) union siblings for a member meeting on Wed.\, Nov. 8 at 12 p.m. noon. We will share updates and progress we have made in our campaign. This will also serve as a chance for us to talk about our next steps. For more info\, including how to join\, please check your personal email or the Member Portal events page HERE.
URL:https://www.protec17.org/event/king-county-public-health-member-meeting-virtual/
LOCATION:ONLINE MEETING ONLY
ATTACH;FMTTYPE=image/png:https://www.protec17.org/wp-content/uploads/2023/09/King-County-Public-Health.png
END:VEVENT
BEGIN:VEVENT
DTSTART;TZID=America/Los_Angeles:20231108T173000
DTEND;TZID=America/Los_Angeles:20231108T183000
DTSTAMP:20260420T214649
CREATED:20230125T202848Z
LAST-MODIFIED:20230125T202848Z
UID:6969-1699464600-1699468200@www.protec17.org
SUMMARY:Tacoma Chapter Meeting (Virtual)
DESCRIPTION:PROTEC17 City of Tacoma members\, join your fellow union siblings for our next chapter meeting. Please check your home email or the events page in the Member Portal for all the details and online log-in information. See you at the meeting!
URL:https://www.protec17.org/event/tacoma-chapter-meeting-virtual-11/
LOCATION:ONLINE CHAPTER MEETING VIA ZOOM
ATTACH;FMTTYPE=image/png:https://www.protec17.org/wp-content/uploads/2018/12/tacoma-e1544559258741.png
ORGANIZER;CN="Brent Wagar":MAILTO:brent@protec17.org
END:VEVENT
BEGIN:VEVENT
DTSTART;TZID=America/Los_Angeles:20231109T120000
DTEND;TZID=America/Los_Angeles:20231109T130000
DTSTAMP:20260420T214649
CREATED:20230112T210254Z
LAST-MODIFIED:20230112T210254Z
UID:6885-1699531200-1699534800@www.protec17.org
SUMMARY:Seattle Chapter Meeting (Virtual)
DESCRIPTION:Join your fellow PROTEC17 Seattle members for the next chapter meeting! Detailed information on how to join the online chapter meeting is emailed out to members’ personal emails. You can also check the Member Portal “Events” page here or ask a co-worker\, steward\, or your union rep if you didn’t receive the email. \n  \n  \n 
URL:https://www.protec17.org/event/seattle-chapter-meeting-virtual-9/
LOCATION:ONLINE CHAPTER MEETING VIA ZOOM
ATTACH;FMTTYPE=image/png:https://www.protec17.org/wp-content/uploads/2018/12/CityofSeattle_logo_vertical_blue-black-1-e1544562937171.png
END:VEVENT
BEGIN:VEVENT
DTSTART;TZID=America/Los_Angeles:20231114T173000
DTEND;TZID=America/Los_Angeles:20231114T183000
DTSTAMP:20260420T214649
CREATED:20231107T005334Z
LAST-MODIFIED:20231107T005334Z
UID:8019-1699983000-1699986600@www.protec17.org
SUMMARY:Spokane Regional Health District (SRHD) Chapter Meeting
DESCRIPTION:Join your fellow PROTEC17 Spokane Regional Health District (SRHD) Chapter members for our next meeting on Tues.\, Nov. 14 at 5:30 p.m. via Zoom. Full details including how to access the meeting are in your personal email and on the Member Portal HERE.
URL:https://www.protec17.org/event/spokane-regional-health-district-srhd-meeting-2/
LOCATION:ONLINE CHAPTER MEETING VIA ZOOM
ATTACH;FMTTYPE=image/png:https://www.protec17.org/wp-content/uploads/2022/09/SRHD.png
END:VEVENT
BEGIN:VEVENT
DTSTART;TZID=America/Los_Angeles:20231115T170000
DTEND;TZID=America/Los_Angeles:20231115T180000
DTSTAMP:20260420T214649
CREATED:20230106T004044Z
LAST-MODIFIED:20231114T175025Z
UID:6756-1700067600-1700071200@www.protec17.org
SUMMARY:Portland Chapter Meeting (Hybrid)
DESCRIPTION:Detailed information on how to join the online chapter meeting is emailed out to members usually around a week before the meeting\, followed by a reminder email the day before your chapter meeting. Please note that this meeting is HYBRID. Meeting details (both virtual and in person) can be found at your home email address. You can also check out this event in the Member Portal or ask a co-worker/steward/your union representative if you don’t receive the email. Hope to see you all there!
URL:https://www.protec17.org/event/portland-chapter-meeting-virtual-20/
LOCATION:ONLINE CHAPTER MEETING VIA ZOOM
ATTACH;FMTTYPE=image/png:https://www.protec17.org/wp-content/uploads/2022/03/Portland-Chapter-Meeting-April-2022.png
ORGANIZER;CN="Rachel Whiteside":MAILTO:rachel@protec17.org
END:VEVENT
BEGIN:VEVENT
DTSTART;TZID=America/Los_Angeles:20231116T120000
DTEND;TZID=America/Los_Angeles:20231116T130000
DTSTAMP:20260420T214649
CREATED:20230125T220625Z
LAST-MODIFIED:20230125T220625Z
UID:6994-1700136000-1700139600@www.protec17.org
SUMMARY:King County Steward Meeting (Virtual)
DESCRIPTION:Join your fellow King County Stewards for our next King County Steward Monthly Meeting! Come meet Stewards from other departments\, learn about the new Steward Corner on the Member Portal\, and more. Open to all King County Stewards! Please check your email for full details and meeting info. Please also note that this meeting will be recurring on every third Thursday of the month unless state otherwise.
URL:https://www.protec17.org/event/king-county-steward-meeting-virtual-14/
LOCATION:ONLINE MEETING VIA ZOOM
END:VEVENT
BEGIN:VEVENT
DTSTART;VALUE=DATE:20231123
DTEND;VALUE=DATE:20231124
DTSTAMP:20260420T214649
CREATED:20231108T214508Z
LAST-MODIFIED:20231108T214508Z
UID:8030-1700697600-1700783999@www.protec17.org
SUMMARY:PROTEC17 is thankful for you!
DESCRIPTION:
URL:https://www.protec17.org/event/protec17-is-thankful-for-you/
ATTACH;FMTTYPE=image/png:https://www.protec17.org/wp-content/uploads/2023/11/NA-Heritage-Day-Weekend-2023-FOR-WEB.png
END:VEVENT
END:VCALENDAR