BEGIN:VCALENDAR
VERSION:2.0
PRODID:-//PROTEC17 - ECPv6.15.20//NONSGML v1.0//EN
CALSCALE:GREGORIAN
METHOD:PUBLISH
X-ORIGINAL-URL:https://www.protec17.org
X-WR-CALDESC:Events for PROTEC17
REFRESH-INTERVAL;VALUE=DURATION:PT1H
X-Robots-Tag:noindex
X-PUBLISHED-TTL:PT1H
BEGIN:VTIMEZONE
TZID:America/Los_Angeles
BEGIN:DAYLIGHT
TZOFFSETFROM:-0800
TZOFFSETTO:-0700
TZNAME:PDT
DTSTART:20220313T100000
END:DAYLIGHT
BEGIN:STANDARD
TZOFFSETFROM:-0700
TZOFFSETTO:-0800
TZNAME:PST
DTSTART:20221106T090000
END:STANDARD
BEGIN:DAYLIGHT
TZOFFSETFROM:-0800
TZOFFSETTO:-0700
TZNAME:PDT
DTSTART:20230312T100000
END:DAYLIGHT
BEGIN:STANDARD
TZOFFSETFROM:-0700
TZOFFSETTO:-0800
TZNAME:PST
DTSTART:20231105T090000
END:STANDARD
BEGIN:DAYLIGHT
TZOFFSETFROM:-0800
TZOFFSETTO:-0700
TZNAME:PDT
DTSTART:20240310T100000
END:DAYLIGHT
BEGIN:STANDARD
TZOFFSETFROM:-0700
TZOFFSETTO:-0800
TZNAME:PST
DTSTART:20241103T090000
END:STANDARD
END:VTIMEZONE
BEGIN:VEVENT
DTSTART;TZID=America/Los_Angeles:20230801T120000
DTEND;TZID=America/Los_Angeles:20230801T130000
DTSTAMP:20260424T123859
CREATED:20230106T002347Z
LAST-MODIFIED:20230317T183352Z
UID:6742-1690891200-1690894800@www.protec17.org
SUMMARY:Portland Chapter Meeting (Hybrid)
DESCRIPTION:Please note that all first Tuesday meetings now have a hybrid option. Detailed information on how to join the online chapter meeting is emailed out to members usually around a week before the meeting\, followed by a reminder email the day before your chapter meeting. Please check your home email address\, check out this event in the Member Portal\, or ask a co-worker/steward/your union rep if you don’t receive the email. Hope to see you all there!
URL:https://www.protec17.org/event/portland-chapter-meeting-virtual-13/
LOCATION:ONLINE CHAPTER MEETING VIA ZOOM
ATTACH;FMTTYPE=image/png:https://www.protec17.org/wp-content/uploads/2022/03/Portland-Chapter-Meeting-April-2022.png
ORGANIZER;CN="Rachel Whiteside":MAILTO:rachel@protec17.org
END:VEVENT
BEGIN:VEVENT
DTSTART;TZID=America/Los_Angeles:20230809T173000
DTEND;TZID=America/Los_Angeles:20230809T183000
DTSTAMP:20260424T123859
CREATED:20230125T201646Z
LAST-MODIFIED:20230125T201646Z
UID:6963-1691602200-1691605800@www.protec17.org
SUMMARY:Tacoma Chapter Meeting (Virtual)
DESCRIPTION:PROTEC17 City of Tacoma members\, join your fellow union siblings for our next chapter meeting. Please check your home email or the events page in the Member Portal for all the details and online log-in information. See you at the meeting!
URL:https://www.protec17.org/event/tacoma-chapter-meeting-virtual-8/
LOCATION:ONLINE CHAPTER MEETING VIA ZOOM
ATTACH;FMTTYPE=image/png:https://www.protec17.org/wp-content/uploads/2018/12/tacoma-e1544559258741.png
ORGANIZER;CN="Brent Wagar":MAILTO:brent@protec17.org
END:VEVENT
BEGIN:VEVENT
DTSTART;TZID=America/Los_Angeles:20230810T120000
DTEND;TZID=America/Los_Angeles:20230810T130000
DTSTAMP:20260424T123859
CREATED:20230112T204957Z
LAST-MODIFIED:20230112T204957Z
UID:6879-1691668800-1691672400@www.protec17.org
SUMMARY:Seattle Chapter Meeting (Virtual)
DESCRIPTION:Join your fellow PROTEC17 Seattle members for the next chapter meeting! Detailed information on how to join the online chapter meeting is emailed out to members’ personal emails. You can also check the Member Portal “Events” page here or ask a co-worker\, steward\, or your union rep if you didn’t receive the email.
URL:https://www.protec17.org/event/seattle-chapter-meeting-virtual-6/
LOCATION:ONLINE CHAPTER MEETING VIA ZOOM
ATTACH;FMTTYPE=image/png:https://www.protec17.org/wp-content/uploads/2018/12/CityofSeattle_logo_vertical_blue-black-1-e1544562937171.png
END:VEVENT
BEGIN:VEVENT
DTSTART;TZID=America/Los_Angeles:20230816T170000
DTEND;TZID=America/Los_Angeles:20230816T180000
DTSTAMP:20260424T123859
CREATED:20230106T002631Z
LAST-MODIFIED:20230106T002631Z
UID:6744-1692205200-1692208800@www.protec17.org
SUMMARY:Portland Chapter Meeting (Virtual)
DESCRIPTION:Detailed information on how to join the online chapter meeting is emailed out to members usually around a week before the meeting\, followed by a reminder email the day before your chapter meeting. Please check your home email address\, check out this event in the Member Portal\, or ask a co-worker/steward/your union rep if you don’t receive the email. Hope to see you all there!
URL:https://www.protec17.org/event/portland-chapter-meeting-virtual-14/
LOCATION:ONLINE CHAPTER MEETING VIA ZOOM
ATTACH;FMTTYPE=image/png:https://www.protec17.org/wp-content/uploads/2022/03/Portland-Chapter-Meeting-April-2022.png
ORGANIZER;CN="Rachel Whiteside":MAILTO:rachel@protec17.org
END:VEVENT
BEGIN:VEVENT
DTSTART;TZID=America/Los_Angeles:20230817T120000
DTEND;TZID=America/Los_Angeles:20230817T130000
DTSTAMP:20260424T123859
CREATED:20230125T213235Z
LAST-MODIFIED:20230125T213235Z
UID:6987-1692273600-1692277200@www.protec17.org
SUMMARY:King County Steward Meeting (Virtual)
DESCRIPTION:Join your fellow King County Stewards for our next King County Steward Monthly Meeting! Come meet Stewards from other departments\, learn about the new Steward Corner on the Member Portal\, and more. Open to all King County Stewards! Please check your email for full details and meeting info. Please also note that this meeting will be recurring on every third Thursday of the month unless state otherwise.
URL:https://www.protec17.org/event/king-county-steward-meeting-virtual-11/
LOCATION:ONLINE MEETING VIA ZOOM
END:VEVENT
BEGIN:VEVENT
DTSTART;TZID=America/Los_Angeles:20230824T120000
DTEND;TZID=America/Los_Angeles:20230824T130000
DTSTAMP:20260424T123859
CREATED:20230125T210650Z
LAST-MODIFIED:20230125T210650Z
UID:6975-1692878400-1692882000@www.protec17.org
SUMMARY:Seattle Steward Meeting (Virtual)
DESCRIPTION:Join your fellow Seattle Stewards for your next Seattle Steward Monthly Meeting! Come meet Stewards from other departments\, keep up to date\, build power together\, and more. Open to all Seattle Stewards! Please check your email for full details and meeting info. Please also note that this meeting will be recurring on every fourth Thursday of the month unless stated otherwise.
URL:https://www.protec17.org/event/seattle-steward-meeting-virtual-7/
LOCATION:ONLINE MEETING VIA ZOOM
END:VEVENT
END:VCALENDAR