BEGIN:VCALENDAR
VERSION:2.0
PRODID:-//PROTEC17 - ECPv6.15.17.1//NONSGML v1.0//EN
CALSCALE:GREGORIAN
METHOD:PUBLISH
X-ORIGINAL-URL:https://www.protec17.org
X-WR-CALDESC:Events for PROTEC17
REFRESH-INTERVAL;VALUE=DURATION:PT1H
X-Robots-Tag:noindex
X-PUBLISHED-TTL:PT1H
BEGIN:VTIMEZONE
TZID:America/Los_Angeles
BEGIN:DAYLIGHT
TZOFFSETFROM:-0800
TZOFFSETTO:-0700
TZNAME:PDT
DTSTART:20220313T100000
END:DAYLIGHT
BEGIN:STANDARD
TZOFFSETFROM:-0700
TZOFFSETTO:-0800
TZNAME:PST
DTSTART:20221106T090000
END:STANDARD
BEGIN:DAYLIGHT
TZOFFSETFROM:-0800
TZOFFSETTO:-0700
TZNAME:PDT
DTSTART:20230312T100000
END:DAYLIGHT
BEGIN:STANDARD
TZOFFSETFROM:-0700
TZOFFSETTO:-0800
TZNAME:PST
DTSTART:20231105T090000
END:STANDARD
BEGIN:DAYLIGHT
TZOFFSETFROM:-0800
TZOFFSETTO:-0700
TZNAME:PDT
DTSTART:20240310T100000
END:DAYLIGHT
BEGIN:STANDARD
TZOFFSETFROM:-0700
TZOFFSETTO:-0800
TZNAME:PST
DTSTART:20241103T090000
END:STANDARD
END:VTIMEZONE
BEGIN:VEVENT
DTSTART;TZID=America/Los_Angeles:20230705T120000
DTEND;TZID=America/Los_Angeles:20230705T130000
DTSTAMP:20260420T221507
CREATED:20221221T002100Z
LAST-MODIFIED:20221221T002100Z
UID:6654-1688558400-1688562000@www.protec17.org
SUMMARY:Steward Training - Part 1 (Virtual)
DESCRIPTION:Not sure what all a steward does? We’re here to help! Join your fellow PROTEC17 union stewards on Wed.\, April 5 for Steward Training – Part I! We’ll discuss the many roles of an effective steward\, grievances\, and members’ right to representation. Open to all stewards\, new and experienced! Members will need to attend Parts 1 and 2 before officially becoming a Steward. PROTEC17 members\, please check your email and/or the Member Portal for more info and meeting details.
URL:https://www.protec17.org/event/steward-training-part-1-virtual-9/
LOCATION:ONLINE MEETING VIA ZOOM
ATTACH;FMTTYPE=image/jpeg:https://www.protec17.org/wp-content/uploads/2020/02/Steward-Training-Web.jpg
END:VEVENT
BEGIN:VEVENT
DTSTART;TZID=America/Los_Angeles:20230711T120000
DTEND;TZID=America/Los_Angeles:20230711T130000
DTSTAMP:20260420T221507
CREATED:20221221T002150Z
LAST-MODIFIED:20221221T002150Z
UID:6656-1689076800-1689080400@www.protec17.org
SUMMARY:PROTEC17 Presents: Union 101 Training! (Virtual)
DESCRIPTION:First time being a union member? Been a member for awhile\, but not sure what PROTEC17 does? Join us for a quick Union 101 training to learn more about your union\, what unions do\, and opportunity to ask your lingering questions! Open to all bargaining unit members\, you do not need to have signed a membership card to attend. Please check your email or the Member Portal Events page for meeting details. \n 
URL:https://www.protec17.org/event/protec17-presents-union-101-training-virtual-3/
LOCATION:ONLINE MEETING VIA ZOOM
ATTACH;FMTTYPE=image/jpeg:https://www.protec17.org/wp-content/uploads/2022/07/steward-training.jpeg
END:VEVENT
BEGIN:VEVENT
DTSTART;TZID=America/Los_Angeles:20230711T120000
DTEND;TZID=America/Los_Angeles:20230711T130000
DTSTAMP:20260420T221507
CREATED:20230210T213532Z
LAST-MODIFIED:20230210T213532Z
UID:7171-1689076800-1689080400@www.protec17.org
SUMMARY:King County Chapter Meeting (Virtual)
DESCRIPTION:PROTEC17 King County Chapter members: join your fellow union siblings for our next chapter meeting. Please see your email or the Member Portal events page for full details\, including how to access the meeting.
URL:https://www.protec17.org/event/king-county-chapter-meeting-virtual-4/
LOCATION:ONLINE CHAPTER MEETING VIA ZOOM
ATTACH;FMTTYPE=image/png:https://www.protec17.org/wp-content/uploads/2022/07/King-County-2.png
END:VEVENT
BEGIN:VEVENT
DTSTART;TZID=America/Los_Angeles:20230712T120000
DTEND;TZID=America/Los_Angeles:20230712T130000
DTSTAMP:20260420T221507
CREATED:20221221T002247Z
LAST-MODIFIED:20221221T002247Z
UID:6658-1689163200-1689166800@www.protec17.org
SUMMARY:Steward Training - Part 2 (Virtual)
DESCRIPTION:Join your fellow PROTEC17 union stewards on Wed.\, July 12 for Steward Training – Part 2! We’ll dig deeper into activating new members\, how to organize your coworkers\, and how to take action on issues impacting your workplace. Open to all stewards\, new and experienced! Members will need to attend Parts 1 and 2 before officially becoming a Steward. PROTEC17 members\, please check your email and/or the Member Portal for more info and meeting details. \n 
URL:https://www.protec17.org/event/steward-training-part-2-virtual-9/
LOCATION:ONLINE MEETING VIA ZOOM
ATTACH;FMTTYPE=image/jpeg:https://www.protec17.org/wp-content/uploads/2022/07/steward-training.jpeg
END:VEVENT
BEGIN:VEVENT
DTSTART;TZID=America/Los_Angeles:20230712T120000
DTEND;TZID=America/Los_Angeles:20230712T130000
DTSTAMP:20260420T221507
CREATED:20230112T190144Z
LAST-MODIFIED:20230112T190144Z
UID:6867-1689163200-1689166800@www.protec17.org
SUMMARY:WSDOT Chapter Meeting (Virtual)
DESCRIPTION:Detailed information on how to join this online meeting will be emailed out to members one week prior to the meeting\, followed by a Reminder email the day before the meeting. For more details (including how to get into the meeting)\, please refer to your personal email\, find this meeting under “Events” on the Member Portal\, ask a co-worker\, steward\, or your union rep if you don’t receive the email.  Hope to see you all there!
URL:https://www.protec17.org/event/wsdot-chapter-meeting-virtual-7/
LOCATION:ONLINE CHAPTER MEETING VIA ZOOM
ATTACH;FMTTYPE=image/png:https://www.protec17.org/wp-content/uploads/2018/12/wsdot-logo-e1544476767123.png
ORGANIZER;CN="Sarah Lorenzini":MAILTO:sarah@protec17.org
END:VEVENT
BEGIN:VEVENT
DTSTART;TZID=America/Los_Angeles:20230712T173000
DTEND;TZID=America/Los_Angeles:20230712T183000
DTSTAMP:20260420T221507
CREATED:20230125T201420Z
LAST-MODIFIED:20230125T201420Z
UID:6960-1689183000-1689186600@www.protec17.org
SUMMARY:Tacoma Chapter Meeting (Virtual)
DESCRIPTION:PROTEC17 City of Tacoma members\, join your fellow union siblings for our next chapter meeting. Please check your home email or the events page in the Member Portal for all the details and online log-in information. See you at the meeting!
URL:https://www.protec17.org/event/tacoma-chapter-meeting-virtual-7/
LOCATION:ONLINE CHAPTER MEETING VIA ZOOM
ATTACH;FMTTYPE=image/png:https://www.protec17.org/wp-content/uploads/2018/12/tacoma-e1544559258741.png
ORGANIZER;CN="Brent Wagar":MAILTO:brent@protec17.org
END:VEVENT
BEGIN:VEVENT
DTSTART;TZID=America/Los_Angeles:20230719T120000
DTEND;TZID=America/Los_Angeles:20230719T130000
DTSTAMP:20260420T221507
CREATED:20230615T230700Z
LAST-MODIFIED:20230615T231008Z
UID:7599-1689768000-1689771600@www.protec17.org
SUMMARY:Leader Training: How to Welcome New Members Effectively!
DESCRIPTION:One of the most important things you can do to build your union’s strength is to welcome new members right after they are hired–and anyone can do it! Join us on Wed\, July 19 at 12 p.m. to learn how you can welcome a new member and get them signed up to be an active member. We’ll also discuss tips\, how to welcome new hires (remotely and in-person)\, and how to find out when someone has been hired. We’ll be joined by one of our superstar King County Stewards\, Aaron Julyan! \nAll PROTEC17 members are invited to join\, you don’t have to be in a leadership role! \nPlease check your personal email or the Member Portal here for full details\, including how to join.
URL:https://www.protec17.org/event/leader-training-how-to-welcome-new-members-effectively/
LOCATION:ONLINE MEETING VIA ZOOM
ATTACH;FMTTYPE=image/png:https://www.protec17.org/wp-content/uploads/2023/06/leader-training-FOR-WEB.png
END:VEVENT
BEGIN:VEVENT
DTSTART;TZID=America/Los_Angeles:20230720T120000
DTEND;TZID=America/Los_Angeles:20230720T130000
DTSTAMP:20260420T221507
CREATED:20230125T212517Z
LAST-MODIFIED:20230125T212517Z
UID:6985-1689854400-1689858000@www.protec17.org
SUMMARY:King County Steward Meeting (Virtual)
DESCRIPTION:Join your fellow King County Stewards for our next King County Steward Monthly Meeting! Come meet Stewards from other departments\, learn about the new Steward Corner on the Member Portal\, and more. Open to all King County Stewards! Please check your email for full details and meeting info. Please also note that this meeting will be recurring on every third Thursday of the month unless state otherwise.
URL:https://www.protec17.org/event/king-county-steward-meeting-virtual-9/
LOCATION:ONLINE MEETING VIA ZOOM
END:VEVENT
BEGIN:VEVENT
DTSTART;TZID=America/Los_Angeles:20230726T173000
DTEND;TZID=America/Los_Angeles:20230726T183000
DTSTAMP:20260420T221507
CREATED:20230718T214051Z
LAST-MODIFIED:20230718T214051Z
UID:7753-1690392600-1690396200@www.protec17.org
SUMMARY:Spokane County Chapter Meeting (Virtual)
DESCRIPTION:PROTEC17 Spokane County Members! Join your fellow union siblings for your next chapter meeting on Wed.\, July 26 at 5:30 p.m. We will meet virtually via Zoom. We will talk about our upcoming contract negotiations kickoff and have a chance for an open forum as well. Hope to see you there! For full details\, including how to join\, please check your personal email or the Member Portal here.
URL:https://www.protec17.org/event/spokane-county-chapter-meeting-virtual/
LOCATION:ONLINE CHAPTER MEETING VIA ZOOM
ATTACH;FMTTYPE=image/png:https://www.protec17.org/wp-content/uploads/2021/08/SPOKANE-LOGO-transparent-e1629479632951.png
END:VEVENT
BEGIN:VEVENT
DTSTART;TZID=America/Los_Angeles:20230727T120000
DTEND;TZID=America/Los_Angeles:20230727T130000
DTSTAMP:20260420T221507
CREATED:20230125T210457Z
LAST-MODIFIED:20230125T210457Z
UID:6973-1690459200-1690462800@www.protec17.org
SUMMARY:Seattle Steward Meeting (Virtual)
DESCRIPTION:Join your fellow Seattle Stewards for your next Seattle Steward Monthly Meeting! Come meet Stewards from other departments\, keep up to date\, build power together\, and more. Open to all Seattle Stewards! Please check your email for full details and meeting info. Please also note that this meeting will be recurring on every fourth Thursday of the month unless stated otherwise.
URL:https://www.protec17.org/event/seattle-steward-meeting-virtual-6/
LOCATION:ONLINE MEETING VIA ZOOM
END:VEVENT
BEGIN:VEVENT
DTSTART;TZID=America/Los_Angeles:20230727T170000
DTEND;TZID=America/Los_Angeles:20230727T190000
DTSTAMP:20260420T221507
CREATED:20230601T164758Z
LAST-MODIFIED:20230601T164758Z
UID:7550-1690477200-1690484400@www.protec17.org
SUMMARY:Portland Summer Social
DESCRIPTION:Happy Summer! ☀️ Join your fellow Portland members for a Summer social at Sellwood Park in Southeast Portland! Get ready to enjoy some good eats\, outdoor games\, and chapter solidarity. Please reach out to Chapter VP Rachel Burlington to assist with event planning. Volunteers get to pick the food and the fun!
URL:https://www.protec17.org/event/portland-summer-social/
LOCATION:Sellwood Park\, SE 7th Ave &\, SE Miller St.\, Portland\, 97202
ATTACH;FMTTYPE=image/png:https://www.protec17.org/wp-content/uploads/2023/06/portland-summer-social-June-2023-FOR-WEB.png
ORGANIZER;CN="Rachel Burlington":MAILTO:rachel.burlington@portlandoregon.gov
END:VEVENT
BEGIN:VEVENT
DTSTART;VALUE=DATE:20230731
DTEND;VALUE=DATE:20230801
DTSTAMP:20260420T221507
CREATED:20230324T164612Z
LAST-MODIFIED:20230324T165711Z
UID:7329-1690761600-1690847999@www.protec17.org
SUMMARY:2023 PROTEC17 Scholarship Application Deadline - July 31\, 2023
DESCRIPTION:The deadline for the 2023 PROTEC17 scholarships is July 31\, 2023. For more details on the program please visit protec17.org/benefits.
URL:https://www.protec17.org/event/2023-protec17-scholarship-application-deadline-july-31-2023/
ATTACH;FMTTYPE=image/png:https://www.protec17.org/wp-content/uploads/2023/03/2023-scholarship-FOR-THE-WEB.png
END:VEVENT
END:VCALENDAR