BEGIN:VCALENDAR
VERSION:2.0
PRODID:-//PROTEC17 - ECPv6.15.17.1//NONSGML v1.0//EN
CALSCALE:GREGORIAN
METHOD:PUBLISH
X-WR-CALNAME:PROTEC17
X-ORIGINAL-URL:https://www.protec17.org
X-WR-CALDESC:Events for PROTEC17
REFRESH-INTERVAL;VALUE=DURATION:PT1H
X-Robots-Tag:noindex
X-PUBLISHED-TTL:PT1H
BEGIN:VTIMEZONE
TZID:America/Los_Angeles
BEGIN:DAYLIGHT
TZOFFSETFROM:-0800
TZOFFSETTO:-0700
TZNAME:PDT
DTSTART:20210314T100000
END:DAYLIGHT
BEGIN:STANDARD
TZOFFSETFROM:-0700
TZOFFSETTO:-0800
TZNAME:PST
DTSTART:20211107T090000
END:STANDARD
BEGIN:DAYLIGHT
TZOFFSETFROM:-0800
TZOFFSETTO:-0700
TZNAME:PDT
DTSTART:20220313T100000
END:DAYLIGHT
BEGIN:STANDARD
TZOFFSETFROM:-0700
TZOFFSETTO:-0800
TZNAME:PST
DTSTART:20221106T090000
END:STANDARD
BEGIN:DAYLIGHT
TZOFFSETFROM:-0800
TZOFFSETTO:-0700
TZNAME:PDT
DTSTART:20230312T100000
END:DAYLIGHT
BEGIN:STANDARD
TZOFFSETFROM:-0700
TZOFFSETTO:-0800
TZNAME:PST
DTSTART:20231105T090000
END:STANDARD
END:VTIMEZONE
BEGIN:VEVENT
DTSTART;TZID=America/Los_Angeles:20221206T110000
DTEND;TZID=America/Los_Angeles:20221206T120000
DTSTAMP:20260420T230346
CREATED:20220825T222947Z
LAST-MODIFIED:20221024T184921Z
UID:6114-1670324400-1670328000@www.protec17.org
SUMMARY:King County Chapter Meeting
DESCRIPTION:Join us for the King County Chapter Meeting! \nTues.\, Dec. 6\n12 – 1 p.m.\n \nMembers\, please check your email for zoom information from your union representatives. Thank you! \n 
URL:https://www.protec17.org/event/king-county-chapter-meeting-11/
LOCATION:ONLINE CHAPTER MEETING VIA ZOOM
ATTACH;FMTTYPE=image/png:https://www.protec17.org/wp-content/uploads/2022/07/IMG_9084.png
END:VEVENT
BEGIN:VEVENT
DTSTART;TZID=America/Los_Angeles:20221206T120000
DTEND;TZID=America/Los_Angeles:20221206T130000
DTSTAMP:20260420T230346
CREATED:20220819T171327Z
LAST-MODIFIED:20220819T171327Z
UID:6059-1670328000-1670331600@www.protec17.org
SUMMARY:Portland Chapter Meeting
DESCRIPTION:Detailed information on how to join the online chapter meeting is emailed out to members usually around a week before the meeting\, followed by a reminder email the day before your chapter meeting.  Please refer to your home email to get that information\, or ask a co-worker\, steward\, or your union rep if you don’t receive the email.  Hope to see you all there!
URL:https://www.protec17.org/event/portland-chapter-meeting-11/
LOCATION:ONLINE CHAPTER MEETING VIA ZOOM
ATTACH;FMTTYPE=image/png:https://www.protec17.org/wp-content/uploads/2022/03/Portland-Chapter-Meeting-April-2022.png
ORGANIZER;CN="Rachel Whiteside":MAILTO:rachel@protec17.org
END:VEVENT
BEGIN:VEVENT
DTSTART;VALUE=DATE:20221206
DTEND;VALUE=DATE:20221208
DTSTAMP:20260420T230346
CREATED:20221118T185217Z
LAST-MODIFIED:20221118T185439Z
UID:6506-1670342400-1670428799@www.protec17.org
SUMMARY:Seattle Sticker Up Call to Action (Virtual)
DESCRIPTION:Calling all PROTEC17 Seattle members! Join your fellow union siblings in a call to action Sticker Up on Wed.\, Dec. 7. The next contract bargaining session will be that day and your bargaining team needs you to show your support and solidarity. \nPlease download one of our virtual backgrounds (HERE or HERE) or profile photo to use in your virtual meetings on that day. Or reach out to your Union Representative\, Bargaining Team Member\, or Contract Action Team member to get a sticker to wear in your workplace! \nMake sure to hashtag #RSPCT4CityWorkers in all social media posts as you show your support and solidarity!
URL:https://www.protec17.org/event/seattle-sticker-up-call-to-action-virtual/
ATTACH;FMTTYPE=image/png:https://www.protec17.org/wp-content/uploads/2022/11/sticker-up-event-image.png
END:VEVENT
BEGIN:VEVENT
DTSTART;TZID=America/Los_Angeles:20221207T120000
DTEND;TZID=America/Los_Angeles:20221207T130000
DTSTAMP:20260420T230346
CREATED:20221123T173823Z
LAST-MODIFIED:20221130T172723Z
UID:6525-1670414400-1670418000@www.protec17.org
SUMMARY:Building Your Union’s Power & Fending Off Threats (Virtual Training)
DESCRIPTION:Join your fellow union members to learn more about threats facing public sector unions and how to talk with your coworkers about them! We’ll discuss how to prepare for external threats by inoculating your coworkers in advance. Open to all Members! \nHosted in partnership with the Accountable NW. \n— \nPlease check your email or the member portal for details on registration.
URL:https://www.protec17.org/event/building-your-unions-power-fending-off-threats-virtual-training/
LOCATION:ONLINE ONLY
ATTACH;FMTTYPE=image/png:https://www.protec17.org/wp-content/uploads/2022/11/Building-Your-Unions-Power-Fending-Off-Threats-Virtual-Training.png
END:VEVENT
BEGIN:VEVENT
DTSTART;TZID=America/Los_Angeles:20221207T173000
DTEND;TZID=America/Los_Angeles:20221207T203000
DTSTAMP:20260420T230346
CREATED:20221118T233234Z
LAST-MODIFIED:20221130T172812Z
UID:6511-1670434200-1670445000@www.protec17.org
SUMMARY:Portland Chapter - Winter Social
DESCRIPTION:PROTEC17 Portland Chapter is having a fun\, winter social on Wed.\, Dec. 7 at 5:30 p.m. at Wayfinder Beer (304 SE 2nd Ave). The event is kid friendly so feel free to bring family/friends! Please note that everyone will be responsible for their own tabs.
URL:https://www.protec17.org/event/portland-chapter-winter-social/
LOCATION:Wayfinder Beer\, 304 SE 2nd Ave\, Portland\, OR\, 97214\, United States
ATTACH;FMTTYPE=image/png:https://www.protec17.org/wp-content/uploads/2022/11/Portland-social-127-1920-×-1080-px.png
ORGANIZER;CN="Rachel Whiteside":MAILTO:rachel@protec17.org
END:VEVENT
BEGIN:VEVENT
DTSTART;TZID=America/Los_Angeles:20221208T120000
DTEND;TZID=America/Los_Angeles:20221208T130000
DTSTAMP:20260420T230346
CREATED:20220305T052645Z
LAST-MODIFIED:20220517T175837Z
UID:5454-1670500800-1670504400@www.protec17.org
SUMMARY:Seattle Chapter Meeting
DESCRIPTION:Detailed information on how to join the online chapter meeting is emailed out to members usually around a week before the meeting\, followed by a reminder email the day before your chapter meeting.  Please refer to your home email to get that information\, or ask a co-worker\, steward\, or your union rep if you don’t receive the email.  Hope to see you all there! \n  \n  \n 
URL:https://www.protec17.org/event/seattle-chapter-meeting-thurs-dec-8-online/
LOCATION:ONLINE MEETING VIA ZOOM
ATTACH;FMTTYPE=image/jpeg:https://www.protec17.org/wp-content/uploads/2018/11/DSC_0322-1.jpg
END:VEVENT
BEGIN:VEVENT
DTSTART;TZID=America/Los_Angeles:20221214T110000
DTEND;TZID=America/Los_Angeles:20221214T120000
DTSTAMP:20260420T230346
CREATED:20221109T212031Z
LAST-MODIFIED:20221109T230218Z
UID:6469-1671015600-1671019200@www.protec17.org
SUMMARY:BIPOC Member Meeting
DESCRIPTION:Join your fellow Black\, Indigenous\, and People of Color (BIPOC) union siblings for our very first BIPOC Member Meeting on Wed.\, Dec. 14 at 12 p.m. noon via Zoom. PROTEC17 members\, please check your email for more details.
URL:https://www.protec17.org/event/bipoc-member-meeting/
CATEGORIES:racial justice
ATTACH;FMTTYPE=image/png:https://www.protec17.org/wp-content/uploads/2022/11/BIPOC-meeting.png
END:VEVENT
BEGIN:VEVENT
DTSTART;TZID=America/Los_Angeles:20221214T120000
DTEND;TZID=America/Los_Angeles:20221214T130000
DTSTAMP:20260420T230346
CREATED:20220824T215320Z
LAST-MODIFIED:20220824T215320Z
UID:6091-1671019200-1671022800@www.protec17.org
SUMMARY:WSDOT Chapter Meeting
DESCRIPTION:Detailed information on how to join this online meeting will be emailed out to members one week prior to the meeting\, followed by a Reminder email the day before the meeting.  Please refer to your personal email to get that information\, or ask a co-worker\, steward\, or your union rep if you don’t receive the email.  Hope to see you all there!
URL:https://www.protec17.org/event/wsdot-chapter-meeting-4/
LOCATION:ONLINE MEETING VIA ZOOM
ATTACH;FMTTYPE=image/jpeg:https://www.protec17.org/wp-content/uploads/2020/05/state-of-washington-logo.jpg
ORGANIZER;CN="Sarah Lorenzini":MAILTO:sarah@protec17.org
END:VEVENT
BEGIN:VEVENT
DTSTART;TZID=America/Los_Angeles:20221214T173000
DTEND;TZID=America/Los_Angeles:20221214T183000
DTSTAMP:20260420T230346
CREATED:20220825T211107Z
LAST-MODIFIED:20220825T211107Z
UID:6108-1671039000-1671042600@www.protec17.org
SUMMARY:Tacoma Chapter Meeting
DESCRIPTION:Detailed information on how to join the online meeting is sent to members’ home email approximately a week before the meeting. \nPlease check your home email for all the details on the meeting agenda and the online log-in information! \nSee you at the meeting! \n  \n  \n 
URL:https://www.protec17.org/event/tacoma-chapter-meeting-9/
LOCATION:ONLINE MEETING VIA ZOOM
ATTACH;FMTTYPE=image/png:https://www.protec17.org/wp-content/uploads/2022/08/Tacoma-Chapter-Mtg.-8.10.22.png
END:VEVENT
BEGIN:VEVENT
DTSTART;TZID=America/Los_Angeles:20221215T110000
DTEND;TZID=America/Los_Angeles:20221215T120000
DTSTAMP:20260420T230346
CREATED:20221118T182233Z
LAST-MODIFIED:20221118T182353Z
UID:6502-1671102000-1671105600@www.protec17.org
SUMMARY:King County Steward Meeting (Virtual)
DESCRIPTION:Join your fellow King County Stewards for our next King County Steward Monthly Meeting on Thurs.\, Dec. 15! Come meet Stewards from other departments\, learn about the new Steward Corner on the Member Portal\, and more. Open to all King County Stewards! \nPlease check your email for full details and meeting info. Please also note that this meeting will be recurring on every third Thursday of the month unless state otherwise.
URL:https://www.protec17.org/event/king-county-steward-meeting-virtual-3/
LOCATION:ONLINE MEETING VIA ZOOM
END:VEVENT
BEGIN:VEVENT
DTSTART;TZID=America/Los_Angeles:20221220T120000
DTEND;TZID=America/Los_Angeles:20221220T130000
DTSTAMP:20260420T230346
CREATED:20220725T230222Z
LAST-MODIFIED:20221219T234813Z
UID:5917-1671537600-1671541200@www.protec17.org
SUMMARY:Benton-Franklin Chapter Meeting - December 2022
DESCRIPTION:Join us in person for our December Chapter Meeting! \n\nDate: Tues.\, Dec. 20\nTime: 12-1 p.m.\nLocation: Benton-Franklin Public Health District
URL:https://www.protec17.org/event/benton-franklin-chapter-meeting-december/
LOCATION:Benton-Franklin Health District\, 7102 W Okanogan Pl.\, Kennewick\, WA\, 99336\, United States
ATTACH;FMTTYPE=image/jpeg:https://www.protec17.org/wp-content/uploads/2018/12/BFHD-Leadership-Team.jpg
END:VEVENT
BEGIN:VEVENT
DTSTART;TZID=America/Los_Angeles:20221221T170000
DTEND;TZID=America/Los_Angeles:20221221T180000
DTSTAMP:20260420T230346
CREATED:20221209T154244Z
LAST-MODIFIED:20221209T154244Z
UID:6542-1671642000-1671645600@www.protec17.org
SUMMARY:Portland Chapter Meeting
DESCRIPTION:Join us at the next Portland Chapter meeting – held on the first Tues. and third Wed. of each month. Details and Zoom login information are emailed out to members before each meeting.
URL:https://www.protec17.org/event/portland-chapter-meeting-12-21-22/
LOCATION:ONLINE CHAPTER MEETING VIA ZOOM
ATTACH;FMTTYPE=image/png:https://www.protec17.org/wp-content/uploads/2022/03/Portland-Chapter-Meeting-April-2022.png
END:VEVENT
END:VCALENDAR