BEGIN:VCALENDAR
VERSION:2.0
PRODID:-//PROTEC17 - ECPv6.15.20//NONSGML v1.0//EN
CALSCALE:GREGORIAN
METHOD:PUBLISH
X-WR-CALNAME:PROTEC17
X-ORIGINAL-URL:https://www.protec17.org
X-WR-CALDESC:Events for PROTEC17
REFRESH-INTERVAL;VALUE=DURATION:PT1H
X-Robots-Tag:noindex
X-PUBLISHED-TTL:PT1H
BEGIN:VTIMEZONE
TZID:America/Los_Angeles
BEGIN:DAYLIGHT
TZOFFSETFROM:-0800
TZOFFSETTO:-0700
TZNAME:PDT
DTSTART:20210314T100000
END:DAYLIGHT
BEGIN:STANDARD
TZOFFSETFROM:-0700
TZOFFSETTO:-0800
TZNAME:PST
DTSTART:20211107T090000
END:STANDARD
BEGIN:DAYLIGHT
TZOFFSETFROM:-0800
TZOFFSETTO:-0700
TZNAME:PDT
DTSTART:20220313T100000
END:DAYLIGHT
BEGIN:STANDARD
TZOFFSETFROM:-0700
TZOFFSETTO:-0800
TZNAME:PST
DTSTART:20221106T090000
END:STANDARD
BEGIN:DAYLIGHT
TZOFFSETFROM:-0800
TZOFFSETTO:-0700
TZNAME:PDT
DTSTART:20230312T100000
END:DAYLIGHT
BEGIN:STANDARD
TZOFFSETFROM:-0700
TZOFFSETTO:-0800
TZNAME:PST
DTSTART:20231105T090000
END:STANDARD
END:VTIMEZONE
BEGIN:VEVENT
DTSTART;TZID=America/Los_Angeles:20220712T143000
DTEND;TZID=America/Los_Angeles:20220712T153000
DTSTAMP:20260425T174251
CREATED:20220629T170547Z
LAST-MODIFIED:20220705T232148Z
UID:5786-1657636200-1657639800@www.protec17.org
SUMMARY:PROTEC17 Workers' Roundtable (PWR!) Meeting
DESCRIPTION:Join us for the next meeting of the PROTEC17 Workers Roundtable (PWR!) virtual meeting on July 12 at 3:30 p.m. to connect with other PROTEC17 members to mobilize around the recent overturning of Roe v. Wade\, which threatens reproductive rights. \n REGISTER HERE to take action\, connect with others\, and together\, we will reimagine our future where each and every person has the dignity\, respect\, and freedom to choose how and when to expand their family and thrive.
URL:https://www.protec17.org/event/protec17-workers-roundtable-pwr-meeting/
LOCATION:ONLINE MEETING VIA ZOOM
CATEGORIES:racial justice
ATTACH;FMTTYPE=image/png:https://www.protec17.org/wp-content/uploads/2020/09/5726d8d39f_AntiRacismResources_Blog_Social-c.png
ORGANIZER;CN="Karen Estevenin":MAILTO:karen@protec17.org
END:VEVENT
BEGIN:VEVENT
DTSTART;TZID=America/Los_Angeles:20220713T120000
DTEND;TZID=America/Los_Angeles:20220713T130000
DTSTAMP:20260425T174251
CREATED:20220504T171621Z
LAST-MODIFIED:20220517T180818Z
UID:5647-1657713600-1657717200@www.protec17.org
SUMMARY:WSDOT Chapter Meeting
DESCRIPTION:Detailed information on how to join this online meeting will be emailed out to members one week prior to the meeting\, on Wed.\, July 6th\, followed by a Reminder email the day before the meeting\, on Tues.\, July 12th.  Please refer to your home email to get that information\, or ask a co-worker\, steward\, or your union rep if you don’t receive the email.  Hope to see you all there!
URL:https://www.protec17.org/event/wsdot-chapter-meeting-wed-july-13th-online/
LOCATION:ONLINE MEETING VIA ZOOM
ATTACH;FMTTYPE=image/jpeg:https://www.protec17.org/wp-content/uploads/2020/05/state-of-washington-logo.jpg
ORGANIZER;CN="Sarah Lorenzini":MAILTO:sarah@protec17.org
END:VEVENT
BEGIN:VEVENT
DTSTART;TZID=America/Los_Angeles:20220714T120000
DTEND;TZID=America/Los_Angeles:20220714T130000
DTSTAMP:20260425T174251
CREATED:20220305T051725Z
LAST-MODIFIED:20220517T180451Z
UID:5438-1657800000-1657803600@www.protec17.org
SUMMARY:Seattle Chapter Meeting
DESCRIPTION:Detailed information on how to join the online chapter meeting is emailed out to members usually around a week before the meeting\, followed by a reminder email the day before your chapter meeting.  Please refer to your home email to get that information\, or ask a co-worker\, steward\, or your union rep if you don’t receive the email.  Hope to see you all there! \n  \n  \n 
URL:https://www.protec17.org/event/seattle-chapter-meeting-thurs-july-14-online/
LOCATION:ONLINE MEETING VIA ZOOM
ATTACH;FMTTYPE=image/jpeg:https://www.protec17.org/wp-content/uploads/2018/11/DSC_0322-1.jpg
END:VEVENT
BEGIN:VEVENT
DTSTART;TZID=America/Los_Angeles:20220720T150000
DTEND;TZID=America/Los_Angeles:20220720T170000
DTSTAMP:20260425T174251
CREATED:20220718T195418Z
LAST-MODIFIED:20220718T201421Z
UID:5832-1658329200-1658336400@www.protec17.org
SUMMARY:APALA AFL-CIO -  Organizing Workshop
DESCRIPTION:In collaboration with the UCLA Labor Center and Asian Pacific American Labor Alliance\, the Asian Pacific American Labor Alliance (APALA) will be hosting five virtual workshops between July and August 2022 for a Racial Justice Workshops Series. The purpose of these workshops are is to educate and mobilize folks in the community and across the nation across key topics: racial justice\, organizing\, reproductive rights\, political power\, and immigrant rights. \nJoin APALA for their Organizing Workshop on Zoom featuring speakers: \n\nLuisa Blue\, Former SEIU Executive VP\nArlene Inouye\, United Teachers of Los Angeles\nKathleen Yasuda\, Los Angeles Trade College Labor Center\nBrady Calma\, APALA President\, and SEIU UHW\n\nREGISTER HERE
URL:https://www.protec17.org/event/apala-afl-cio-organizing-workshop/
CATEGORIES:racial justice
ATTACH;FMTTYPE=image/jpeg:https://www.protec17.org/wp-content/uploads/2022/07/Image-7-18-22-at-12.50-PM.jpg
END:VEVENT
BEGIN:VEVENT
DTSTART;TZID=America/Los_Angeles:20220721T160000
DTEND;TZID=America/Los_Angeles:20220721T180000
DTSTAMP:20260425T174251
CREATED:20220627T195729Z
LAST-MODIFIED:20220721T182038Z
UID:5781-1658419200-1658426400@www.protec17.org
SUMMARY:Portland Chapter Summer Picnic
DESCRIPTION:We have a huge picnic site reserved at Mt. Tabor Park in SE Portland for July 21!  \nJoin us at 5 p.m. for some good eats\, to visit safely outdoors\, and celebrate our new contract. \nPlease RSVP HERE so we can ensure there is enough pizza and ice cream. We’re also looking for a few volunteers to bring games or help with set-up/clean-up. \nMt. Tabor Park is quite large. We’ll be at Picnic Area B – see the orange star on the map below. This is not near the main parking area\, but you can park on 71st and use the stairs near the tennis courts. Bus #15 stops near the park entrance at 69th & Yamhill.
URL:https://www.protec17.org/event/portland-chapter-summer-picnic/
LOCATION:Mt. Tabor Park\, SE 60th Ave & SE Salmon St.\, Portland\, Oregon\, 97215
ATTACH;FMTTYPE=image/jpeg:https://www.protec17.org/wp-content/uploads/2022/06/Mt-Tabor.jpeg
ORGANIZER;CN="Rachel Whiteside":MAILTO:rachel@protec17.org
END:VEVENT
BEGIN:VEVENT
DTSTART;TZID=America/Los_Angeles:20220727T110000
DTEND;TZID=America/Los_Angeles:20220727T120000
DTSTAMP:20260425T174251
CREATED:20220721T185146Z
LAST-MODIFIED:20220726T190039Z
UID:5929-1658919600-1658923200@www.protec17.org
SUMMARY:King County Chapter Meeting (Online via Zoom)
DESCRIPTION:Join us for the King County Chapter Meeting! \nWed.\, July 27\n12 p.m.\n \nMembers\, please check your email for zoom information from your union representatives. Thank you! \n 
URL:https://www.protec17.org/event/king-county-chapter-meeting-8/
LOCATION:ONLINE CHAPTER MEETING VIA ZOOM
ATTACH;FMTTYPE=image/png:https://www.protec17.org/wp-content/uploads/2022/07/King-County-2.png
END:VEVENT
BEGIN:VEVENT
DTSTART;TZID=America/Los_Angeles:20220727T150000
DTEND;TZID=America/Los_Angeles:20220727T170000
DTSTAMP:20260425T174251
CREATED:20220718T200222Z
LAST-MODIFIED:20220725T175555Z
UID:5835-1658934000-1658941200@www.protec17.org
SUMMARY:APALA AFL-CIO - Reproductive Rights Workshop
DESCRIPTION:In collaboration with the UCLA Labor Center and Asian Pacific American Labor Alliance\, the Asian Pacific American Labor Alliance (APALA) will be hosting five virtual workshops between July and August 2022 for a Racial Justice Workshops Series. The purpose of these workshops are is to educate and mobilize folks in the community and across the nation across key topics: racial justice\, organizing\, reproductive rights\, political power\, and immigrant rights. \nJoin APALA for their Reproductive Rights Workshop on Zoom featuring speakers: \n\nLigaya Domingo\, SEIU 1199NW\nDarlene Lombos\, Boston Central Labor Council\nTracy Lai\, Seattle AFT\nElise Bryant\, Coalition of Labor Union Women\n\nREGISTER HERE
URL:https://www.protec17.org/event/apala-afl-cio-reproductive-rights-workshop/
ATTACH;FMTTYPE=image/jpeg:https://www.protec17.org/wp-content/uploads/2022/07/Image-7-18-22-at-12.50-PM.jpg
END:VEVENT
END:VCALENDAR