BEGIN:VCALENDAR
VERSION:2.0
PRODID:-//PROTEC17 - ECPv6.15.17.1//NONSGML v1.0//EN
CALSCALE:GREGORIAN
METHOD:PUBLISH
X-WR-CALNAME:PROTEC17
X-ORIGINAL-URL:https://www.protec17.org
X-WR-CALDESC:Events for PROTEC17
REFRESH-INTERVAL;VALUE=DURATION:PT1H
X-Robots-Tag:noindex
X-PUBLISHED-TTL:PT1H
BEGIN:VTIMEZONE
TZID:America/Los_Angeles
BEGIN:DAYLIGHT
TZOFFSETFROM:-0800
TZOFFSETTO:-0700
TZNAME:PDT
DTSTART:20210314T100000
END:DAYLIGHT
BEGIN:STANDARD
TZOFFSETFROM:-0700
TZOFFSETTO:-0800
TZNAME:PST
DTSTART:20211107T090000
END:STANDARD
BEGIN:DAYLIGHT
TZOFFSETFROM:-0800
TZOFFSETTO:-0700
TZNAME:PDT
DTSTART:20220313T100000
END:DAYLIGHT
BEGIN:STANDARD
TZOFFSETFROM:-0700
TZOFFSETTO:-0800
TZNAME:PST
DTSTART:20221106T090000
END:STANDARD
BEGIN:DAYLIGHT
TZOFFSETFROM:-0800
TZOFFSETTO:-0700
TZNAME:PDT
DTSTART:20230312T100000
END:DAYLIGHT
BEGIN:STANDARD
TZOFFSETFROM:-0700
TZOFFSETTO:-0800
TZNAME:PST
DTSTART:20231105T090000
END:STANDARD
END:VTIMEZONE
BEGIN:VEVENT
DTSTART;TZID=America/Los_Angeles:20220601T120000
DTEND;TZID=America/Los_Angeles:20220601T130000
DTSTAMP:20260420T234343
CREATED:20220121T011604Z
LAST-MODIFIED:20220517T181937Z
UID:5228-1654084800-1654088400@www.protec17.org
SUMMARY:Spokane Lunch & Learn
DESCRIPTION:Important!  Registration is required to attend. \nFor Spokane members only.  You’ll need to register in advance to be able to join the meeting. \nDetails on how to register for this meeting will be sent to members’ home email one week before the event. \n  \n 
URL:https://www.protec17.org/event/lunch-learn-spokane-members-wed-june-1-2022-online/
LOCATION:ONLINE MEETING VIA ZOOM
ATTACH;FMTTYPE=image/jpeg:https://www.protec17.org/wp-content/uploads/2022/01/Lunch-Learn-LOGO2-for-Spokane-1.jpg
END:VEVENT
BEGIN:VEVENT
DTSTART;TZID=America/Los_Angeles:20220604T090000
DTEND;TZID=America/Los_Angeles:20220604T110000
DTSTAMP:20260420T234343
CREATED:20220427T164804Z
LAST-MODIFIED:20220427T164804Z
UID:5614-1654333200-1654340400@www.protec17.org
SUMMARY:Race and Labor | Bridging the Divide: Tools for Building Union Solidarity
DESCRIPTION:This event is sponsored by: Thurston-Lewis-Mason CLC\, Twin Harbors CLC\, and the Washington State Labor Council\, AFL-CIO. \n\nHow do we talk to members and coworkers who think differently than us (politics\, racial and gender justice\, membership\, etc…)? Would you like to be a better leader in your workplace and a voice for change? These are such big issues – what can we actually do about it?\n\nThis participatory workshop is designed to give you practical tools for building union solidarity within your workplace. This 2 hour session will help you to engage in effective conversations to build unity and solidarity among those you work with. Learn more at wslc.org/race-and-labor.\n\nBridging the Divide will be held Saturday\, June 4 from 9:00 -11:00am PST. Interpretation and closed captioning are available upon request. You will need a computer\, tablet\, or smartphone with internet access to participate virtually.\n\nRegister at: https://act.aflcio.org/events/june-4-thurston-lewis-mason-and-twin-harbors-counties-race-labor-workshop
URL:https://www.protec17.org/event/race-and-labor-bridging-the-divide-tools-for-building-union-solidarity/
CATEGORIES:racial justice
ATTACH;FMTTYPE=image/png:https://www.protec17.org/wp-content/uploads/2022/04/Screen-Shot-2022-04-27-at-9.47.05-AM.png
END:VEVENT
BEGIN:VEVENT
DTSTART;TZID=America/Los_Angeles:20220607T120000
DTEND;TZID=America/Los_Angeles:20220607T130000
DTSTAMP:20260420T234343
CREATED:20220312T013148Z
LAST-MODIFIED:20220525T185735Z
UID:5485-1654603200-1654606800@www.protec17.org
SUMMARY:Portland Chapter Meeting
DESCRIPTION:Detailed information on how to join the online chapter meeting is emailed out to members usually around a week before the meeting\, followed by a reminder email the day before your chapter meeting.  Please refer to your home email to get that information\, or ask a co-worker\, steward\, or your union rep if you don’t receive the email.  Hope to see you all there!
URL:https://www.protec17.org/event/portland-chapter-meeting-online-tues-july-5-early-afternoon/
LOCATION:ONLINE MEETING VIA ZOOM
ATTACH;FMTTYPE=image/png:https://www.protec17.org/wp-content/uploads/2022/03/Portland-Chapter-Meeting-April-2022.png
ORGANIZER;CN="Rachel Whiteside":MAILTO:rachel@protec17.org
END:VEVENT
BEGIN:VEVENT
DTSTART;TZID=America/Los_Angeles:20220608T120000
DTEND;TZID=America/Los_Angeles:20220608T130000
DTSTAMP:20260420T234343
CREATED:20220504T170810Z
LAST-MODIFIED:20220517T181717Z
UID:5641-1654689600-1654693200@www.protec17.org
SUMMARY:WSDOT Chapter Meeting
DESCRIPTION:Detailed information on how to join this online meeting will be emailed out to members one week prior to the meeting\, on Wed.\, June 1st\, followed by a Reminder email the day before the meeting\, on Tues.\, June 7th.  Please refer to your home email to get that information\, or ask a co-worker\, steward\, or your union rep if you don’t receive the email.  Hope to see you all there!
URL:https://www.protec17.org/event/wsdot-chapter-meeting-wed-june-8th-online/
LOCATION:ONLINE MEETING VIA ZOOM
ATTACH;FMTTYPE=image/jpeg:https://www.protec17.org/wp-content/uploads/2020/05/state-of-washington-logo.jpg
ORGANIZER;CN="Sarah Lorenzini":MAILTO:sarah@protec17.org
END:VEVENT
BEGIN:VEVENT
DTSTART;TZID=America/Los_Angeles:20220609T120000
DTEND;TZID=America/Los_Angeles:20220609T130000
DTSTAMP:20260420T234343
CREATED:20220305T051507Z
LAST-MODIFIED:20220517T181424Z
UID:5434-1654776000-1654779600@www.protec17.org
SUMMARY:Seattle Chapter Meeting
DESCRIPTION:Detailed information on how to join the online chapter meeting is emailed out to members usually around a week before the meeting\, followed by a reminder email the day before your chapter meeting.  Please refer to your home email to get that information\, or ask a co-worker\, steward\, or your union rep if you don’t receive the email.  Hope to see you all there! \n  \n  \n 
URL:https://www.protec17.org/event/seattle-chapter-meeting-thurs-june-9-online/
LOCATION:ONLINE MEETING VIA ZOOM
ATTACH;FMTTYPE=image/jpeg:https://www.protec17.org/wp-content/uploads/2018/11/DSC_0322-1.jpg
END:VEVENT
BEGIN:VEVENT
DTSTART;TZID=America/Los_Angeles:20220615T170000
DTEND;TZID=America/Los_Angeles:20220615T180000
DTSTAMP:20260420T234343
CREATED:20220312T013428Z
LAST-MODIFIED:20220525T185808Z
UID:5488-1655312400-1655316000@www.protec17.org
SUMMARY:Portland Chapter Meeting
DESCRIPTION:Detailed information on how to join the online chapter meeting is emailed out to members usually around a week before the meeting\, followed by a reminder email the day before your chapter meeting.  Please refer to your home email to get that information\, or ask a co-worker\, steward\, or your union rep if you don’t receive the email.  Hope to see you all there!
URL:https://www.protec17.org/event/portland-chapter-meeting-online-wed-july-20-early-evening/
LOCATION:ONLINE CHAPTER MEETING VIA ZOOM
ATTACH;FMTTYPE=image/png:https://www.protec17.org/wp-content/uploads/2022/03/Portland-Chapter-Meeting-April-2022.png
ORGANIZER;CN="Rachel Whiteside":MAILTO:rachel@protec17.org
END:VEVENT
BEGIN:VEVENT
DTSTART;TZID=America/Los_Angeles:20220619T100000
DTEND;TZID=America/Los_Angeles:20220619T160000
DTSTAMP:20260420T234343
CREATED:20220603T220438Z
LAST-MODIFIED:20220603T220516Z
UID:5714-1655632800-1655654400@www.protec17.org
SUMMARY:Juneteenth Celebration - Skate to Freedom Party and Community Day
DESCRIPTION:This event is hosted by the Northwest African American Museum (NAAM).  \nNAAM will host a Skate Party with complimentary skate rental\, a community day featuring local Black-owned vendors and food trucks\, family friendly activities\, music and so much more. Join us for the ultimate Juneteenth immersive experience! Registration forthcoming on the NAAM website.
URL:https://www.protec17.org/event/juneteenth-celebration-skate-to-freedom-party-and-community-day/
LOCATION:Judkins Park\, 2150 S Norman St.\, Seattle\, WA\, 98144\, United States
CATEGORIES:racial justice
ATTACH;FMTTYPE=image/png:https://www.protec17.org/wp-content/uploads/2022/06/Screen-Shot-2022-06-03-at-3.03.32-PM.png
END:VEVENT
BEGIN:VEVENT
DTSTART;TZID=America/Los_Angeles:20220620T100000
DTEND;TZID=America/Los_Angeles:20220620T170000
DTSTAMP:20260420T234343
CREATED:20220606T170033Z
LAST-MODIFIED:20220606T170210Z
UID:5718-1655719200-1655744400@www.protec17.org
SUMMARY:Juneteenth Celebration
DESCRIPTION:You are invited to a celebration of Juneteenth for King County and City of Seattle employees!  \nJuneteenth\, which falls each year on June 19\, commemorates the end to slavery in the United States. It’s considered the oldest African American holiday. On June 17\, 2021\, it officially became a federal holiday. This year\, for the first time\, City of Seattle employees will get a paid holiday to celebrate the occasion. \nA joint group of City and County employees are planning a free event to honor Juneteenth on Monday\, June 20\, 11 a.m. to 6 p.m. at Seward Park. The event\, open to employees and their families\, will focus on unity and fellowship and feature food\, music\, art\, and more! It will provide an opportunity to connect and celebrate. \nA special thanks goes out to the team of collaborators planning this event\, including RSJ Change Teams\, Affinity Groups\, and the King County Office of Equity and Social Justice in partnership with King County’s Black leaders. Please mark your calendar for this event and stay tuned for more announcements on this fun family event. \nPlease RSVP here to let planners know if you are interested in attending the June 20th event
URL:https://www.protec17.org/event/juneteenth-celebration/
LOCATION:Seward Park\, 5900 Lake Washington Blvd S\, Seattle\, WA\, 98118\, United States
CATEGORIES:racial justice
ATTACH;FMTTYPE=image/png:https://www.protec17.org/wp-content/uploads/2022/06/Juneteenth-Flyer.png
END:VEVENT
BEGIN:VEVENT
DTSTART;TZID=America/Los_Angeles:20220621T050000
DTEND;TZID=America/Los_Angeles:20220621T060000
DTSTAMP:20260420T234343
CREATED:20220615T182112Z
LAST-MODIFIED:20220615T182112Z
UID:5759-1655787600-1655791200@www.protec17.org
SUMMARY:Benton Franklin Chapter Meeting
DESCRIPTION:Join your fellow PROTEC17 members at the next Chapter meeting! \nThis is an in-person meeting!  \nJoin us as we discuss our upcoming contract negotiations. PLUS\, there will be a taco salad bar!   🌮  🥗 \nHope to see you there!
URL:https://www.protec17.org/event/benton-franklin-chapter-meeting/
LOCATION:BFHD Spruce Room
ATTACH;FMTTYPE=image/png:https://www.protec17.org/wp-content/uploads/2018/12/bfhd-e1544137658946.png
END:VEVENT
BEGIN:VEVENT
DTSTART;VALUE=DATE:20220623
DTEND;VALUE=DATE:20220626
DTSTAMP:20260420T234343
CREATED:20220411T165739Z
LAST-MODIFIED:20220411T175055Z
UID:5551-1655942400-1656201599@www.protec17.org
SUMMARY:Summer Institute for Union Women 2022 - Western Region
DESCRIPTION:Save the Date for this virtual event hosted by the Washington Labor Education and Resource Center. \nMore information to come soon. $50 registration fee. \nQuestions? Contact: Emilie.Slater@seattlecolleges.edu
URL:https://www.protec17.org/event/summer-institute-for-union-women-2022-western-region/
LOCATION:Online meeting
ATTACH;FMTTYPE=image/png:https://www.protec17.org/wp-content/uploads/2022/04/Screen-Shot-2022-04-11-at-9.44.59-AM.png
END:VEVENT
BEGIN:VEVENT
DTSTART;TZID=America/Los_Angeles:20220626T100000
DTEND;TZID=America/Los_Angeles:20220626T140000
DTSTAMP:20260420T234343
CREATED:20220623T165056Z
LAST-MODIFIED:20220623T165339Z
UID:5776-1656237600-1656252000@www.protec17.org
SUMMARY:PROTEC17 @ Seattle Pride Parade!
DESCRIPTION:If you’re in Seattle\, march with your fellow PROTEC17 and other union members in the Seattle Pride Parade on Sun.\, June 26 starting at 11 a.m.! \nWe will be joining as part of the ‘Pride at Work‘ contingency (#68). Throw on your PROTEC17 gear and meet us on 4th Ave. between Spring and Seneca at 10:45 a.m. — look for our PROTEC17 signs!  We will have some PROTEC17 Pride hats and our new vinyl Pride stickers (see heart image at top of this message!) for members who participate! RSVP to Deidre Girard\, PROTEC17 Communications Director. \n*Parade organizers are requiring proof of vaccination and/or a negative COVID test result within 48 hours of the event to participate\, so please bring your vax card (or photo of) and/or negative test results. 
URL:https://www.protec17.org/event/protec17-seattle-pride-parade/
LOCATION:4th Ave & Spring\, Seattle
ATTACH;FMTTYPE=image/png:https://www.protec17.org/wp-content/uploads/2022/06/PROTEC17-Pride-Heart-2022-Update-copy.png
END:VEVENT
END:VCALENDAR