BEGIN:VCALENDAR
VERSION:2.0
PRODID:-//PROTEC17 - ECPv6.15.20//NONSGML v1.0//EN
CALSCALE:GREGORIAN
METHOD:PUBLISH
X-WR-CALNAME:PROTEC17
X-ORIGINAL-URL:https://www.protec17.org
X-WR-CALDESC:Events for PROTEC17
REFRESH-INTERVAL;VALUE=DURATION:PT1H
X-Robots-Tag:noindex
X-PUBLISHED-TTL:PT1H
BEGIN:VTIMEZONE
TZID:America/Los_Angeles
BEGIN:DAYLIGHT
TZOFFSETFROM:-0800
TZOFFSETTO:-0700
TZNAME:PDT
DTSTART:20210314T100000
END:DAYLIGHT
BEGIN:STANDARD
TZOFFSETFROM:-0700
TZOFFSETTO:-0800
TZNAME:PST
DTSTART:20211107T090000
END:STANDARD
BEGIN:DAYLIGHT
TZOFFSETFROM:-0800
TZOFFSETTO:-0700
TZNAME:PDT
DTSTART:20220313T100000
END:DAYLIGHT
BEGIN:STANDARD
TZOFFSETFROM:-0700
TZOFFSETTO:-0800
TZNAME:PST
DTSTART:20221106T090000
END:STANDARD
BEGIN:DAYLIGHT
TZOFFSETFROM:-0800
TZOFFSETTO:-0700
TZNAME:PDT
DTSTART:20230312T100000
END:DAYLIGHT
BEGIN:STANDARD
TZOFFSETFROM:-0700
TZOFFSETTO:-0800
TZNAME:PST
DTSTART:20231105T090000
END:STANDARD
END:VTIMEZONE
BEGIN:VEVENT
DTSTART;VALUE=DATE:20220501
DTEND;VALUE=DATE:20220601
DTSTAMP:20260425T210338
CREATED:20220426T223857Z
LAST-MODIFIED:20220428T220002Z
UID:5607-1651363200-1654041599@www.protec17.org
SUMMARY:May is Asian Pacific American Heritage Month
DESCRIPTION:Join our friends at Asian Pacific American Labor Alliance (APALA) for a series of events in May\, which is Asian Pacific American Heritage month.
URL:https://www.protec17.org/event/may-is-asian-pacific-american-heritage-month/
CATEGORIES:racial justice
ATTACH;FMTTYPE=image/png:https://www.protec17.org/wp-content/uploads/2022/04/APALA-Events-May-2022-1.png
END:VEVENT
BEGIN:VEVENT
DTSTART;TZID=America/Los_Angeles:20220510T120000
DTEND;TZID=America/Los_Angeles:20220510T130000
DTSTAMP:20260425T210338
CREATED:20220312T012657Z
LAST-MODIFIED:20220428T215605Z
UID:5479-1652184000-1652187600@www.protec17.org
SUMMARY:Portland Chapter Meeting
DESCRIPTION:Please see our email (e-newsletter from 4/28 or reminder from 5/9) or login to the members-only web portal to find the Zoom link to the virtual Chapter meeting.
URL:https://www.protec17.org/event/portland-chapter-meeting-online-tues-may-3-early-afternoon/
LOCATION:ONLINE MEETING VIA ZOOM
ATTACH;FMTTYPE=image/png:https://www.protec17.org/wp-content/uploads/2022/03/Portland-Chapter-Meeting-April-2022.png
ORGANIZER;CN="Rachel Whiteside":MAILTO:rachel@protec17.org
END:VEVENT
BEGIN:VEVENT
DTSTART;TZID=America/Los_Angeles:20220511T120000
DTEND;TZID=America/Los_Angeles:20220511T130000
DTSTAMP:20260425T210338
CREATED:20220316T003140Z
LAST-MODIFIED:20220510T174145Z
UID:5514-1652270400-1652274000@www.protec17.org
SUMMARY:WSDOT Chapter Meeting - Wed.\, May 11th (Online)
DESCRIPTION:Topic: WSDOT Chapter Meeting (Early Afternoon)\nDate:  Wed.\, May 11\, 2022\nTime:  12 Noon – 1:00 p.m. – Pacific Time (US and Canada)\nLocation:  ONLINE ONLY \nDetailed information on how to join this online meeting will be emailed out to members one week prior to the meeting\, on Wed.\, May 4\, followed by a Reminder email the day before the meeting\, on Tues.\, May 10.  Please refer to your home email to get that information\, or ask a co-worker\, steward\, or your union rep if you don’t receive the email.  Hope to see you all there!
URL:https://www.protec17.org/event/wsdot-chapter-meeting-wed-may-11/
LOCATION:ONLINE MEETING VIA ZOOM
ATTACH;FMTTYPE=image/jpeg:https://www.protec17.org/wp-content/uploads/2020/05/state-of-washington-logo.jpg
ORGANIZER;CN="Sarah Lorenzini":MAILTO:sarah@protec17.org
END:VEVENT
BEGIN:VEVENT
DTSTART;TZID=America/Los_Angeles:20220511T173000
DTEND;TZID=America/Los_Angeles:20220511T183000
DTSTAMP:20260425T210338
CREATED:20220125T001458Z
LAST-MODIFIED:20220503T195130Z
UID:5240-1652290200-1652293800@www.protec17.org
SUMMARY:Tacoma Chapter Meeting
DESCRIPTION:Detailed information on how to join the online meeting is sent to members’ home email approximately a week before the meeting. \nPlease check your home email for all the details on the meeting agenda and the online log-in information! \nSee you at the meeting! \n  \n  \n 
URL:https://www.protec17.org/event/tacoma-chapter-meeting-wed-may-11/
LOCATION:ONLINE MEETING VIA ZOOM
ATTACH;FMTTYPE=image/jpeg:https://www.protec17.org/wp-content/uploads/2019/11/TAcoma.jpg
END:VEVENT
BEGIN:VEVENT
DTSTART;TZID=America/Los_Angeles:20220512T103000
DTEND;TZID=America/Los_Angeles:20220512T123000
DTSTAMP:20260425T210338
CREATED:20220510T171103Z
LAST-MODIFIED:20220510T174456Z
UID:5652-1652351400-1652358600@www.protec17.org
SUMMARY:Know Your Rights at Work
DESCRIPTION:This training is hosted by the Washington State Labor Education and Research Center: \nYou are invited to a free\, online\, 2-hour participatory training for workers in Washington State. Learn how to use this website to know your own rights\, and to help your coworkers\, family\, and friends protect their rights at work. Registration is required and space is limited. Interpretation and closed captioning available by preregistration. You will need a computer\, tablet\, or smartphone with internet access to participate. \nTo register\, please complete the form at: https://us02web.zoom.us/meeting/register/tZYsde-qqjspE9fmFJLTLFBalaIxKcz2Pq6N \nQuestions or more information? Email Emilie.Slater@seattlecolleges.edu
URL:https://www.protec17.org/event/know-your-rights-at-work/
LOCATION:ONLINE MEETING VIA ZOOM
ATTACH;FMTTYPE=image/png:https://www.protec17.org/wp-content/uploads/2022/05/Screen-Shot-2022-05-10-at-10.05.32-AM.png
END:VEVENT
BEGIN:VEVENT
DTSTART;TZID=America/Los_Angeles:20220512T120000
DTEND;TZID=America/Los_Angeles:20220512T130000
DTSTAMP:20260425T210338
CREATED:20220305T051202Z
LAST-MODIFIED:20220503T195351Z
UID:5431-1652356800-1652360400@www.protec17.org
SUMMARY:Seattle Chapter Meeting
DESCRIPTION:Detailed information on how to join the online chapter meeting is emailed out to members usually around a week before the meeting\, followed by a reminder email the day before your chapter meeting.  Please refer to your home email to get that information\, or ask a co-worker\, steward\, or your union rep if you don’t receive the email.  Hope to see you all there! \n  \n  \n 
URL:https://www.protec17.org/event/seattle-chapter-meeting-thurs-may-12-online/
LOCATION:ONLINE MEETING VIA ZOOM
ATTACH;FMTTYPE=image/jpeg:https://www.protec17.org/wp-content/uploads/2018/11/DSC_0322-1.jpg
END:VEVENT
BEGIN:VEVENT
DTSTART;TZID=America/Los_Angeles:20220518T170000
DTEND;TZID=America/Los_Angeles:20220518T180000
DTSTAMP:20260425T210338
CREATED:20220312T012935Z
LAST-MODIFIED:20220428T215709Z
UID:5482-1652893200-1652896800@www.protec17.org
SUMMARY:Portland Chapter Meeting
DESCRIPTION:Please see our email (e-newsletter from 4/28 or reminder from 5/9) or login to the members-only web portal to find the Zoom link to the virtual Chapter meeting.
URL:https://www.protec17.org/event/portland-chapter-meeting-online-wed-may-18-early-evening/
LOCATION:ONLINE MEETING VIA ZOOM
ATTACH;FMTTYPE=image/png:https://www.protec17.org/wp-content/uploads/2022/03/Portland-Chapter-Meeting-April-2022.png
ORGANIZER;CN="Rachel Whiteside":MAILTO:rachel@protec17.org
END:VEVENT
BEGIN:VEVENT
DTSTART;TZID=America/Los_Angeles:20220519T174500
DTEND;TZID=America/Los_Angeles:20220519T194500
DTSTAMP:20260425T210338
CREATED:20220427T164416Z
LAST-MODIFIED:20220427T164416Z
UID:5611-1652982300-1652989500@www.protec17.org
SUMMARY:Courageous Conversations on Race and the Labor Movement
DESCRIPTION:This event is sponsored by:  Kitsap Central Labor Council\, Olympic Central Labor Council\, WFSE 1181\, UFCW 3000\, OPEIU 8 and the WA State Labor Council\, AFL-CIO\n\nHow do we talk to members and coworkers who think differently than us (politics\, racial and gender justice\, membership\, etc…)? Would you like to be a better leader in your workplace and a voice for change? These are such big issues – what can we actually do about it? \n\nThis participatory workshop is designed to give you practical tools for building union solidarity within your workplace. This 2 hour session will help you to engage in effective conversations to build unity and solidarity among those you work with. Learn more at wslc.org/race-and-labor.\n\nCourageous Conversations on Race and the Labor Movement will be held Thursday May 19\, 2022 from 5:45pm to 7:45pm\, Interpretation and closed captioning are available upon request.\n\nThis will be a Hybrid Workshop with opportunities to participate in person or virtually. Food will be provided at the in person gatherings in Port Angeles and Silverdale. To participate virtually you will need a computer\, tablet\, or smartphone with internet access. The in-person gatherings may change to virtual if the COVID conditions change. We will make sure everyone is updated if they do.\n\nRegister at: https://act.aflcio.org/events/courageous-conversations-on-race-and-the-labor-movement-kitsap-olympic-labor-councils-hybrid-event/
URL:https://www.protec17.org/event/courageous-conversations-on-race-and-the-labor-movement/
CATEGORIES:racial justice
ATTACH;FMTTYPE=image/png:https://www.protec17.org/wp-content/uploads/2022/04/Screen-Shot-2022-04-27-at-9.43.15-AM.png
END:VEVENT
BEGIN:VEVENT
DTSTART;TZID=America/Los_Angeles:20220520T030000
DTEND;TZID=America/Los_Angeles:20220520T070000
DTSTAMP:20260425T210338
CREATED:20220510T185118Z
LAST-MODIFIED:20220510T185147Z
UID:5666-1653015600-1653030000@www.protec17.org
SUMMARY:Revolutionary Nonviolence
DESCRIPTION:The University of Washington Tacoma’s Labor Solidarity Project will present “Revolutionary Nonviolence: An Online Seminar on Organizing for Freedom” on Friday\, May 20 from 10 a.m. to 2 p.m. The seminar will feature Dr. Kent Wong\, the Director of the UCLA Labor Center\, along with labor and community activists\, and UWT students. Click here to register.
URL:https://www.protec17.org/event/revolutionary-nonviolence/
LOCATION:Online meeting
CATEGORIES:racial justice
ATTACH;FMTTYPE=image/png:https://www.protec17.org/wp-content/uploads/2022/05/Screen-Shot-2022-05-10-at-11.50.36-AM.png
END:VEVENT
BEGIN:VEVENT
DTSTART;TZID=America/Los_Angeles:20220521T020000
DTEND;TZID=America/Los_Angeles:20220521T040000
DTSTAMP:20260425T210338
CREATED:20220510T172553Z
LAST-MODIFIED:20220510T172553Z
UID:5656-1653098400-1653105600@www.protec17.org
SUMMARY:PROTEC17 Chapter Leadership Training
DESCRIPTION:Please join us for an upcoming virtual training and development opportunity specifically for union member leadership – YOU!  \n\nSat.\, May 21 from 9-11 a.m; or\nWed.\, May 25 from 3:30-5:30 p.m\n\nIn these virtual workshops\, we will go over foundational information and explore best practices key to engaging and mobilizing members to build a strong union\, including: \n\nUnderstanding union governance and structure\, including recent improvements to our union’s constitution\nSharing best practices for Chapter meetings\nCreating member engagement opportunities and building solidarity\n\nThe two workshops will go over the same material. If you haven’t already\, choose the day/time that works best for you\, and register for one today! REGISTER for the 5/21 training HERE\, or the 5/25 training HERE.
URL:https://www.protec17.org/event/protec17-chapter-leadership-training/
LOCATION:ONLINE MEETING VIA ZOOM
ATTACH;FMTTYPE=image/jpeg:https://www.protec17.org/wp-content/uploads/2022/05/participate-clipart-2.jpg
END:VEVENT
BEGIN:VEVENT
DTSTART;TZID=America/Los_Angeles:20220525T143000
DTEND;TZID=America/Los_Angeles:20220525T163000
DTSTAMP:20260425T210338
CREATED:20220510T172733Z
LAST-MODIFIED:20220523T154645Z
UID:5659-1653489000-1653496200@www.protec17.org
SUMMARY:PROTEC17 Chapter Leadership Training
DESCRIPTION:Please join us for an upcoming virtual training and development opportunity specifically for union member leadership – YOU!  \n\nSat.\, May 21 from 9-11 a.m; or\nWed.\, May 25 from 3:30-5:30 p.m\n\nIn these virtual workshops\, we will go over foundational information and explore best practices key to engaging and mobilizing members to build a strong union\, including: \n\nUnderstanding union governance and structure\, including recent improvements to our union’s constitution\nSharing best practices for Chapter meetings\nCreating member engagement opportunities and building solidarity\n\nThe two workshops will go over the same material. If you haven’t already\, choose the day/time that works best for you\, and register for one today! REGISTER for the 5/21 training HERE\, or the 5/25 training HERE.
URL:https://www.protec17.org/event/protec17-chapter-leadership-training-2/
LOCATION:ONLINE MEETING VIA ZOOM
ATTACH;FMTTYPE=image/jpeg:https://www.protec17.org/wp-content/uploads/2022/05/participate-clipart-2.jpg
END:VEVENT
BEGIN:VEVENT
DTSTART;TZID=America/Los_Angeles:20220526T083000
DTEND;TZID=America/Los_Angeles:20220526T103000
DTSTAMP:20260425T210338
CREATED:20220503T194836Z
LAST-MODIFIED:20220503T194836Z
UID:5633-1653553800-1653561000@www.protec17.org
SUMMARY:Labor History Webinar
DESCRIPTION:This is a webinar hosted by Labor’s Bookstore. \nWith a resurgence of union organizing\, looking at our history shows how we have adapted to a changing world\, and how we overcame fierce opposition. Both instructive and inspiring\, this course will cover more than 200 years of struggle and will also emphasize our future. \nThe course will include: \n\nHow is our history recorded\nEarly Organizing–Craftsmen and Criminals\nFighting Back Against the Factory system\nSlavery and Resistance to a labor system\nThe Growth of National Unions\nSit-Down Strikes\nThe Post-War Social Compact\nThe Red Scare and the Rise of Anti-Unionism\nTomorrow’s Organizing\n\nBill Barry is a retired organizer and active labor history teacher. \nThe cost is $30. A link will be sent one-week prior to the event. \n  \n 
URL:https://www.protec17.org/event/labor-history-webinar/
LOCATION:ONLINE MEETING VIA ZOOM
ATTACH;FMTTYPE=image/png:https://www.protec17.org/wp-content/uploads/2022/05/Screen-Shot-2022-05-03-at-12.45.38-PM.png
END:VEVENT
END:VCALENDAR